Index of /checkResults/release/bioc-LATEST/R3CPET/raw-results

[ICO]NameLast modifiedSizeDescription

[DIR]Parent Directory  -  
[   ]info.dcf26-Nov-2022 01:09 278  
[DIR]kjohnson/12-Jul-2022 00:06 -  
[DIR]lconway/26-Nov-2022 01:09 -  
[DIR]nebbiolo2/26-Nov-2022 01:06 -  
[DIR]palomino4/26-Nov-2022 01:07 -