Back to Multiple platform build/check report for BioC 3.14
ABCDEFGHIJKLMNOPQ[R]STUVWXYZ

This page was generated on 2021-11-24 15:06:16 -0500 (Wed, 24 Nov 2021).

BUILD BIN results for R3CPET on machv2

To the developers/maintainers of the R3CPET package:
- Please allow up to 24 hours (and sometimes 48 hours) for your latest push to git@git.bioconductor.org:packages/R3CPET.git to
reflect on this report. See How and When does the builder pull? When will my changes propagate? here for more information.
- Make sure to use the following settings in order to reproduce any error or warning you see on this page.

raw results

Package 1515/2083HostnameOS / ArchINSTALLBUILDCHECKBUILD BIN
R3CPET 1.26.0  (landing page)
Mohamed Nadhir Djekidel
Snapshot Date: 2021-11-23 04:15:06 -0500 (Tue, 23 Nov 2021)
git_url: https://git.bioconductor.org/packages/R3CPET
git_branch: RELEASE_3_14
git_last_commit: bbe68cd
git_last_commit_date: 2021-10-26 12:20:21 -0500 (Tue, 26 Oct 2021)
nebbiolo2Linux (Ubuntu 20.04.3 LTS) / x86_64  OK    OK    OK  UNNEEDED, same version is already published
tokay2Windows Server 2012 R2 Standard / x64  OK    OK    OK    OK  UNNEEDED, same version is already published
machv2macOS 10.14.6 Mojave / x86_64  OK    OK    OK    OK  UNNEEDED, same version is already published

Summary

Package: R3CPET
Version: 1.26.0
Command: rm -rf R3CPET.buildbin-libdir && mkdir R3CPET.buildbin-libdir && /Users/biocbuild/BBS/utils/build-universal.sh R3CPET_1.26.0.tar.gz /Library/Frameworks/R.framework/Resources/bin/R R3CPET.buildbin-libdir
StartedAt: 2021-11-24 01:37:53 -0500 (Wed, 24 Nov 2021)
EndedAt: 2021-11-24 01:40:18 -0500 (Wed, 24 Nov 2021)
EllapsedTime: 145.1 seconds
RetCode: 0
Status:   OK  
PackageFile: R3CPET_1.26.0.tgz
PackageFileSize: 5.093 MiB

Command output

##############################################################################
##############################################################################
###
### Running command:
###
###   rm -rf R3CPET.buildbin-libdir && mkdir R3CPET.buildbin-libdir && /Users/biocbuild/BBS/utils/build-universal.sh R3CPET_1.26.0.tar.gz /Library/Frameworks/R.framework/Resources/bin/R R3CPET.buildbin-libdir
###
##############################################################################
##############################################################################


>>>>>>> 
>>>>>>> INSTALLATION WITH 'R CMD INSTALL --preclean --no-multiarch --library=R3CPET.buildbin-libdir R3CPET_1.26.0.tar.gz'
>>>>>>> 

* installing *source* package ‘R3CPET’ ...
** using staged installation
** libs
clang -mmacosx-version-min=10.13 -I"/Library/Frameworks/R.framework/Resources/include" -DNDEBUG  -I'/Library/Frameworks/R.framework/Versions/4.1/Resources/library/Rcpp/include' -I/usr/local/include   -fPIC  -Wall -g -O2  -c R3CPET_init.c -o R3CPET_init.o
clang++ -mmacosx-version-min=10.13 -std=gnu++14 -I"/Library/Frameworks/R.framework/Resources/include" -DNDEBUG  -I'/Library/Frameworks/R.framework/Versions/4.1/Resources/library/Rcpp/include' -I/usr/local/include   -fPIC  -Wall -g -O2  -c RcppExports.cpp -o RcppExports.o
clang++ -mmacosx-version-min=10.13 -std=gnu++14 -I"/Library/Frameworks/R.framework/Resources/include" -DNDEBUG  -I'/Library/Frameworks/R.framework/Versions/4.1/Resources/library/Rcpp/include' -I/usr/local/include   -fPIC  -Wall -g -O2  -c corpus.cpp -o corpus.o
clang++ -mmacosx-version-min=10.13 -std=gnu++14 -I"/Library/Frameworks/R.framework/Resources/include" -DNDEBUG  -I'/Library/Frameworks/R.framework/Versions/4.1/Resources/library/Rcpp/include' -I/usr/local/include   -fPIC  -Wall -g -O2  -c main.cpp -o main.o
clang++ -mmacosx-version-min=10.13 -std=gnu++14 -I"/Library/Frameworks/R.framework/Resources/include" -DNDEBUG  -I'/Library/Frameworks/R.framework/Versions/4.1/Resources/library/Rcpp/include' -I/usr/local/include   -fPIC  -Wall -g -O2  -c state.cpp -o state.o
clang++ -mmacosx-version-min=10.13 -std=gnu++14 -I"/Library/Frameworks/R.framework/Resources/include" -DNDEBUG  -I'/Library/Frameworks/R.framework/Versions/4.1/Resources/library/Rcpp/include' -I/usr/local/include   -fPIC  -Wall -g -O2  -c stirln.cpp -o stirln.o
clang++ -mmacosx-version-min=10.13 -std=gnu++14 -I"/Library/Frameworks/R.framework/Resources/include" -DNDEBUG  -I'/Library/Frameworks/R.framework/Versions/4.1/Resources/library/Rcpp/include' -I/usr/local/include   -fPIC  -Wall -g -O2  -c utils.cpp -o utils.o
utils.cpp:5:14: warning: unused variable 'half_ln_2pi' [-Wunused-const-variable]
const double half_ln_2pi = 0.91893853320467267;
             ^
1 warning generated.
clang++ -mmacosx-version-min=10.13 -std=gnu++14 -dynamiclib -Wl,-headerpad_max_install_names -undefined dynamic_lookup -single_module -multiply_defined suppress -L/Library/Frameworks/R.framework/Resources/lib -L/usr/local/lib -o R3CPET.so R3CPET_init.o RcppExports.o corpus.o main.o state.o stirln.o utils.o -F/Library/Frameworks/R.framework/.. -framework R -Wl,-framework -Wl,CoreFoundation
installing to /Users/biocbuild/bbs-3.14-bioc/meat/R3CPET.buildbin-libdir/00LOCK-R3CPET/00new/R3CPET/libs
** R
** data
** inst
** byte-compile and prepare package for lazy loading
NOTE: arguments in definition for validity method for class 'ChromMaintainers' changed from (x) to (object)
NOTE: arguments in definition for validity method for class 'HLDAResult' changed from (x) to (object)
NOTE: arguments in definition for validity method for class 'NetworkCollection' changed from (x) to (object)
** help
*** installing help indices
** building package indices
** installing vignettes
** testing if installed package can be loaded from temporary location
** checking absolute paths in shared objects and dynamic libraries
** testing if installed package can be loaded from final location
** testing if installed package keeps a record of temporary installation path
* DONE (R3CPET)


>>>>>>> 
>>>>>>> FIXING LINKS FOR R3CPET.buildbin-libdir/R3CPET/libs/R3CPET.so
>>>>>>> 

install_name_tool -change "/usr/local/lib/libgcc_s.1.dylib" "/Library/Frameworks/R.framework/Versions/4.1/Resources/lib/libgcc_s.1.dylib" "R3CPET.buildbin-libdir/R3CPET/libs/R3CPET.so"
install_name_tool -change "/usr/local/lib/libgfortran.5.dylib" "/Library/Frameworks/R.framework/Versions/4.1/Resources/lib/libgfortran.5.dylib" "R3CPET.buildbin-libdir/R3CPET/libs/R3CPET.so"
install_name_tool -change "/usr/local/lib/libquadmath.0.dylib" "/Library/Frameworks/R.framework/Versions/4.1/Resources/lib/libquadmath.0.dylib" "R3CPET.buildbin-libdir/R3CPET/libs/R3CPET.so"