Index of /checkResults/release/bioc-LATEST/PoTRA/raw-results/tokay2

[ICO]NameLast modifiedSizeDescription

[DIR]Parent Directory  -  
[TXT]buildbin-out.txt16-Oct-2021 04:06 1.3K 
[   ]buildbin-summary.dcf16-Oct-2021 04:06 524  
[TXT]buildsrc-out.txt16-Oct-2021 04:06 871  
[   ]buildsrc-summary.dcf16-Oct-2021 04:06 449  
[TXT]checksrc-out.txt16-Oct-2021 04:06 3.6K 
[   ]checksrc-summary.dcf16-Oct-2021 04:06 452  
[TXT]install-out.txt16-Oct-2021 04:06 2.0K 
[   ]install-summary.dcf16-Oct-2021 04:06 616