Index of /checkResults/release/bioc-LATEST/PoTRA/raw-results/machv2

[ICO]NameLast modifiedSizeDescription

[DIR]Parent Directory  -  
[TXT]buildbin-out.txt16-Oct-2021 04:06 1.1K 
[   ]buildbin-summary.dcf16-Oct-2021 04:06 532  
[TXT]buildsrc-out.txt16-Oct-2021 04:06 864  
[   ]buildsrc-summary.dcf16-Oct-2021 04:06 437  
[TXT]checksrc-out.txt16-Oct-2021 04:06 3.5K 
[   ]checksrc-summary.dcf16-Oct-2021 04:06 468  
[TXT]install-out.txt16-Oct-2021 04:06 1.0K 
[   ]install-summary.dcf16-Oct-2021 04:06 281