Back to Multiple platform build/check report for BioC 3.13
ABCDEFGHIJKLMNO[P]QRSTUVWXYZ

This page was generated on 2021-07-21 15:06:00 -0400 (Wed, 21 Jul 2021).

INSTALL results for PoTRA on machv2

To the developers/maintainers of the PoTRA package:
- Please allow up to 24 hours (and sometimes 48 hours) for your latest push to git@git.bioconductor.org:packages/PoTRA.git to
reflect on this report. See How and When does the builder pull? When will my changes propagate? here for more information.
- Make sure to use the following settings in order to reproduce any error or warning you see on this page.

raw results

Package 1416/2041HostnameOS / ArchINSTALLBUILDCHECKBUILD BIN
PoTRA 1.8.2  (landing page)
Margaret Linan
Snapshot Date: 2021-07-20 04:50:13 -0400 (Tue, 20 Jul 2021)
URL: https://git.bioconductor.org/packages/PoTRA
Branch: RELEASE_3_13
Last Commit: cf90958
Last Changed Date: 2021-07-19 16:59:29 -0400 (Mon, 19 Jul 2021)
nebbiolo1Linux (Ubuntu 20.04.2 LTS) / x86_64  OK    OK    OK  YES
tokay2Windows Server 2012 R2 Standard / x64  OK    ERROR  skippedskipped
machv2macOS 10.14.6 Mojave / x86_64  OK    OK    OK    OK  YES

Summary

Package: PoTRA
Version: 1.8.2
Command: /Library/Frameworks/R.framework/Versions/Current/Resources/bin/R CMD INSTALL PoTRA
StartedAt: 2021-07-20 08:38:22 -0400 (Tue, 20 Jul 2021)
EndedAt: 2021-07-20 08:39:13 -0400 (Tue, 20 Jul 2021)
EllapsedTime: 51.1 seconds
RetCode: 0
Status:   OK  

Command output

##############################################################################
##############################################################################
###
### Running command:
###
###   /Library/Frameworks/R.framework/Versions/Current/Resources/bin/R CMD INSTALL PoTRA
###
##############################################################################
##############################################################################


* installing to library ‘/Library/Frameworks/R.framework/Versions/4.1/Resources/library’
* installing *source* package ‘PoTRA’ ...
** using staged installation
** R
** inst
** byte-compile and prepare package for lazy loading
** help
*** installing help indices
** building package indices
** installing vignettes
** testing if installed package can be loaded from temporary location
** testing if installed package can be loaded from final location
** testing if installed package keeps a record of temporary installation path
* DONE (PoTRA)