Back to Multiple platform build/check report for BioC 3.13
ABCDEFGHIJKLMNO[P]QRSTUVWXYZ

This page was generated on 2021-08-02 15:05:53 -0400 (Mon, 02 Aug 2021).

BUILD results for PoTRA on machv2

To the developers/maintainers of the PoTRA package:
- Please allow up to 24 hours (and sometimes 48 hours) for your latest push to git@git.bioconductor.org:packages/PoTRA.git to
reflect on this report. See How and When does the builder pull? When will my changes propagate? here for more information.
- Make sure to use the following settings in order to reproduce any error or warning you see on this page.

raw results

Package 1416/2041HostnameOS / ArchINSTALLBUILDCHECKBUILD BIN
PoTRA 1.8.2  (landing page)
Margaret Linan
Snapshot Date: 2021-08-01 04:50:10 -0400 (Sun, 01 Aug 2021)
URL: https://git.bioconductor.org/packages/PoTRA
Branch: RELEASE_3_13
Last Commit: cf90958
Last Changed Date: 2021-07-19 16:59:29 -0400 (Mon, 19 Jul 2021)
nebbiolo1Linux (Ubuntu 20.04.2 LTS) / x86_64  OK    OK    OK  UNNEEDED, same version is already published
tokay2Windows Server 2012 R2 Standard / x64  OK    ERROR  skippedskipped
machv2macOS 10.14.6 Mojave / x86_64  OK    OK    OK    OK  UNNEEDED, same version is already published

Summary

Package: PoTRA
Version: 1.8.2
Command: /Library/Frameworks/R.framework/Versions/Current/Resources/bin/R CMD build --keep-empty-dirs --no-resave-data PoTRA
StartedAt: 2021-08-01 13:32:48 -0400 (Sun, 01 Aug 2021)
EndedAt: 2021-08-01 13:36:26 -0400 (Sun, 01 Aug 2021)
EllapsedTime: 218.0 seconds
RetCode: 0
Status:   OK  
PackageFile: PoTRA_1.8.2.tar.gz
PackageFileSize: 237 KiB

Command output

##############################################################################
##############################################################################
###
### Running command:
###
###   /Library/Frameworks/R.framework/Versions/Current/Resources/bin/R CMD build --keep-empty-dirs --no-resave-data PoTRA
###
##############################################################################
##############################################################################


* checking for file ‘PoTRA/DESCRIPTION’ ... OK
* preparing ‘PoTRA’:
* checking DESCRIPTION meta-information ... OK
* installing the package to build vignettes
* creating vignettes ... OK
* checking for LF line-endings in source and make files and shell scripts
* checking for empty or unneeded directories
Omitted ‘LazyData’ from DESCRIPTION
* building ‘PoTRA_1.8.2.tar.gz’