Back to Multiple platform build/check report for BioC 3.13
ABCDEFGHIJKLMNO[P]QRSTUVWXYZ

This page was generated on 2021-07-23 15:06:14 -0400 (Fri, 23 Jul 2021).

CHECK results for PhenStat on tokay2

To the developers/maintainers of the PhenStat package:
- Please allow up to 24 hours (and sometimes 48 hours) for your latest push to git@git.bioconductor.org:packages/PhenStat.git to
reflect on this report. See How and When does the builder pull? When will my changes propagate? here for more information.
- Make sure to use the following settings in order to reproduce any error or warning you see on this page.

raw results

Package 1383/2041HostnameOS / ArchINSTALLBUILDCHECKBUILD BIN
PhenStat 2.28.0  (landing page)
Hamed Haselimashhadi
Snapshot Date: 2021-07-22 04:50:13 -0400 (Thu, 22 Jul 2021)
URL: https://git.bioconductor.org/packages/PhenStat
Branch: RELEASE_3_13
Last Commit: d1496a6
Last Changed Date: 2021-05-19 12:02:09 -0400 (Wed, 19 May 2021)
nebbiolo1Linux (Ubuntu 20.04.2 LTS) / x86_64  OK    OK    OK  UNNEEDED, same version is already published
tokay2Windows Server 2012 R2 Standard / x64  OK    OK    OK    OK  UNNEEDED, same version is already published
machv2macOS 10.14.6 Mojave / x86_64  OK    OK    OK    OK  UNNEEDED, same version is already published

Summary

Package: PhenStat
Version: 2.28.0
Command: C:\Users\biocbuild\bbs-3.13-bioc\R\bin\R.exe CMD check --force-multiarch --install=check:PhenStat.install-out.txt --library=C:\Users\biocbuild\bbs-3.13-bioc\R\library --no-vignettes --timings PhenStat_2.28.0.tar.gz
StartedAt: 2021-07-23 03:42:54 -0400 (Fri, 23 Jul 2021)
EndedAt: 2021-07-23 03:46:24 -0400 (Fri, 23 Jul 2021)
EllapsedTime: 209.7 seconds
RetCode: 0
Status:   OK  
CheckDir: PhenStat.Rcheck
Warnings: 0

Command output

##############################################################################
##############################################################################
###
### Running command:
###
###   C:\Users\biocbuild\bbs-3.13-bioc\R\bin\R.exe CMD check --force-multiarch --install=check:PhenStat.install-out.txt --library=C:\Users\biocbuild\bbs-3.13-bioc\R\library --no-vignettes --timings PhenStat_2.28.0.tar.gz
###
##############################################################################
##############################################################################


* using log directory 'C:/Users/biocbuild/bbs-3.13-bioc/meat/PhenStat.Rcheck'
* using R version 4.1.0 (2021-05-18)
* using platform: x86_64-w64-mingw32 (64-bit)
* using session charset: ISO8859-1
* using option '--no-vignettes'
* checking for file 'PhenStat/DESCRIPTION' ... OK
* checking extension type ... Package
* this is package 'PhenStat' version '2.28.0'
* checking package namespace information ... OK
* checking package dependencies ... OK
* checking if this is a source package ... OK
* checking if there is a namespace ... OK
* checking for hidden files and directories ... OK
* checking for portable file names ... OK
* checking whether package 'PhenStat' can be installed ... OK
* checking installed package size ... OK
* checking package directory ... OK
* checking 'build' directory ... OK
* checking DESCRIPTION meta-information ... OK
* checking top-level files ... OK
* checking for left-over files ... OK
* checking index information ... OK
* checking package subdirectories ... OK
* checking R files for non-ASCII characters ... OK
* checking R files for syntax errors ... OK
* loading checks for arch 'i386'
** checking whether the package can be loaded ... OK
** checking whether the package can be loaded with stated dependencies ... OK
** checking whether the package can be unloaded cleanly ... OK
** checking whether the namespace can be loaded with stated dependencies ... OK
** checking whether the namespace can be unloaded cleanly ... OK
* loading checks for arch 'x64'
** checking whether the package can be loaded ... OK
** checking whether the package can be loaded with stated dependencies ... OK
** checking whether the package can be unloaded cleanly ... OK
** checking whether the namespace can be loaded with stated dependencies ... OK
** checking whether the namespace can be unloaded cleanly ... OK
* checking dependencies in R code ... NOTE
Namespace in Imports field not imported from: 'SmoothWin'
  All declared Imports should be used.
* checking S3 generic/method consistency ... OK
* checking replacement functions ... OK
* checking foreign function calls ... OK
* checking R code for possible problems ... OK
* checking Rd files ... OK
* checking Rd metadata ... OK
* checking Rd cross-references ... OK
* checking for missing documentation entries ... OK
* checking for code/documentation mismatches ... OK
* checking Rd \usage sections ... OK
* checking Rd contents ... OK
* checking for unstated dependencies in examples ... OK
* checking installed files from 'inst/doc' ... OK
* checking files in 'vignettes' ... OK
* checking examples ...
** running examples for arch 'i386' ... OK
** running examples for arch 'x64' ... OK
* checking for unstated dependencies in 'tests' ... OK
* checking tests ...
** running tests for arch 'i386' ...
  Running 'runTests.R'
 OK
** running tests for arch 'x64' ...
  Running 'runTests.R'
 OK
* checking for unstated dependencies in vignettes ... OK
* checking package vignettes in 'inst/doc' ... OK
* checking running R code from vignettes ... SKIPPED
* checking re-building of vignette outputs ... SKIPPED
* checking PDF version of manual ... OK
* DONE

Status: 1 NOTE
See
  'C:/Users/biocbuild/bbs-3.13-bioc/meat/PhenStat.Rcheck/00check.log'
for details.



Installation output

PhenStat.Rcheck/00install.out

##############################################################################
##############################################################################
###
### Running command:
###
###   C:\cygwin\bin\curl.exe -O http://155.52.207.165/BBS/3.13/bioc/src/contrib/PhenStat_2.28.0.tar.gz && rm -rf PhenStat.buildbin-libdir && mkdir PhenStat.buildbin-libdir && C:\Users\biocbuild\bbs-3.13-bioc\R\bin\R.exe CMD INSTALL --merge-multiarch --build --library=PhenStat.buildbin-libdir PhenStat_2.28.0.tar.gz && C:\Users\biocbuild\bbs-3.13-bioc\R\bin\R.exe CMD INSTALL PhenStat_2.28.0.zip && rm PhenStat_2.28.0.tar.gz PhenStat_2.28.0.zip
###
##############################################################################
##############################################################################


  % Total    % Received % Xferd  Average Speed   Time    Time     Time  Current
                                 Dload  Upload   Total   Spent    Left  Speed

  0     0    0     0    0     0      0      0 --:--:-- --:--:-- --:--:--     0
 43  733k   43  320k    0     0   600k      0  0:00:01 --:--:--  0:00:01  599k
100  733k  100  733k    0     0   890k      0 --:--:-- --:--:-- --:--:--  890k

install for i386

* installing *source* package 'PhenStat' ...
** using staged installation
** R
** inst
** byte-compile and prepare package for lazy loading
** help
*** installing help indices
  converting help for package 'PhenStat'
    finding HTML links ... done
    FisherExactTest                         html  
    JSONOutput                              html  
    LRDataset                               html  
    LargeDataObject-class                   html  
    PhenList-class                          html  
    PhenList                                html  
    PhenStatReport                          html  
    PhenTestResult-class                    html  
    PhenTestResult                          html  
    RRTest                                  html  
    TFDataset                               html  
    analysedDataset                         html  
    analysedDatasetPhenList                 html  
    analysedSubset                          html  
    analysisResults                         html  
    batchIn                                 html  
    boxplotResidualBatch                    html  
    boxplotSexGenotype                      html  
    boxplotSexGenotypeBatch                 html  
    boxplotSexGenotypeBatchAdjusted         html  
    boxplotSexGenotypeResult                html  
    boxplotSexGenotypeWeightBatchAdjusted   html  
    categoricalBarplot                      html  
    checkDataset                            html  
    classificationTag                       html  
    columnChecks                            html  
    columnLevels                            html  
    comparison                              html  
    dataset                                 html  
    determiningLambda                       html  
    dim                                     html  
    finalLRModel                            html  
    finalModel                              html  
    finalTFModel                            html  
    formulaDeterminingLambda                html  
    generateGraphs                          html  
    getColumn                               html  
    getColumnBatchAdjusted                  html  
    getColumnView                           html  
    getColumnWeightBatchAdjusted            html  
    getCountMatrices                        html  
    getDataset                              html  
    getGenotypeEffect                       html  
    getMatrix                               html  
    getPercentageMatrix                     html  
    getStat                                 html  
    getVariable                             html  
    getVariables                            html  
    hemiGenotype                            html  
    htest-class                             html  
    htestPhenStat-class                     html  
    matrixCount                             html  
    method                                  html  
    methodText                              html  
    modelFormula                            html  
    modelFormulaLR                          html  
    multipleBatches                         html  
    noSexes                                 html  
    parameters                              html  
    parserOutputSummary                     html  
    parserOutputSummaryLR                   html  
    parserOutputTFSummary                   html  
    performReverseTransformation            html  
    performTransformation                   html  
    plot.PhenList                           html  
    plot.PhenTestResult                     html  
    plotResidualPredicted                   html  
    printLROutput                           html  
    printTabStyle                           html  
    pvalue                                  html  
    qqplotGenotype                          html  
    qqplotRandomEffects                     html  
    qqplotRotatedResiduals                  html  
    recommendMethod                         html  
    refGenotype                             html  
    scatterplotGenotypeWeight               html  
    scatterplotGenotypeWeightResult         html  
    scatterplotSexGenotypeBatch             html  
    scatterplotSexGenotypeBatchResult       html  
    setBatch                                html  
    setGenotype                             html  
    setMissingValue                         html  
    setSex                                  html  
    setWeight                               html  
    startLRModel                            html  
    startModel                              html  
    startTFModel                            html  
    subsetText                              html  
    summaryOutput                           html  
    summaryPhenListResult                   html  
    testDataset                             html  
    testFinalLRModel                        html  
    testFinalModel                          html  
    testGenotype                            html  
    transformation                          html  
    transformationJSON                      html  
    transformationText                      html  
    vectorOutput                            html  
    vectorOutputMatrices                    html  
    weightIn                                html  
** building package indices
** installing vignettes
** testing if installed package can be loaded from temporary location
** testing if installed package can be loaded from final location
** testing if installed package keeps a record of temporary installation path

install for x64

* installing *source* package 'PhenStat' ...
** testing if installed package can be loaded
* MD5 sums
packaged installation of 'PhenStat' as PhenStat_2.28.0.zip
* DONE (PhenStat)
* installing to library 'C:/Users/biocbuild/bbs-3.13-bioc/R/library'
package 'PhenStat' successfully unpacked and MD5 sums checked

Tests output

PhenStat.Rcheck/tests_i386/runTests.Rout


R version 4.1.0 (2021-05-18) -- "Camp Pontanezen"
Copyright (C) 2021 The R Foundation for Statistical Computing
Platform: i386-w64-mingw32/i386 (32-bit)

R is free software and comes with ABSOLUTELY NO WARRANTY.
You are welcome to redistribute it under certain conditions.
Type 'license()' or 'licence()' for distribution details.

R is a collaborative project with many contributors.
Type 'contributors()' for more information and
'citation()' on how to cite R or R packages in publications.

Type 'demo()' for some demos, 'help()' for on-line help, or
'help.start()' for an HTML browser interface to help.
Type 'q()' to quit R.

> BiocGenerics:::testPackage("PhenStat")

 >=========================================================================<
 This version of PhenStat includes *FEWER* functions than the previous ones 
 You *still* can use the previous functions by using `:::`. For example :   
 PhenStat:::boxplotSexGenotype   or   PhenStat:::FisherExactTest            
 *** Want to know what is new in this version? run PhenStat:::WhatIsNew()   
 >=========================================================================<


RUNIT TEST PROTOCOL -- Fri Jul 23 03:46:10 2021 
*********************************************** 
Number of test functions: 0 
Number of errors: 0 
Number of failures: 0 

 
1 Test Suite : 
PhenStat RUnit Tests - 0 test functions, 0 errors, 0 failures
Number of test functions: 0 
Number of errors: 0 
Number of failures: 0 
> 
> proc.time()
   user  system elapsed 
   3.93    0.31    4.23 

PhenStat.Rcheck/tests_x64/runTests.Rout


R version 4.1.0 (2021-05-18) -- "Camp Pontanezen"
Copyright (C) 2021 The R Foundation for Statistical Computing
Platform: x86_64-w64-mingw32/x64 (64-bit)

R is free software and comes with ABSOLUTELY NO WARRANTY.
You are welcome to redistribute it under certain conditions.
Type 'license()' or 'licence()' for distribution details.

R is a collaborative project with many contributors.
Type 'contributors()' for more information and
'citation()' on how to cite R or R packages in publications.

Type 'demo()' for some demos, 'help()' for on-line help, or
'help.start()' for an HTML browser interface to help.
Type 'q()' to quit R.

> BiocGenerics:::testPackage("PhenStat")

 >=========================================================================<
 This version of PhenStat includes *FEWER* functions than the previous ones 
 You *still* can use the previous functions by using `:::`. For example :   
 PhenStat:::boxplotSexGenotype   or   PhenStat:::FisherExactTest            
 *** Want to know what is new in this version? run PhenStat:::WhatIsNew()   
 >=========================================================================<


RUNIT TEST PROTOCOL -- Fri Jul 23 03:46:14 2021 
*********************************************** 
Number of test functions: 0 
Number of errors: 0 
Number of failures: 0 

 
1 Test Suite : 
PhenStat RUnit Tests - 0 test functions, 0 errors, 0 failures
Number of test functions: 0 
Number of errors: 0 
Number of failures: 0 
> 
> proc.time()
   user  system elapsed 
   3.93    0.15    4.07 

Example timings

PhenStat.Rcheck/examples_i386/PhenStat-Ex.timings

nameusersystemelapsed
FisherExactTest0.180.100.40
JSONOutput1.140.021.20
LRDataset0.100.000.24
PhenList-class0.380.020.43
PhenList0.280.030.40
PhenStatReport0.080.000.08
PhenTestResult-class0.890.000.91
PhenTestResult0.560.000.56
RRTest0.100.010.11
TFDataset0.250.000.25
analysedDataset0.570.030.61
analysisResults0.880.000.87
boxplotResidualBatch0.640.000.64
boxplotSexGenotype0.090.000.14
boxplotSexGenotypeBatch0.220.020.24
boxplotSexGenotypeBatchAdjusted0.110.000.11
boxplotSexGenotypeResult0.940.000.94
boxplotSexGenotypeWeightBatchAdjusted0.080.000.07
categoricalBarplot0.120.000.13
checkDataset0.050.000.05
classificationTag0.640.000.64
determiningLambda0.760.110.87
dim0.050.000.05
finalLRModel0.660.000.65
finalModel0.450.000.46
finalTFModel0.420.000.45
htestPhenStat-class0.110.000.11
modelFormula000
modelFormulaLR000
parserOutputSummary0.560.000.56
parserOutputSummaryLR0.660.000.66
parserOutputTFSummary0.190.000.19
performReverseTransformation000
performTransformation000
plot.PhenList2.330.032.36
plot.PhenTestResult2.170.022.19
plotResidualPredicted0.570.000.56
printLROutput0.610.000.61
printTabStyle000
qqplotGenotype0.590.000.59
qqplotRandomEffects0.610.000.61
qqplotRotatedResiduals3.260.033.30
recommendMethod0.210.000.20
scatterplotGenotypeWeight0.150.000.16
scatterplotGenotypeWeightResult0.850.000.84
scatterplotSexGenotypeBatch0.080.010.10
scatterplotSexGenotypeBatchResult0.810.000.81
startLRModel0.610.000.61
startModel0.440.000.44
startTFModel0.340.000.34
summaryOutput0.690.000.69
summaryPhenListResult0.920.000.92
testDataset1.910.021.92
testFinalLRModel0.590.000.59
testFinalModel0.680.000.67
vectorOutput0.680.000.69
vectorOutputMatrices0.110.000.11

PhenStat.Rcheck/examples_x64/PhenStat-Ex.timings

nameusersystemelapsed
FisherExactTest0.160.050.21
JSONOutput0.840.000.84
LRDataset0.040.000.04
PhenList-class0.210.000.21
PhenList0.230.000.23
PhenStatReport0.030.000.03
PhenTestResult-class0.550.010.56
PhenTestResult0.450.000.46
RRTest0.080.000.07
TFDataset0.220.000.22
analysedDataset0.570.000.56
analysisResults0.560.000.56
boxplotResidualBatch0.620.000.63
boxplotSexGenotype0.070.000.06
boxplotSexGenotypeBatch0.120.020.14
boxplotSexGenotypeBatchAdjusted0.050.000.05
boxplotSexGenotypeResult0.780.010.80
boxplotSexGenotypeWeightBatchAdjusted0.310.000.31
categoricalBarplot0.130.000.12
checkDataset0.030.000.03
classificationTag0.590.020.63
determiningLambda1.000.031.03
dim0.050.000.05
finalLRModel1.080.001.12
finalModel0.560.000.57
finalTFModel0.50.00.5
htestPhenStat-class0.120.000.12
modelFormula000
modelFormulaLR000
parserOutputSummary0.610.000.61
parserOutputSummaryLR0.570.000.56
parserOutputTFSummary0.090.000.10
performReverseTransformation000
performTransformation000
plot.PhenList2.000.032.03
plot.PhenTestResult1.920.031.95
plotResidualPredicted0.600.000.59
printLROutput0.540.000.55
printTabStyle000
qqplotGenotype0.670.000.67
qqplotRandomEffects0.630.000.63
qqplotRotatedResiduals3.060.033.09
recommendMethod0.420.000.42
scatterplotGenotypeWeight0.160.000.16
scatterplotGenotypeWeightResult0.750.020.77
scatterplotSexGenotypeBatch0.090.000.09
scatterplotSexGenotypeBatchResult0.780.000.78
startLRModel0.490.000.48
startModel0.410.000.41
startTFModel0.350.010.38
summaryOutput0.680.040.70
summaryPhenListResult0.670.000.67
testDataset1.860.091.95
testFinalLRModel0.50.00.5
testFinalModel0.700.000.71
vectorOutput0.700.030.73
vectorOutputMatrices0.110.000.11