Back to Multiple platform build/check report for BioC 3.19:   simplified   long
ABCDEFGHIJKLMNO[P]QRSTUVWXYZ

This page was generated on 2024-07-12 17:42 -0400 (Fri, 12 Jul 2024).

HostnameOSArch (*)R versionInstalled pkgs
nebbiolo1Linux (Ubuntu 22.04.3 LTS)x86_644.4.1 (2024-06-14) -- "Race for Your Life" 4741
palomino7Windows Server 2022 Datacenterx644.4.1 (2024-06-14 ucrt) -- "Race for Your Life" 4483
merida1macOS 12.7.4 Montereyx86_644.4.1 (2024-06-14) -- "Race for Your Life" 4512
kjohnson1macOS 13.6.6 Venturaarm644.4.1 (2024-06-14) -- "Race for Your Life" 4461
Click on any hostname to see more info about the system (e.g. compilers)      (*) as reported by 'uname -p', except on Windows and Mac OS X

Package 1594/2300HostnameOS / ArchINSTALLBUILDCHECKBUILD BIN
POWSC 1.12.0  (landing page)
Kenong Su
Snapshot Date: 2024-07-10 14:00 -0400 (Wed, 10 Jul 2024)
git_url: https://git.bioconductor.org/packages/POWSC
git_branch: RELEASE_3_19
git_last_commit: de45515
git_last_commit_date: 2024-04-30 11:34:18 -0400 (Tue, 30 Apr 2024)
nebbiolo1Linux (Ubuntu 22.04.3 LTS) / x86_64  OK    OK    OK  UNNEEDED, same version is already published
palomino7Windows Server 2022 Datacenter / x64  OK    OK    OK    OK  
merida1macOS 12.7.4 Monterey / x86_64  OK    OK    OK    OK  UNNEEDED, same version is already published
kjohnson1macOS 13.6.6 Ventura / arm64  OK    OK    OK    OK  UNNEEDED, same version is already published


CHECK results for POWSC on kjohnson1

To the developers/maintainers of the POWSC package:
- Allow up to 24 hours (and sometimes 48 hours) for your latest push to git@git.bioconductor.org:packages/POWSC.git to reflect on this report. See Troubleshooting Build Report for more information.
- Use the following Renviron settings to reproduce errors and warnings.
- If 'R CMD check' started to fail recently on the Linux builder(s) over a missing dependency, add the missing dependency to 'Suggests:' in your DESCRIPTION file. See Renviron.bioc for more information.

raw results


Summary

Package: POWSC
Version: 1.12.0
Command: /Library/Frameworks/R.framework/Resources/bin/R CMD check --install=check:POWSC.install-out.txt --library=/Library/Frameworks/R.framework/Resources/library --no-vignettes --timings POWSC_1.12.0.tar.gz
StartedAt: 2024-07-12 05:01:39 -0400 (Fri, 12 Jul 2024)
EndedAt: 2024-07-12 05:06:24 -0400 (Fri, 12 Jul 2024)
EllapsedTime: 285.2 seconds
RetCode: 0
Status:   OK  
CheckDir: POWSC.Rcheck
Warnings: 0

Command output

##############################################################################
##############################################################################
###
### Running command:
###
###   /Library/Frameworks/R.framework/Resources/bin/R CMD check --install=check:POWSC.install-out.txt --library=/Library/Frameworks/R.framework/Resources/library --no-vignettes --timings POWSC_1.12.0.tar.gz
###
##############################################################################
##############################################################################


* using log directory ‘/Users/biocbuild/bbs-3.19-bioc/meat/POWSC.Rcheck’
* using R version 4.4.1 (2024-06-14)
* using platform: aarch64-apple-darwin20
* R was compiled by
    Apple clang version 14.0.0 (clang-1400.0.29.202)
    GNU Fortran (GCC) 12.2.0
* running under: macOS Ventura 13.6.6
* using session charset: UTF-8
* using option ‘--no-vignettes’
* checking for file ‘POWSC/DESCRIPTION’ ... OK
* checking extension type ... Package
* this is package ‘POWSC’ version ‘1.12.0’
* package encoding: UTF-8
* checking package namespace information ... OK
* checking package dependencies ... OK
* checking if this is a source package ... OK
* checking if there is a namespace ... OK
* checking for hidden files and directories ... OK
* checking for portable file names ... OK
* checking for sufficient/correct file permissions ... OK
* checking whether package ‘POWSC’ can be installed ... OK
* checking installed package size ... OK
* checking package directory ... OK
* checking ‘build’ directory ... OK
* checking DESCRIPTION meta-information ... OK
* checking top-level files ... OK
* checking for left-over files ... OK
* checking index information ... OK
* checking package subdirectories ... OK
* checking code files for non-ASCII characters ... OK
* checking R files for syntax errors ... OK
* checking whether the package can be loaded ... OK
* checking whether the package can be loaded with stated dependencies ... OK
* checking whether the package can be unloaded cleanly ... OK
* checking whether the namespace can be loaded with stated dependencies ... OK
* checking whether the namespace can be unloaded cleanly ... OK
* checking dependencies in R code ... OK
* checking S3 generic/method consistency ... OK
* checking replacement functions ... OK
* checking foreign function calls ... OK
* checking R code for possible problems ... NOTE
Est2Phase: no visible global function definition for ‘is’
Est2Phase: no visible global function definition for ‘dpois’
Est2Phase: no visible global function definition for ‘qpois’
GenerateCountMatrix: no visible global function definition for ‘rbinom’
RobustPoi0: no visible global function definition for ‘lm’
Simulate2SCE: no visible global function definition for ‘runif’
Simulate2SCE: no visible global function definition for ‘rnorm’
SimulateMultiSCEs: no visible global function definition for
  ‘rmultinom’
dLNP2: no visible global function definition for ‘pnorm’
dZinf.pois: no visible global function definition for ‘dpois’
eset2Phase: no visible global function definition for ‘dpois’
eset2Phase: no visible global function definition for ‘qpois’
eset2Phase: no visible global function definition for ‘loess’
eset2Phase: no visible binding for global variable ‘span’
eset2Phase : <anonymous>: no visible global function definition for
  ‘loess’
eset2Phase: no visible global function definition for ‘new’
my.mad: no visible global function definition for ‘median’
plot_POWSC: no visible binding for global variable ‘Strata’
plot_POWSC: no visible binding for global variable ‘Power’
plot_POWSC: no visible binding for global variable ‘Reps’
rLNP: no visible global function definition for ‘rnorm’
rLNP: no visible global function definition for ‘rpois’
runMAST: no visible global function definition for ‘p.adjust’
runMAST: no visible global function definition for ‘complete.cases’
runSC2P: no visible global function definition for ‘p.adjust’
runSC2P: no visible global function definition for ‘<-<-’
rzip: no visible global function definition for ‘rbinom’
rzip: no visible global function definition for ‘rpois’
shrink.mu: no visible global function definition for ‘weighted.mean’
toEset: no visible global function definition for ‘new’
twoPhaseDE: no visible global function definition for ‘median’
twoPhaseDE0 : <anonymous>: no visible global function definition for
  ‘pchisq’
twoPhaseDE0: no visible global function definition for ‘qt’
Undefined global functions or variables:
  <-<- Power Reps Strata complete.cases dpois is lm loess median new
  p.adjust pchisq pnorm qpois qt rbinom rmultinom rnorm rpois runif
  span weighted.mean
Consider adding
  importFrom("methods", "is", "new")
  importFrom("stats", "complete.cases", "dpois", "lm", "loess", "median",
             "p.adjust", "pchisq", "pnorm", "qpois", "qt", "rbinom",
             "rmultinom", "rnorm", "rpois", "runif", "weighted.mean")
to your NAMESPACE file (and ensure that your DESCRIPTION Imports field
contains 'methods').
* checking Rd files ... OK
* checking Rd metadata ... OK
* checking Rd cross-references ... OK
* checking for missing documentation entries ... OK
* checking for code/documentation mismatches ... OK
* checking Rd \usage sections ... OK
* checking Rd contents ... OK
* checking for unstated dependencies in examples ... OK
* checking contents of ‘data’ directory ... OK
* checking data for non-ASCII characters ... OK
* checking LazyData ... OK
* checking data for ASCII and uncompressed saves ... OK
* checking files in ‘vignettes’ ... OK
* checking examples ... OK
Examples with CPU (user + system) or elapsed time > 5s
                user system elapsed
Power_Disc    12.278  0.761  13.041
runPOWSC      10.296  0.396  10.695
plot_POWSC     9.536  0.467  10.008
summary_POWSC  8.505  0.407   8.912
Power_Cont     7.533  0.294   7.826
* checking for unstated dependencies in ‘tests’ ... OK
* checking tests ...
  Running ‘testthat.R’
 OK
* checking for unstated dependencies in vignettes ... OK
* checking package vignettes ... OK
* checking running R code from vignettes ... SKIPPED
* checking re-building of vignette outputs ... SKIPPED
* checking PDF version of manual ... OK
* DONE

Status: 1 NOTE
See
  ‘/Users/biocbuild/bbs-3.19-bioc/meat/POWSC.Rcheck/00check.log’
for details.


Installation output

POWSC.Rcheck/00install.out

##############################################################################
##############################################################################
###
### Running command:
###
###   /Library/Frameworks/R.framework/Resources/bin/R CMD INSTALL POWSC
###
##############################################################################
##############################################################################


* installing to library ‘/Library/Frameworks/R.framework/Versions/4.4-arm64/Resources/library’
* installing *source* package ‘POWSC’ ...
** using staged installation
** R
** data
*** moving datasets to lazyload DB
** inst
** byte-compile and prepare package for lazy loading
** help
*** installing help indices
** building package indices
** installing vignettes
** testing if installed package can be loaded from temporary location
** testing if installed package can be loaded from final location
** testing if installed package keeps a record of temporary installation path
* DONE (POWSC)

Tests output

POWSC.Rcheck/tests/testthat.Rout


R version 4.4.1 (2024-06-14) -- "Race for Your Life"
Copyright (C) 2024 The R Foundation for Statistical Computing
Platform: aarch64-apple-darwin20

R is free software and comes with ABSOLUTELY NO WARRANTY.
You are welcome to redistribute it under certain conditions.
Type 'license()' or 'licence()' for distribution details.

R is a collaborative project with many contributors.
Type 'contributors()' for more information and
'citation()' on how to cite R or R packages in publications.

Type 'demo()' for some demos, 'help()' for on-line help, or
'help.start()' for an HTML browser interface to help.
Type 'q()' to quit R.

> library(testthat)
> library(POWSC)
Loading required package: Biobase
Loading required package: BiocGenerics

Attaching package: 'BiocGenerics'

The following objects are masked from 'package:stats':

    IQR, mad, sd, var, xtabs

The following objects are masked from 'package:base':

    Filter, Find, Map, Position, Reduce, anyDuplicated, aperm, append,
    as.data.frame, basename, cbind, colnames, dirname, do.call,
    duplicated, eval, evalq, get, grep, grepl, intersect, is.unsorted,
    lapply, mapply, match, mget, order, paste, pmax, pmax.int, pmin,
    pmin.int, rank, rbind, rownames, sapply, setdiff, table, tapply,
    union, unique, unsplit, which.max, which.min

Welcome to Bioconductor

    Vignettes contain introductory material; view with
    'browseVignettes()'. To cite Bioconductor, see
    'citation("Biobase")', and for packages 'citation("pkgname")'.

Loading required package: SingleCellExperiment
Loading required package: SummarizedExperiment
Loading required package: MatrixGenerics
Loading required package: matrixStats

Attaching package: 'matrixStats'

The following objects are masked from 'package:Biobase':

    anyMissing, rowMedians


Attaching package: 'MatrixGenerics'

The following objects are masked from 'package:matrixStats':

    colAlls, colAnyNAs, colAnys, colAvgsPerRowSet, colCollapse,
    colCounts, colCummaxs, colCummins, colCumprods, colCumsums,
    colDiffs, colIQRDiffs, colIQRs, colLogSumExps, colMadDiffs,
    colMads, colMaxs, colMeans2, colMedians, colMins, colOrderStats,
    colProds, colQuantiles, colRanges, colRanks, colSdDiffs, colSds,
    colSums2, colTabulates, colVarDiffs, colVars, colWeightedMads,
    colWeightedMeans, colWeightedMedians, colWeightedSds,
    colWeightedVars, rowAlls, rowAnyNAs, rowAnys, rowAvgsPerColSet,
    rowCollapse, rowCounts, rowCummaxs, rowCummins, rowCumprods,
    rowCumsums, rowDiffs, rowIQRDiffs, rowIQRs, rowLogSumExps,
    rowMadDiffs, rowMads, rowMaxs, rowMeans2, rowMedians, rowMins,
    rowOrderStats, rowProds, rowQuantiles, rowRanges, rowRanks,
    rowSdDiffs, rowSds, rowSums2, rowTabulates, rowVarDiffs, rowVars,
    rowWeightedMads, rowWeightedMeans, rowWeightedMedians,
    rowWeightedSds, rowWeightedVars

The following object is masked from 'package:Biobase':

    rowMedians

Loading required package: GenomicRanges
Loading required package: stats4
Loading required package: S4Vectors

Attaching package: 'S4Vectors'

The following object is masked from 'package:utils':

    findMatches

The following objects are masked from 'package:base':

    I, expand.grid, unname

Loading required package: IRanges
Loading required package: GenomeInfoDb
Loading required package: MAST
> 
> test_check("POWSC")
(4.62,7.57] (7.57,8.53] (8.53,9.59] (9.59,10.8] (10.8,15.2] 
   6.374777    6.374777    6.632438    6.632438   19.096520 
(4.97,7.08] (7.08,7.94] (7.94,8.89] (8.89,9.93] (9.93,11.1] (11.1,15.4] 
   1.510573    5.995587    5.995587    6.058978    6.448522    7.348194 
[ FAIL 0 | WARN 0 | SKIP 0 | PASS 9 ]
> 
> proc.time()
   user  system elapsed 
 21.398   0.848  22.264 

Example timings

POWSC.Rcheck/POWSC-Ex.timings

nameusersystemelapsed
Est2Phase0.5200.0170.537
Power_Cont7.5330.2947.826
Power_Disc12.278 0.76113.041
Simulate2SCE0.4050.0160.422
SimulateMultiSCEs0.8070.0340.842
plot_POWSC 9.536 0.46710.008
runDE3.9610.1834.143
runPOWSC10.296 0.39610.695
summary_POWSC8.5050.4078.912