Back to Multiple platform build/check report for BioC 3.14
ABCDEFGHIJKLMNO[P]QRSTUVWXYZ

This page was generated on 2021-11-29 15:05:33 -0500 (Mon, 29 Nov 2021).

BUILD results for PFP on tokay2

To the developers/maintainers of the PFP package:
- Please allow up to 24 hours (and sometimes 48 hours) for your latest push to git@git.bioconductor.org:packages/PFP.git to
reflect on this report. See How and When does the builder pull? When will my changes propagate? here for more information.
- Make sure to use the following settings in order to reproduce any error or warning you see on this page.

raw results

Package 1401/2083HostnameOS / ArchINSTALLBUILDCHECKBUILD BIN
PFP 1.2.0  (landing page)
XC Zhang
Snapshot Date: 2021-11-28 04:15:06 -0500 (Sun, 28 Nov 2021)
git_url: https://git.bioconductor.org/packages/PFP
git_branch: RELEASE_3_14
git_last_commit: 0d1251a
git_last_commit_date: 2021-10-26 13:06:03 -0500 (Tue, 26 Oct 2021)
nebbiolo2Linux (Ubuntu 20.04.3 LTS) / x86_64  OK    OK    OK  UNNEEDED, same version is already published
tokay2Windows Server 2012 R2 Standard / x64  OK    OK    OK    OK  UNNEEDED, same version is already published
machv2macOS 10.14.6 Mojave / x86_64  OK    OK    OK    OK  UNNEEDED, same version is already published

Summary

Package: PFP
Version: 1.2.0
Command: chmod a+r PFP -R && C:\Users\biocbuild\bbs-3.14-bioc\R\bin\R.exe CMD build --keep-empty-dirs --no-resave-data PFP
StartedAt: 2021-11-28 15:16:44 -0500 (Sun, 28 Nov 2021)
EndedAt: 2021-11-28 15:17:55 -0500 (Sun, 28 Nov 2021)
EllapsedTime: 70.9 seconds
RetCode: 0
Status:   OK  
PackageFile: PFP_1.2.0.tar.gz
PackageFileSize: 1.189 MiB

Command output

##############################################################################
##############################################################################
###
### Running command:
###
###   chmod a+r PFP -R && C:\Users\biocbuild\bbs-3.14-bioc\R\bin\R.exe CMD build --keep-empty-dirs --no-resave-data PFP
###
##############################################################################
##############################################################################


* checking for file 'PFP/DESCRIPTION' ... OK
* preparing 'PFP':
* checking DESCRIPTION meta-information ... OK
* installing the package to build vignettes
* creating vignettes ... OK
* checking for LF line-endings in source and make files and shell scripts
* checking for empty or unneeded directories
* looking to see if a 'data/datalist' file should be added
* building 'PFP_1.2.0.tar.gz'