Back to Multiple platform build/check report for BioC 3.13
ABCDEFGHIJKLMNO[P]QRSTUVWXYZ

This page was generated on 2021-07-21 15:05:31 -0400 (Wed, 21 Jul 2021).

BUILD BIN results for PFP on tokay2

To the developers/maintainers of the PFP package:
- Please allow up to 24 hours (and sometimes 48 hours) for your latest push to git@git.bioconductor.org:packages/PFP.git to
reflect on this report. See How and When does the builder pull? When will my changes propagate? here for more information.
- Make sure to use the following settings in order to reproduce any error or warning you see on this page.

raw results

Package 1375/2041HostnameOS / ArchINSTALLBUILDCHECKBUILD BIN
PFP 1.0.0  (landing page)
XC Zhang
Snapshot Date: 2021-07-20 04:50:13 -0400 (Tue, 20 Jul 2021)
URL: https://git.bioconductor.org/packages/PFP
Branch: RELEASE_3_13
Last Commit: 80a0d85
Last Changed Date: 2021-05-19 12:58:46 -0400 (Wed, 19 May 2021)
nebbiolo1Linux (Ubuntu 20.04.2 LTS) / x86_64  OK    OK    OK  UNNEEDED, same version is already published
tokay2Windows Server 2012 R2 Standard / x64  OK    OK    OK    OK  UNNEEDED, same version is already published
machv2macOS 10.14.6 Mojave / x86_64  OK    OK    OK    OK  UNNEEDED, same version is already published

Summary

Package: PFP
Version: 1.0.0
Command: rm -rf PFP.buildbin-libdir && mkdir PFP.buildbin-libdir && C:\Users\biocbuild\bbs-3.13-bioc\R\bin\R.exe CMD INSTALL --merge-multiarch --build --library=PFP.buildbin-libdir PFP_1.0.0.tar.gz
StartedAt: 2021-07-21 11:27:01 -0400 (Wed, 21 Jul 2021)
EndedAt: 2021-07-21 11:28:06 -0400 (Wed, 21 Jul 2021)
EllapsedTime: 64.7 seconds
RetCode: 0
Status:   OK  
PackageFile: PFP_1.0.0.zip
PackageFileSize: 1.37 MiB

Command output

##############################################################################
##############################################################################
###
### Running command:
###
###   rm -rf PFP.buildbin-libdir && mkdir PFP.buildbin-libdir && C:\Users\biocbuild\bbs-3.13-bioc\R\bin\R.exe CMD INSTALL --merge-multiarch --build --library=PFP.buildbin-libdir PFP_1.0.0.tar.gz
###
##############################################################################
##############################################################################



install for i386

* installing *source* package 'PFP' ...
** using staged installation
** R
** data
** inst
** byte-compile and prepare package for lazy loading
** help
*** installing help indices
  converting help for package 'PFP'
    finding HTML links ... done
    PFP-class                               html  
    PFP                                     html  
    PFPRefnet-class                         html  
    PFPRefnet_hsa                           html  
    PFPRefnet_mmu                           html  
    PFP_score-methods                       html  
    PFP_test1                               html  
    PFP_test2                               html  
    calc_PFP_score                          html  
    data_std                                html  
    gene_list_hsa                           html  
    genes_score-methods                     html  
    get_PFPRefnet                           html  
    get_asso_net                            html  
    get_bg_related_kegg                     html  
    get_exp_cor_edges                       html  
    get_pathway_info                        html  
    group-methods                           html  
    kegg_download                           html  
    net_info-methods                        html  
    net_names-methods                       html  
    network-methods                         html  
    pathway_info                            html  
    pathway_info_hsa                        html  
    pathways_score-methods                  html  
    plot_PFP-methods                        html  
    plot_PFPlist                            html  
    rank_PFP-methods                        html  
    refnet_info-methods                     html  
    refnet_names-methods                    html  
    result_PFP-methods                      html  
    show_PFP-methods                        html  
    show_net-methods                        html  
    stats_test-methods                      html  
    sub_PFP-methods                         html  
    subnet-methods                          html  
    trans_edges_id                          html  
    trans_graph2PFPRefnet                   html  
    finding level-2 HTML links ... done

    trans_xml2graph                         html  
** building package indices
** installing vignettes
** testing if installed package can be loaded from temporary location
** testing if installed package can be loaded from final location
** testing if installed package keeps a record of temporary installation path

install for x64

* installing *source* package 'PFP' ...
** testing if installed package can be loaded
* MD5 sums
packaged installation of 'PFP' as PFP_1.0.0.zip
* DONE (PFP)