Index of /checkResults/release/bioc-LATEST/PFP/raw-results/nebbiolo1

[ICO]NameLast modifiedSizeDescription

[DIR]Parent Directory  -  
[TXT]buildsrc-out.txt16-Oct-2021 04:05 852  
[   ]buildsrc-summary.dcf16-Oct-2021 04:05 403  
[TXT]checksrc-out.txt16-Oct-2021 04:05 3.3K 
[   ]checksrc-summary.dcf16-Oct-2021 04:05 406  
[TXT]install-out.txt16-Oct-2021 04:05 935  
[   ]install-summary.dcf16-Oct-2021 04:05 250