Index of /checkResults/release/bioc-LATEST/PFP/raw-results/machv2

[ICO]NameLast modifiedSizeDescription

[DIR]Parent Directory  -  
[   ]install-summary.dcf20-Jan-2022 03:08 260  
[TXT]install-out.txt20-Jan-2022 03:08 968  
[   ]checksrc-summary.dcf20-Jan-2022 03:08 426  
[TXT]checksrc-out.txt20-Jan-2022 03:08 3.3K 
[   ]buildsrc-summary.dcf20-Jan-2022 03:08 414  
[TXT]buildsrc-out.txt20-Jan-2022 03:08 862  
[   ]buildbin-summary.dcf20-Jan-2022 03:08 503  
[TXT]buildbin-out.txt20-Jan-2022 03:08 1.1K