Index of /checkResults/release/bioc-LATEST/PFP/raw-results
Name
Last modified
Size
Description
Parent Directory
-
nebbiolo1/
30-Sep-2023 00:35
-
palomino3/
30-Sep-2023 00:36
-
info.dcf
30-Sep-2023 00:37
254
merida1/
30-Sep-2023 00:37
-