Back to Multiple platform build/check report for BioC 3.13
ABCDEFGHIJKLMNO[P]QRSTUVWXYZ

This page was generated on 2021-08-02 15:05:22 -0400 (Mon, 02 Aug 2021).

BUILD results for PCpheno on tokay2

To the developers/maintainers of the PCpheno package:
- Please allow up to 24 hours (and sometimes 48 hours) for your latest push to git@git.bioconductor.org:packages/PCpheno.git to
reflect on this report. See How and When does the builder pull? When will my changes propagate? here for more information.
- Make sure to use the following settings in order to reproduce any error or warning you see on this page.

raw results

Package 1361/2041HostnameOS / ArchINSTALLBUILDCHECKBUILD BIN
PCpheno 1.54.0  (landing page)
Nolwenn Le Meur
Snapshot Date: 2021-08-01 04:50:10 -0400 (Sun, 01 Aug 2021)
URL: https://git.bioconductor.org/packages/PCpheno
Branch: RELEASE_3_13
Last Commit: a344578
Last Changed Date: 2021-05-19 11:40:08 -0400 (Wed, 19 May 2021)
nebbiolo1Linux (Ubuntu 20.04.2 LTS) / x86_64  ERROR    ERROR  skipped
tokay2Windows Server 2012 R2 Standard / x64  ERROR    ERROR  skippedskipped
machv2macOS 10.14.6 Mojave / x86_64  ERROR    ERROR  skippedskipped

Summary

Package: PCpheno
Version: 1.54.0
Command: chmod a+r PCpheno -R && C:\Users\biocbuild\bbs-3.13-bioc\R\bin\R.exe CMD build --keep-empty-dirs --no-resave-data PCpheno
StartedAt: 2021-08-01 16:57:15 -0400 (Sun, 01 Aug 2021)
EndedAt: 2021-08-01 16:57:25 -0400 (Sun, 01 Aug 2021)
EllapsedTime: 9.6 seconds
RetCode: 1
Status:   ERROR  
PackageFile: PCpheno_1.54.0.tar.gz
PackageFileSize: 810.6 KiB

Command output

##############################################################################
##############################################################################
###
### Running command:
###
###   chmod a+r PCpheno -R && C:\Users\biocbuild\bbs-3.13-bioc\R\bin\R.exe CMD build --keep-empty-dirs --no-resave-data PCpheno
###
##############################################################################
##############################################################################


* checking for file 'PCpheno/DESCRIPTION' ... OK
* preparing 'PCpheno':
* checking DESCRIPTION meta-information ... OK
* installing the package to build vignettes
      -----------------------------------
ERROR: dependency 'KEGG.db' is not available for package 'PCpheno'
* removing 'C:/Users/biocbuild/bbs-3.13-bioc/tmpdir/Rtmp6tWVPw/Rinst18ec7bbe5913/PCpheno'
      -----------------------------------
ERROR: package installation failed