Back to Multiple platform build/check report for BioC 3.13
ABCDEFGHIJKLMN[O]PQRSTUVWXYZ

This page was generated on 2021-08-02 15:05:51 -0400 (Mon, 02 Aug 2021).

CHECK results for OncoSimulR on machv2

To the developers/maintainers of the OncoSimulR package:
- Please allow up to 24 hours (and sometimes 48 hours) for your latest push to git@git.bioconductor.org:packages/OncoSimulR.git to
reflect on this report. See How and When does the builder pull? When will my changes propagate? here for more information.
- Make sure to use the following settings in order to reproduce any error or warning you see on this page.

raw results

Package 1308/2041HostnameOS / ArchINSTALLBUILDCHECKBUILD BIN
OncoSimulR 3.0.0  (landing page)
Ramon Diaz-Uriarte
Snapshot Date: 2021-08-01 04:50:10 -0400 (Sun, 01 Aug 2021)
URL: https://git.bioconductor.org/packages/OncoSimulR
Branch: RELEASE_3_13
Last Commit: 3add541
Last Changed Date: 2021-05-19 12:06:18 -0400 (Wed, 19 May 2021)
nebbiolo1Linux (Ubuntu 20.04.2 LTS) / x86_64  OK    OK    OK  UNNEEDED, same version is already published
tokay2Windows Server 2012 R2 Standard / x64  OK    OK    OK    OK  UNNEEDED, same version is already published
machv2macOS 10.14.6 Mojave / x86_64  OK    OK    OK    OK  UNNEEDED, same version is already published

Summary

Package: OncoSimulR
Version: 3.0.0
Command: /Library/Frameworks/R.framework/Versions/Current/Resources/bin/R CMD check --install=check:OncoSimulR.install-out.txt --library=/Library/Frameworks/R.framework/Versions/Current/Resources/library --no-vignettes --timings OncoSimulR_3.0.0.tar.gz
StartedAt: 2021-08-01 21:31:51 -0400 (Sun, 01 Aug 2021)
EndedAt: 2021-08-01 21:41:58 -0400 (Sun, 01 Aug 2021)
EllapsedTime: 607.2 seconds
RetCode: 0
Status:   OK  
CheckDir: OncoSimulR.Rcheck
Warnings: 0

Command output

##############################################################################
##############################################################################
###
### Running command:
###
###   /Library/Frameworks/R.framework/Versions/Current/Resources/bin/R CMD check --install=check:OncoSimulR.install-out.txt --library=/Library/Frameworks/R.framework/Versions/Current/Resources/library --no-vignettes --timings OncoSimulR_3.0.0.tar.gz
###
##############################################################################
##############################################################################


* using log directory ‘/Users/biocbuild/bbs-3.13-bioc/meat/OncoSimulR.Rcheck’
* using R version 4.1.0 (2021-05-18)
* using platform: x86_64-apple-darwin17.0 (64-bit)
* using session charset: UTF-8
* using option ‘--no-vignettes’
* checking for file ‘OncoSimulR/DESCRIPTION’ ... OK
* checking extension type ... Package
* this is package ‘OncoSimulR’ version ‘3.0.0’
* checking package namespace information ... OK
* checking package dependencies ... OK
* checking if this is a source package ... OK
* checking if there is a namespace ... OK
* checking for hidden files and directories ... NOTE
Found the following hidden files and directories:
  .git_fetch_output.txt
  .git_merge_output.txt
These were most likely included in error. See section ‘Package
structure’ in the ‘Writing R Extensions’ manual.
* checking for portable file names ... OK
* checking for sufficient/correct file permissions ... OK
* checking whether package ‘OncoSimulR’ can be installed ... OK
* checking installed package size ... NOTE
  installed size is  8.9Mb
  sub-directories of 1Mb or more:
    libs   7.9Mb
* checking package directory ... OK
* checking ‘build’ directory ... OK
* checking DESCRIPTION meta-information ... OK
* checking top-level files ... OK
* checking for left-over files ... OK
* checking index information ... OK
* checking package subdirectories ... OK
* checking R files for non-ASCII characters ... OK
* checking R files for syntax errors ... OK
* checking whether the package can be loaded ... OK
* checking whether the package can be loaded with stated dependencies ... OK
* checking whether the package can be unloaded cleanly ... OK
* checking whether the namespace can be loaded with stated dependencies ... OK
* checking whether the namespace can be unloaded cleanly ... OK
* checking dependencies in R code ... OK
* checking S3 generic/method consistency ... OK
* checking replacement functions ... OK
* checking foreign function calls ... OK
* checking R code for possible problems ... OK
* checking Rd files ... OK
* checking Rd metadata ... OK
* checking Rd cross-references ... OK
* checking for missing documentation entries ... OK
* checking for code/documentation mismatches ... OK
* checking Rd \usage sections ... OK
* checking Rd contents ... OK
* checking for unstated dependencies in examples ... OK
* checking contents of ‘data’ directory ... OK
* checking data for non-ASCII characters ... OK
* checking data for ASCII and uncompressed saves ... OK
* checking line endings in C/C++/Fortran sources/headers ... OK
* checking line endings in Makefiles ... OK
* checking compilation flags in Makevars ... OK
* checking for GNU extensions in Makefiles ... OK
* checking for portable use of $(BLAS_LIBS) and $(LAPACK_LIBS) ... OK
* checking use of PKG_*FLAGS in Makefiles ... OK
* checking include directives in Makefiles ... OK
* checking compiled code ... NOTE
Note: information on .o files is not available
* checking files in ‘vignettes’ ... OK
* checking examples ... OK
Examples with CPU (user + system) or elapsed time > 5s
                user system elapsed
oncoSimulIndiv 4.512  0.894   4.752
rfitness       4.678  0.427   5.116
* checking for unstated dependencies in ‘tests’ ... OK
* checking tests ...
  Running ‘testthat.R’
 OK
* checking for unstated dependencies in vignettes ... OK
* checking package vignettes in ‘inst/doc’ ... OK
* checking running R code from vignettes ... SKIPPED
* checking re-building of vignette outputs ... SKIPPED
* checking PDF version of manual ... OK
* DONE

Status: 3 NOTEs
See
  ‘/Users/biocbuild/bbs-3.13-bioc/meat/OncoSimulR.Rcheck/00check.log’
for details.



Installation output

OncoSimulR.Rcheck/00install.out

##############################################################################
##############################################################################
###
### Running command:
###
###   /Library/Frameworks/R.framework/Versions/Current/Resources/bin/R CMD INSTALL OncoSimulR
###
##############################################################################
##############################################################################


* installing to library ‘/Library/Frameworks/R.framework/Versions/4.1/Resources/library’
* installing *source* package ‘OncoSimulR’ ...
** using staged installation
** libs
clang -mmacosx-version-min=10.13 -I"/Library/Frameworks/R.framework/Resources/include" -DNDEBUG  -I'/Library/Frameworks/R.framework/Versions/4.1/Resources/library/Rcpp/include' -I/usr/local/include   -fPIC  -Wall -g -O2  -c FitnessLandscape/gamma.c -o FitnessLandscape/gamma.o
clang -mmacosx-version-min=10.13 -I"/Library/Frameworks/R.framework/Resources/include" -DNDEBUG  -I'/Library/Frameworks/R.framework/Versions/4.1/Resources/library/Rcpp/include' -I/usr/local/include   -fPIC  -Wall -g -O2  -c FitnessLandscape/landscape.c -o FitnessLandscape/landscape.o
clang -mmacosx-version-min=10.13 -I"/Library/Frameworks/R.framework/Resources/include" -DNDEBUG  -I'/Library/Frameworks/R.framework/Versions/4.1/Resources/library/Rcpp/include' -I/usr/local/include   -fPIC  -Wall -g -O2  -c FitnessLandscape/random.c -o FitnessLandscape/random.o
clang -mmacosx-version-min=10.13 -I"/Library/Frameworks/R.framework/Resources/include" -DNDEBUG  -I'/Library/Frameworks/R.framework/Versions/4.1/Resources/library/Rcpp/include' -I/usr/local/include   -fPIC  -Wall -g -O2  -c FitnessLandscape/sort.c -o FitnessLandscape/sort.o
clang -mmacosx-version-min=10.13 -I"/Library/Frameworks/R.framework/Resources/include" -DNDEBUG  -I'/Library/Frameworks/R.framework/Versions/4.1/Resources/library/Rcpp/include' -I/usr/local/include   -fPIC  -Wall -g -O2  -c FitnessLandscape/chain.c -o FitnessLandscape/chain.o
clang -mmacosx-version-min=10.13 -I"/Library/Frameworks/R.framework/Resources/include" -DNDEBUG  -I'/Library/Frameworks/R.framework/Versions/4.1/Resources/library/Rcpp/include' -I/usr/local/include   -fPIC  -Wall -g -O2  -c FitnessLandscape/input.c -o FitnessLandscape/input.o
clang -mmacosx-version-min=10.13 -I"/Library/Frameworks/R.framework/Resources/include" -DNDEBUG  -I'/Library/Frameworks/R.framework/Versions/4.1/Resources/library/Rcpp/include' -I/usr/local/include   -fPIC  -Wall -g -O2  -c FitnessLandscape/genotypes.c -o FitnessLandscape/genotypes.o
clang -mmacosx-version-min=10.13 -I"/Library/Frameworks/R.framework/Resources/include" -DNDEBUG  -I'/Library/Frameworks/R.framework/Versions/4.1/Resources/library/Rcpp/include' -I/usr/local/include   -fPIC  -Wall -g -O2  -c FitnessLandscape/ordered_pairs.c -o FitnessLandscape/ordered_pairs.o
clang -mmacosx-version-min=10.13 -I"/Library/Frameworks/R.framework/Resources/include" -DNDEBUG  -I'/Library/Frameworks/R.framework/Versions/4.1/Resources/library/Rcpp/include' -I/usr/local/include   -fPIC  -Wall -g -O2  -c FitnessLandscape/calculus.c -o FitnessLandscape/calculus.o
clang -mmacosx-version-min=10.13 -I"/Library/Frameworks/R.framework/Resources/include" -DNDEBUG  -I'/Library/Frameworks/R.framework/Versions/4.1/Resources/library/Rcpp/include' -I/usr/local/include   -fPIC  -Wall -g -O2  -c FitnessLandscape/vector.c -o FitnessLandscape/vector.o
clang -mmacosx-version-min=10.13 -I"/Library/Frameworks/R.framework/Resources/include" -DNDEBUG  -I'/Library/Frameworks/R.framework/Versions/4.1/Resources/library/Rcpp/include' -I/usr/local/include   -fPIC  -Wall -g -O2  -c FitnessLandscape/generalized_chain.c -o FitnessLandscape/generalized_chain.o
clang -mmacosx-version-min=10.13 -I"/Library/Frameworks/R.framework/Resources/include" -DNDEBUG  -I'/Library/Frameworks/R.framework/Versions/4.1/Resources/library/Rcpp/include' -I/usr/local/include   -fPIC  -Wall -g -O2  -c FitnessLandscape/LinearAlgebra.c -o FitnessLandscape/LinearAlgebra.o
clang -mmacosx-version-min=10.13 -I"/Library/Frameworks/R.framework/Resources/include" -DNDEBUG  -I'/Library/Frameworks/R.framework/Versions/4.1/Resources/library/Rcpp/include' -I/usr/local/include   -fPIC  -Wall -g -O2  -c FitnessLandscape/summary_statistics.c -o FitnessLandscape/summary_statistics.o
clang -mmacosx-version-min=10.13 -I"/Library/Frameworks/R.framework/Resources/include" -DNDEBUG  -I'/Library/Frameworks/R.framework/Versions/4.1/Resources/library/Rcpp/include' -I/usr/local/include   -fPIC  -Wall -g -O2  -c FitnessLandscape/epistasis_type.c -o FitnessLandscape/epistasis_type.o
clang -mmacosx-version-min=10.13 -I"/Library/Frameworks/R.framework/Resources/include" -DNDEBUG  -I'/Library/Frameworks/R.framework/Versions/4.1/Resources/library/Rcpp/include' -I/usr/local/include   -fPIC  -Wall -g -O2  -c FitnessLandscape/decomposition.c -o FitnessLandscape/decomposition.o
clang -mmacosx-version-min=10.13 -I"/Library/Frameworks/R.framework/Resources/include" -DNDEBUG  -I'/Library/Frameworks/R.framework/Versions/4.1/Resources/library/Rcpp/include' -I/usr/local/include   -fPIC  -Wall -g -O2  -c FitnessLandscape/models.c -o FitnessLandscape/models.o
clang -mmacosx-version-min=10.13 -I"/Library/Frameworks/R.framework/Resources/include" -DNDEBUG  -I'/Library/Frameworks/R.framework/Versions/4.1/Resources/library/Rcpp/include' -I/usr/local/include   -fPIC  -Wall -g -O2  -c FitnessLandscape/verbose.c -o FitnessLandscape/verbose.o
ar -r liblandscape.a FitnessLandscape/gamma.o FitnessLandscape/landscape.o FitnessLandscape/random.o FitnessLandscape/sort.o FitnessLandscape/chain.o FitnessLandscape/input.o FitnessLandscape/genotypes.o FitnessLandscape/ordered_pairs.o FitnessLandscape/calculus.o FitnessLandscape/vector.o FitnessLandscape/generalized_chain.o FitnessLandscape/LinearAlgebra.o FitnessLandscape/summary_statistics.o FitnessLandscape/epistasis_type.o FitnessLandscape/decomposition.o FitnessLandscape/models.o FitnessLandscape/verbose.o ;
ar: creating archive liblandscape.a
ranlib liblandscape.a;
clang -mmacosx-version-min=10.13 -O -Wall -o fl_statistics -I/FitnessLandscape/. -L. FitnessLandscape/main_fl_statistics.c -llandscape -lm;
clang -mmacosx-version-min=10.13 -O -Wall -o fl_generate -I/FitnessLandscape/. -L. FitnessLandscape/main_fl_generate.c -llandscape -lm;
clang++ -mmacosx-version-min=10.13 -std=gnu++11 -I"/Library/Frameworks/R.framework/Resources/include" -DNDEBUG  -I'/Library/Frameworks/R.framework/Versions/4.1/Resources/library/Rcpp/include' -I/usr/local/include   -fPIC  -Wall -g -O2  -c BNB_nr.cpp -o BNB_nr.o
clang -mmacosx-version-min=10.13 -I"/Library/Frameworks/R.framework/Resources/include" -DNDEBUG  -I'/Library/Frameworks/R.framework/Versions/4.1/Resources/library/Rcpp/include' -I/usr/local/include   -fPIC  -Wall -g -O2  -c OncoSimulR_init.c -o OncoSimulR_init.o
clang++ -mmacosx-version-min=10.13 -std=gnu++11 -I"/Library/Frameworks/R.framework/Resources/include" -DNDEBUG  -I'/Library/Frameworks/R.framework/Versions/4.1/Resources/library/Rcpp/include' -I/usr/local/include   -fPIC  -Wall -g -O2  -c RcppExports.cpp -o RcppExports.o
clang++ -mmacosx-version-min=10.13 -std=gnu++11 -I"/Library/Frameworks/R.framework/Resources/include" -DNDEBUG  -I'/Library/Frameworks/R.framework/Versions/4.1/Resources/library/Rcpp/include' -I/usr/local/include   -fPIC  -Wall -g -O2  -c accessible_genotypes.cpp -o accessible_genotypes.o
clang++ -mmacosx-version-min=10.13 -std=gnu++11 -I"/Library/Frameworks/R.framework/Resources/include" -DNDEBUG  -I'/Library/Frameworks/R.framework/Versions/4.1/Resources/library/Rcpp/include' -I/usr/local/include   -fPIC  -Wall -g -O2  -c bnb_common.cpp -o bnb_common.o
clang++ -mmacosx-version-min=10.13 -std=gnu++11 -I"/Library/Frameworks/R.framework/Resources/include" -DNDEBUG  -I'/Library/Frameworks/R.framework/Versions/4.1/Resources/library/Rcpp/include' -I/usr/local/include   -fPIC  -Wall -g -O2  -c new_restrict.cpp -o new_restrict.o
clang++ -mmacosx-version-min=10.13 -std=gnu++11 -dynamiclib -Wl,-headerpad_max_install_names -undefined dynamic_lookup -single_module -multiply_defined suppress -L/Library/Frameworks/R.framework/Resources/lib -L/usr/local/lib -o OncoSimulR.so BNB_nr.o OncoSimulR_init.o RcppExports.o accessible_genotypes.o bnb_common.o new_restrict.o -F/Library/Frameworks/R.framework/.. -framework R -Wl,-framework -Wl,CoreFoundation
installing via 'install.libs.R' to /Library/Frameworks/R.framework/Versions/4.1/Resources/library/00LOCK-OncoSimulR/00new/OncoSimulR
[1] ""
Installing fl_statistics fl_generate to /Library/Frameworks/R.framework/Versions/4.1/Resources/library/00LOCK-OncoSimulR/00new/OncoSimulR/exec
Installing library OncoSimulR.so to /Library/Frameworks/R.framework/Versions/4.1/Resources/library/00LOCK-OncoSimulR/00new/OncoSimulR/libs
** R
** data
** inst
** byte-compile and prepare package for lazy loading
** help
*** installing help indices
** building package indices
** installing vignettes
** testing if installed package can be loaded from temporary location
** checking absolute paths in shared objects and dynamic libraries
** testing if installed package can be loaded from final location
** testing if installed package keeps a record of temporary installation path
* DONE (OncoSimulR)

Tests output

OncoSimulR.Rcheck/tests/testthat.Rout


R version 4.1.0 (2021-05-18) -- "Camp Pontanezen"
Copyright (C) 2021 The R Foundation for Statistical Computing
Platform: x86_64-apple-darwin17.0 (64-bit)

R is free software and comes with ABSOLUTELY NO WARRANTY.
You are welcome to redistribute it under certain conditions.
Type 'license()' or 'licence()' for distribution details.

R is a collaborative project with many contributors.
Type 'contributors()' for more information and
'citation()' on how to cite R or R packages in publications.

Type 'demo()' for some demos, 'help()' for on-line help, or
'help.start()' for an HTML browser interface to help.
Type 'q()' to quit R.

> library(testthat)
> library(OncoSimulR)
> 
> test_check("OncoSimulR")

 Starting FDF-letter-fitness-order Sun Aug  1 21:33:49 2021 

exprtk parser error: 

Error[00] Position: 00 Type: [  Syntax Error] Msg: ERR197 - Undefined symbol: 'n_2_3' Expression: n_2_3

exprtk parser error: 

Error[00] Position: 00 Type: [  Syntax Error] Msg: ERR197 - Undefined symbol: 'f_2_3' Expression: f_2_3

 Ending FDF-small-fitness-specs Sun Aug  1 21:33:50 2021 
  Took  0.57 


 Starting LOD_POM at Sun Aug  1 21:33:50 2021 

 Ending LOD_POM at Sun Aug  1 21:34:20 2021 
  Took  30.02 


 Starting test.Z-all-fitness at Sun Aug  1 21:34:20 2021 

 Ending test.Z-all-fitness at Sun Aug  1 21:34:20 2021 
  Took  0.07 


 Starting test.Z-driver-counts at Sun Aug  1 21:34:20 2021 

 Ending test.Z-driver-counts at Sun Aug  1 21:34:20 2021 
  Took  0.31 


 Starting test.Z-fixation at Sun Aug  1 21:34:20 2021 

 Ending test.Z-fixation at Sun Aug  1 21:34:21 2021 
  Took  1.03 


 Starting test.Z-magellan at Sun Aug  1 21:34:21 2021 

 Ended test.Z-magellan at Sun Aug  1 21:34:24 2021 

 Starting test.Z-mutator at Sun Aug  1 21:34:24 2021 

 Ending test.Z-mutator at Sun Aug  1 21:34:24 2021 
  Took  0.29 


 Starting test.Z-mutatorFDF at Sun Aug  1 21:34:24 2021 

 Ending test.Z-mutatorFDF at Sun Aug  1 21:34:25 2021 
  Took  0.12 


 Starting test.Z-oncoSimulIndiv at Sun Aug  1 21:34:25 2021 

 Ending test.Z-oncoSimulIndiv at Sun Aug  1 21:34:27 2021 
  Took  2.3 


 Starting test.Z-oncoSimulIndivFDF at Sun Aug  1 21:34:27 2021 

 Ending test.Z-oncoSimulIndivFDF at Sun Aug  1 21:34:27 2021 
  Took  0.22 


 Starting test.Z-rfitness-landscape at Sun Aug  1 21:34:27 2021 

 Ending test.Z-rfitness-landscape at Sun Aug  1 21:34:27 2021 
  Took  0.18 


 Starting Z-sample-only-last tests Sun Aug  1 21:34:27 2021 

 Ending Z-sample-only-last tests Sun Aug  1 21:34:27 2021 
  Took  0 


 Starting Z-total-present-drivers tests Sun Aug  1 21:34:27 2021 

 Ending Z-total-present-drivers tests Sun Aug  1 21:34:29 2021 
  Took  2.08 


 Dummy empty test  Sun Aug  1 21:34:29 2021 

 Starting accessible_genotypes at Sun Aug  1 21:34:29 2021 

 Ending accessible_genotypes at Sun Aug  1 21:34:37 2021 
  Took  8.04 


 Starting all fitness at Sun Aug  1 21:34:37 2021
 Ending all-fitness at Sun Aug  1 21:34:44 2021 
  Took  6.57 


 Starting test.allFitnessEffectsFDF at Sun Aug  1 21:34:44 2021 

 Ending test.allFitnessEffectsFDF at Sun Aug  1 21:34:44 2021 
  Took  0.19 


 Starting test.allFitnessEffectsFDF at Sun Aug  1 21:34:44 2021 

 Ending test.allFitnessEffectsFDF at Sun Aug  1 21:34:45 2021 
  Took  0.56 


 Starting driverCounts at Sun Aug  1 21:34:45 2021
 Ending driverCounts at Sun Aug  1 21:35:01 2021 
  Took  16.36 


 Starting epist-order-modules at Sun Aug  1 21:35:01 2021
 Ending epist-order-modules at Sun Aug  1 21:35:01 2021 
  Took  0.06 


 Starting test.evaluatingGenotypesFDF at Sun Aug  1 21:35:01 2021 

 Ending test.evaluatingGenotypesFDF at Sun Aug  1 21:35:01 2021 
  Took  0.24 


 Starting exercise-plotting-code at Sun Aug  1 21:35:01 2021
 Ending exercise-plotting-code at Sun Aug  1 21:35:14 2021 
  Took  13.01 


 Starting exercise-rfitness at Sun Aug  1 21:35:14 2021 

 Ending exercise-rfitness at Sun Aug  1 21:35:23 2021 
  Took  8.09 


 Starting to_Magella at Sun Aug  1 21:35:23 2021 

 Ending to_Magella at Sun Aug  1 21:35:23 2021 
  Took  0.04 


 Starting fitness preds at Sun Aug  1 21:35:23 2021 

 Observed vs expected, case III

 done tries 1 

 Ending fitness preds long at Sun Aug  1 21:35:42 2021 
  Took  19.57 


 Starting fixation  at Sun Aug  1 21:35:42 2021 

 Ending fixation  at Sun Aug  1 21:36:28 2021 
  Took  45.88 


 Starting test.flfast-additional.R test at Sun Aug  1 21:36:28 2021
 DEBUG2: Value of rnb = nan

 DEBUG2: Value of m = 1

 DEBUG2: Value of pe = 0

 DEBUG2: Value of pm = 0.999997

 this is spP

 popSize = 1
 birth = 1
 death = 0
 W = 1.00001
 R = 1.00001
 mutation = 6e-06
 timeLastUpdate = 7.58309
 absfitness = -inf
 numMutablePos = 6

 Unrecoverable exception: Algo 2: retval not finite. Aborting. 

 Ending test.flfast-additional.R test at Sun Aug  1 21:36:31 2021 
  Took  2.77 


 Starting test.flfast-mutator.R test at Sun Aug  1 21:36:31 2021
 Finished test.flfast-mutator.R test at Sun Aug  1 21:36:34 2021 
  Took  2.89 


 Starting genotFitness at Sun Aug  1 21:36:34 2021 

 Ending genotFitness at Sun Aug  1 21:36:34 2021 
  Took  0.14 


 Starting genot_fitness_to_epistasis at Sun Aug  1 21:36:34 2021 

 Ending genot_fitness_to_epistasis at Sun Aug  1 21:36:34 2021 
  Took  0.04 


 Starting init-mutant tests Sun Aug  1 21:36:34 2021 

exprtk parser error: 

Error[00] Position: 18 Type: [  Syntax Error] Msg: ERR197 - Undefined symbol: 'f_2' Expression: 1.1 + 0.7*((f_1 + f_2) > 0.3)

 Ending init-mutant tests Sun Aug  1 21:36:48 2021 
  Took  14.54 


 Starting test.magellan at Sun Aug  1 21:36:48 2021 

 Ending test.magellan at Sun Aug  1 21:36:49 2021 
  Took  0.28 


 Starting test.modules-root-no-root at Sun Aug  1 21:36:49 2021 

 Ending test.modules-root-no-root at Sun Aug  1 21:36:49 2021 
  Took  0.1 


 Starting at mutPropGrowth  Sun Aug  1 21:36:49 2021 

 Ended test.mutPropGrowth:  Sun Aug  1 21:37:08 2021 
  Took  18.91 


 Starting test.mutator-oncoSimulSample.R test at Sun Aug  1 21:37:08 2021 

 Finished test.mutator-oncoSimulSample.R test at Sun Aug  1 21:37:22 2021 
  Took  14.64 seconds 


 Starting test.mutator.R test at Sun Aug  1 21:37:22 2021[1] 2.418284e-09
[1] 2.613205e-12

 Finished test.mutator.R test at Sun Aug  1 21:37:51 2021 
  Took  28.95 


 Starting test.mutatorFDF.R test at Sun Aug  1 21:37:51 2021
 Starting test.no-v1 at Sun Aug  1 21:37:52 2021 

 Ending test.no-v1 at Sun Aug  1 21:37:52 2021 
  Took  0.01 


 Starting oncoSimulIndiv-miscell tests Sun Aug  1 21:37:52 2021 

 Ending oncoSimulIndiv-miscell tests Sun Aug  1 21:38:33 2021 
  Took  40.77 


 Starting oncoSimulSample-failures tests Sun Aug  1 21:38:33 2021 

 Ending oncoSimulSample-failures tests Sun Aug  1 21:38:37 2021 
  Took  3.47 


 Starting oncoSimulSample-limits tests Sun Aug  1 21:38:37 2021 

 Ending oncoSimulSample-limits tests Sun Aug  1 21:38:37 2021 
  Took  0.11 


 Starting per-gene-mutation rates at Sun Aug  1 21:38:37 2021 

 Ending per-gene-mutation rates at Sun Aug  1 21:39:47 2021 
  Took  70.56 


 Starting plotFitnessLandscape at Sun Aug  1 21:39:47 2021
 Ending plotFitnessLandscape at Sun Aug  1 21:39:50 2021 
  Took  3.07 


 Starting poset-transformations tests Sun Aug  1 21:39:50 2021 

 Ending poset-transformations tests Sun Aug  1 21:40:00 2021 
  Took  9.85 


 Starting sample-prob Sun Aug  1 21:40:00 2021 
[1] 2.221755e-29
[1] 1.593826e-14
[1] 1.948219e-07
[1] 1.331927e-11
[1] 6.535834e-12
[1] 1.327187e-14
[1] 6.140288e-11
[1] 1.630234e-14
[1] 5.017593e-10
[1] 1.264129e-09
[1] 1.678739e-08
[1] 3.614215e-08

 Ending sample-prob tests Sun Aug  1 21:40:16 2021 
 Took  15.36 



 Starting samplePop tests Sun Aug  1 21:40:16 2021 

 Ending samplePop tests Sun Aug  1 21:40:51 2021 
  Took  35.78 


 Starting simuls-runs-examples tests Sun Aug  1 21:40:51 2021 

 Ending simuls-runs-examples tests Sun Aug  1 21:41:33 2021 
  Took  41.51 


 Starting warning-mutPropGrowth tests Sun Aug  1 21:41:33 2021 

 Ending warning-mutPropGrowth tests Sun Aug  1 21:41:42 2021 
  Took  8.68 


 Starting wide2long tests Sun Aug  1 21:41:42 2021 

 Ending wide2long tests Sun Aug  1 21:41:42 2021 
  Took  0.9 

══ Skipped tests ═══════════════════════════════════════════════════════════════
• On Mac (2)
• empty test (1)

[ FAIL 0 | WARN 1 | SKIP 3 | PASS 8172 ]
> 
> proc.time()
   user  system elapsed 
528.552 101.426 481.884 

Example timings

OncoSimulR.Rcheck/OncoSimulR-Ex.timings

nameusersystemelapsed
OncoSimulWide2Long0.6130.1520.767
POM1.6890.2671.226
allFitnessEffects2.0940.0832.183
benchmarks0.0190.0090.027
evalAllGenotypes0.3250.0230.348
example-missing-drivers0.3970.0220.419
examplePosets0.5460.0090.556
examplesFitnessEffects0.0800.0040.084
freq-dep-simul-examples0.0080.0020.010
mcfLs000
oncoSimulIndiv4.5120.8944.752
plot.fitnessEffects0.3230.0260.352
plot.oncosimul0.9130.1171.032
plotClonePhylog3.7980.3444.145
plotFitnessLandscape1.7780.0311.820
plotPoset0.1950.0060.207
poset0.2490.0060.257
rfitness4.6780.4275.116
samplePop1.0570.4971.006
simOGraph0.1420.0150.158
to_Magellan0.2830.0550.391