Index of /checkResults/release/bioc-LATEST/OmaDB/raw-results/tokay2

[ICO]NameLast modifiedSizeDescription

[DIR]Parent Directory  -  
[TXT]buildbin-out.txt27-Jan-2022 03:07 3.0K 
[   ]buildbin-summary.dcf27-Jan-2022 03:07 527  
[TXT]buildsrc-out.txt27-Jan-2022 03:07 835  
[   ]buildsrc-summary.dcf27-Jan-2022 03:07 450  
[TXT]checksrc-out.txt27-Jan-2022 03:07 4.3K 
[   ]checksrc-summary.dcf27-Jan-2022 03:07 455  
[TXT]install-out.txt27-Jan-2022 03:07 3.8K 
[   ]install-summary.dcf27-Jan-2022 03:07 622