Index of /checkResults/release/bioc-LATEST/OmaDB/raw-results/nebbiolo2

[ICO]NameLast modifiedSizeDescription

[DIR]Parent Directory  -  
[TXT]buildsrc-out.txt04-Dec-2021 03:04 798  
[   ]buildsrc-summary.dcf04-Dec-2021 03:04 411  
[TXT]checksrc-out.txt04-Dec-2021 03:04 3.4K 
[   ]checksrc-summary.dcf04-Dec-2021 03:04 416  
[TXT]install-out.txt04-Dec-2021 03:04 1.0K 
[   ]install-summary.dcf04-Dec-2021 03:04 255