Back to Multiple platform build/check report for BioC 3.14
ABCDEFGHIJKLMN[O]PQRSTUVWXYZ

This page was generated on 2021-11-29 15:04:37 -0500 (Mon, 29 Nov 2021).

All results for package OmaDB

To the developers/maintainers of the OmaDB package:
- Please allow up to 24 hours (and sometimes 48 hours) for your latest push to git@git.bioconductor.org:packages/OmaDB.git to
reflect on this report. See How and When does the builder pull? When will my changes propagate? here for more information.
- Make sure to use the following settings in order to reproduce any error or warning you see on this page.

raw results

Package 1321/2083HostnameOS / ArchINSTALLBUILDCHECKBUILD BIN
OmaDB 2.10.0  (landing page)
Klara Kaleb , Adrian Altenhoff
Snapshot Date: 2021-11-28 04:15:06 -0500 (Sun, 28 Nov 2021)
git_url: https://git.bioconductor.org/packages/OmaDB
git_branch: RELEASE_3_14
git_last_commit: 753099f
git_last_commit_date: 2021-10-26 12:40:14 -0500 (Tue, 26 Oct 2021)
nebbiolo2Linux (Ubuntu 20.04.3 LTS) / x86_64  OK    OK    OK  UNNEEDED, same version is already published
tokay2Windows Server 2012 R2 Standard / x64  OK    OK    OK    OK  UNNEEDED, same version is already published
machv2macOS 10.14.6 Mojave / x86_64  OK    OK    OK    OK  UNNEEDED, same version is already published

Results for Bioconductor software packages that depend directly on package OmaDB

QUICK STATSOS / ArchINSTALLBUILDCHECKBUILD BIN
nebbiolo2Linux (Ubuntu 20.04.3 LTS) / x86_64
001
001
0001
tokay2Windows Server 2012 R2 Standard / x64
001
001
0001
001
machv2macOS 10.14.6 Mojave / x86_64
001
001
0001
001
Package 1/1HostnameOS / ArchINSTALLBUILDCHECKBUILD BIN
PhyloProfile 1.8.0  (landing page)
Vinh Tran
git_last_commit: d625dd1
git_last_commit_date: 2021-10-26 12:53:22 -0500
nebbiolo2Linux (Ubuntu 20.04.3 LTS) / x86_64  OK    OK    OK  UNNEEDED, same version is already published
tokay2Windows Server 2012 R2 Standard / x64  OK    OK    OK    OK  UNNEEDED, same version is already published
machv2macOS 10.14.6 Mojave / x86_64  OK    OK    OK    OK  UNNEEDED, same version is already published