Back to Multiple platform build/check report for BioC 3.13
ABCDEFGHIJKLM[N]OPQRSTUVWXYZ

This page was generated on 2021-08-02 15:04:31 -0400 (Mon, 02 Aug 2021).

All results for package NormalyzerDE

To the developers/maintainers of the NormalyzerDE package:
- Please allow up to 24 hours (and sometimes 48 hours) for your latest push to git@git.bioconductor.org:packages/NormalyzerDE.git to
reflect on this report. See How and When does the builder pull? When will my changes propagate? here for more information.
- Make sure to use the following settings in order to reproduce any error or warning you see on this page.

raw results

Package 1278/2041HostnameOS / ArchINSTALLBUILDCHECKBUILD BIN
NormalyzerDE 1.10.0  (landing page)
Jakob Willforss
Snapshot Date: 2021-08-01 04:50:10 -0400 (Sun, 01 Aug 2021)
URL: https://git.bioconductor.org/packages/NormalyzerDE
Branch: RELEASE_3_13
Last Commit: 94eb4bc
Last Changed Date: 2021-05-19 12:37:47 -0400 (Wed, 19 May 2021)
nebbiolo1Linux (Ubuntu 20.04.2 LTS) / x86_64  OK    OK    OK  UNNEEDED, same version is already published
tokay2Windows Server 2012 R2 Standard / x64  OK    OK    OK    OK  UNNEEDED, same version is already published
machv2macOS 10.14.6 Mojave / x86_64  OK    OK    OK    OK  UNNEEDED, same version is already published