Back to Multiple platform build/check report for BioC 3.19:   simplified   long
ABCDEFGHIJKLM[N]OPQRSTUVWXYZ

This page was generated on 2024-07-19 17:37 -0400 (Fri, 19 Jul 2024).

HostnameOSArch (*)R versionInstalled pkgs
nebbiolo1Linux (Ubuntu 22.04.3 LTS)x86_644.4.1 (2024-06-14) -- "Race for Your Life" 4742
palomino7Windows Server 2022 Datacenterx644.4.1 (2024-06-14 ucrt) -- "Race for Your Life" 4484
merida1macOS 12.7.5 Montereyx86_644.4.1 (2024-06-14) -- "Race for Your Life" 4513
kjohnson1macOS 13.6.6 Venturaarm644.4.1 (2024-06-14) -- "Race for Your Life" 4462
Click on any hostname to see more info about the system (e.g. compilers)      (*) as reported by 'uname -p', except on Windows and Mac OS X

Package 1428/2300HostnameOS / ArchINSTALLBUILDCHECKBUILD BIN
NewWave 1.14.0  (landing page)
Federico Agostinis
Snapshot Date: 2024-07-17 14:00 -0400 (Wed, 17 Jul 2024)
git_url: https://git.bioconductor.org/packages/NewWave
git_branch: RELEASE_3_19
git_last_commit: 6e5903e
git_last_commit_date: 2024-04-30 11:29:21 -0400 (Tue, 30 Apr 2024)
nebbiolo1Linux (Ubuntu 22.04.3 LTS) / x86_64  OK    OK    OK  UNNEEDED, same version is already published
palomino7Windows Server 2022 Datacenter / x64  OK    OK    OK    OK  
merida1macOS 12.7.5 Monterey / x86_64  OK    OK    OK    OK  UNNEEDED, same version is already published
kjohnson1macOS 13.6.6 Ventura / arm64  OK    OK    OK    NA  


CHECK results for NewWave on nebbiolo1

To the developers/maintainers of the NewWave package:
- Allow up to 24 hours (and sometimes 48 hours) for your latest push to git@git.bioconductor.org:packages/NewWave.git to reflect on this report. See Troubleshooting Build Report for more information.
- Use the following Renviron settings to reproduce errors and warnings.
- If 'R CMD check' started to fail recently on the Linux builder(s) over a missing dependency, add the missing dependency to 'Suggests:' in your DESCRIPTION file. See Renviron.bioc for more information.

raw results


Summary

Package: NewWave
Version: 1.14.0
Command: /home/biocbuild/bbs-3.19-bioc/R/bin/R CMD check --install=check:NewWave.install-out.txt --library=/home/biocbuild/bbs-3.19-bioc/R/site-library --timings NewWave_1.14.0.tar.gz
StartedAt: 2024-07-18 02:11:40 -0400 (Thu, 18 Jul 2024)
EndedAt: 2024-07-18 02:16:50 -0400 (Thu, 18 Jul 2024)
EllapsedTime: 310.6 seconds
RetCode: 0
Status:   OK  
CheckDir: NewWave.Rcheck
Warnings: 0

Command output

##############################################################################
##############################################################################
###
### Running command:
###
###   /home/biocbuild/bbs-3.19-bioc/R/bin/R CMD check --install=check:NewWave.install-out.txt --library=/home/biocbuild/bbs-3.19-bioc/R/site-library --timings NewWave_1.14.0.tar.gz
###
##############################################################################
##############################################################################


* using log directory ‘/home/biocbuild/bbs-3.19-bioc/meat/NewWave.Rcheck’
* using R version 4.4.1 (2024-06-14)
* using platform: x86_64-pc-linux-gnu
* R was compiled by
    gcc (Ubuntu 11.4.0-1ubuntu1~22.04) 11.4.0
    GNU Fortran (Ubuntu 11.4.0-1ubuntu1~22.04) 11.4.0
* running under: Ubuntu 22.04.4 LTS
* using session charset: UTF-8
* checking for file ‘NewWave/DESCRIPTION’ ... OK
* checking extension type ... Package
* this is package ‘NewWave’ version ‘1.14.0’
* package encoding: UTF-8
* checking package namespace information ... OK
* checking package dependencies ... OK
* checking if this is a source package ... OK
* checking if there is a namespace ... OK
* checking for hidden files and directories ... OK
* checking for portable file names ... OK
* checking for sufficient/correct file permissions ... OK
* checking whether package ‘NewWave’ can be installed ... OK
* checking installed package size ... OK
* checking package directory ... OK
* checking ‘build’ directory ... OK
* checking DESCRIPTION meta-information ... OK
* checking top-level files ... OK
* checking for left-over files ... OK
* checking index information ... OK
* checking package subdirectories ... OK
* checking code files for non-ASCII characters ... OK
* checking R files for syntax errors ... OK
* checking whether the package can be loaded ... OK
* checking whether the package can be loaded with stated dependencies ... OK
* checking whether the package can be unloaded cleanly ... OK
* checking whether the namespace can be loaded with stated dependencies ... OK
* checking whether the namespace can be unloaded cleanly ... OK
* checking loading without being on the library search path ... OK
* checking dependencies in R code ... OK
* checking S3 generic/method consistency ... OK
* checking replacement functions ... OK
* checking foreign function calls ... OK
* checking R code for possible problems ... OK
* checking Rd files ... NOTE
checkRd: (-1) newSim.Rd:25: Lost braces in \itemize; \value handles \item{}{} directly
checkRd: (-1) newSim.Rd:26: Lost braces in \itemize; \value handles \item{}{} directly
checkRd: (-1) newSim.Rd:27: Lost braces in \itemize; \value handles \item{}{} directly
checkRd: (-1) newSim.Rd:28: Lost braces in \itemize; \value handles \item{}{} directly
* checking Rd metadata ... OK
* checking Rd cross-references ... OK
* checking for missing documentation entries ... OK
* checking for code/documentation mismatches ... OK
* checking Rd \usage sections ... NOTE
Documented arguments not in \usage in Rd file 'setup.Rd':
  ‘Y’

Functions with \usage entries need to have the appropriate \alias
entries, and all their arguments documented.
The \usage entries must correspond to syntactically valid R code.
See chapter ‘Writing R documentation files’ in the ‘Writing R
Extensions’ manual.
* checking Rd contents ... OK
* checking for unstated dependencies in examples ... OK
* checking files in ‘vignettes’ ... OK
* checking examples ... OK
* checking for unstated dependencies in ‘tests’ ... OK
* checking tests ...
  Running ‘testthat.R’
 OK
* checking for unstated dependencies in vignettes ... OK
* checking package vignettes ... OK
* checking re-building of vignette outputs ... OK
* checking PDF version of manual ... OK
* DONE

Status: 2 NOTEs
See
  ‘/home/biocbuild/bbs-3.19-bioc/meat/NewWave.Rcheck/00check.log’
for details.


Installation output

NewWave.Rcheck/00install.out

##############################################################################
##############################################################################
###
### Running command:
###
###   /home/biocbuild/bbs-3.19-bioc/R/bin/R CMD INSTALL NewWave
###
##############################################################################
##############################################################################


* installing to library ‘/home/biocbuild/bbs-3.19-bioc/R/site-library’
* installing *source* package ‘NewWave’ ...
** using staged installation
** R
** byte-compile and prepare package for lazy loading
** help
*** installing help indices
** building package indices
** installing vignettes
** testing if installed package can be loaded from temporary location
** testing if installed package can be loaded from final location
** testing if installed package keeps a record of temporary installation path
* DONE (NewWave)

Tests output

NewWave.Rcheck/tests/testthat.Rout


R version 4.4.1 (2024-06-14) -- "Race for Your Life"
Copyright (C) 2024 The R Foundation for Statistical Computing
Platform: x86_64-pc-linux-gnu

R is free software and comes with ABSOLUTELY NO WARRANTY.
You are welcome to redistribute it under certain conditions.
Type 'license()' or 'licence()' for distribution details.

R is a collaborative project with many contributors.
Type 'contributors()' for more information and
'citation()' on how to cite R or R packages in publications.

Type 'demo()' for some demos, 'help()' for on-line help, or
'help.start()' for an HTML browser interface to help.
Type 'q()' to quit R.

> library(testthat)
> library(NewWave)
Loading required package: SummarizedExperiment
Loading required package: MatrixGenerics
Loading required package: matrixStats

Attaching package: 'MatrixGenerics'

The following objects are masked from 'package:matrixStats':

    colAlls, colAnyNAs, colAnys, colAvgsPerRowSet, colCollapse,
    colCounts, colCummaxs, colCummins, colCumprods, colCumsums,
    colDiffs, colIQRDiffs, colIQRs, colLogSumExps, colMadDiffs,
    colMads, colMaxs, colMeans2, colMedians, colMins, colOrderStats,
    colProds, colQuantiles, colRanges, colRanks, colSdDiffs, colSds,
    colSums2, colTabulates, colVarDiffs, colVars, colWeightedMads,
    colWeightedMeans, colWeightedMedians, colWeightedSds,
    colWeightedVars, rowAlls, rowAnyNAs, rowAnys, rowAvgsPerColSet,
    rowCollapse, rowCounts, rowCummaxs, rowCummins, rowCumprods,
    rowCumsums, rowDiffs, rowIQRDiffs, rowIQRs, rowLogSumExps,
    rowMadDiffs, rowMads, rowMaxs, rowMeans2, rowMedians, rowMins,
    rowOrderStats, rowProds, rowQuantiles, rowRanges, rowRanks,
    rowSdDiffs, rowSds, rowSums2, rowTabulates, rowVarDiffs, rowVars,
    rowWeightedMads, rowWeightedMeans, rowWeightedMedians,
    rowWeightedSds, rowWeightedVars

Loading required package: GenomicRanges
Loading required package: stats4
Loading required package: BiocGenerics

Attaching package: 'BiocGenerics'

The following objects are masked from 'package:stats':

    IQR, mad, sd, var, xtabs

The following objects are masked from 'package:base':

    Filter, Find, Map, Position, Reduce, anyDuplicated, aperm, append,
    as.data.frame, basename, cbind, colnames, dirname, do.call,
    duplicated, eval, evalq, get, grep, grepl, intersect, is.unsorted,
    lapply, mapply, match, mget, order, paste, pmax, pmax.int, pmin,
    pmin.int, rank, rbind, rownames, sapply, setdiff, table, tapply,
    union, unique, unsplit, which.max, which.min

Loading required package: S4Vectors

Attaching package: 'S4Vectors'

The following object is masked from 'package:utils':

    findMatches

The following objects are masked from 'package:base':

    I, expand.grid, unname

Loading required package: IRanges
Loading required package: GenomeInfoDb
Loading required package: Biobase
Welcome to Bioconductor

    Vignettes contain introductory material; view with
    'browseVignettes()'. To cite Bioconductor, see
    'citation("Biobase")', and for packages 'citation("pkgname")'.


Attaching package: 'Biobase'

The following object is masked from 'package:MatrixGenerics':

    rowMedians

The following objects are masked from 'package:matrixStats':

    anyMissing, rowMedians

> Sys.setenv("R_TESTS" = "")
> test_check("NewWave")
Time of setup
   user  system elapsed 
  0.011   0.000   0.290 
Time of initialization
   user  system elapsed 
  0.003   0.000   0.139 
Time of dispersion optimization
   user  system elapsed 
  0.001   0.000   0.001 
Time of right optimization
   user  system elapsed 
  0.001   0.000   0.135 
Time of left optimization
   user  system elapsed 
  0.001   0.000   0.078 
Time of dispersion optimization
   user  system elapsed 
  0.002   0.000   0.001 
Time of right optimization
   user  system elapsed 
  0.001   0.000   0.015 
Time of left optimization
   user  system elapsed 
  0.001   0.000   0.052 
[ FAIL 0 | WARN 0 | SKIP 1 | PASS 53 ]

══ Skipped tests (1) ═══════════════════════════════════════════════════════════
• empty test (1): 'test_design.R:5:1'

[ FAIL 0 | WARN 0 | SKIP 1 | PASS 53 ]
> 
> proc.time()
   user  system elapsed 
 12.086   1.216  43.914 

Example timings

NewWave.Rcheck/NewWave-Ex.timings

nameusersystemelapsed
newAIC0.0060.0000.006
newAlpha0.0020.0000.002
newBIC0.0190.0000.019
newBeta0.0010.0000.002
newEpsilon_W0.0010.0000.001
newEpsilon_alpha0.0010.0000.001
newEpsilon_beta0.0010.0000.001
newEpsilon_gamma0.0020.0000.001
newEpsilon_zeta0.0000.0020.001
newFit0.2180.0312.043
newGamma0.0050.0000.005
newLogMu0.0020.0060.006
newMu0.0030.0020.006
newPhi0.0030.0010.005
newSim0.0030.0100.013
newTheta0.0010.0010.002
newV0.0000.0020.002
newW0.0020.0000.002
newWave0.3480.0491.349
newX0.0010.0000.002
newZeta0.0000.0010.002
newloglik0.0000.0010.002
newmodel0.0000.0010.001
newpenalty0.0010.0000.001
numberFactors0.0020.0010.001
numberFeatures0.0000.0020.002
numberParams0.0000.0010.001
numberSamples0.0020.0000.002