Back to Multiple platform build/check report for BioC 3.13
ABCDEFGHIJKLM[N]OPQRSTUVWXYZ

This page was generated on 2021-07-23 15:05:22 -0400 (Fri, 23 Jul 2021).

All results for package NCIgraph

To the developers/maintainers of the NCIgraph package:
- Please allow up to 24 hours (and sometimes 48 hours) for your latest push to git@git.bioconductor.org:packages/NCIgraph.git to
reflect on this report. See How and When does the builder pull? When will my changes propagate? here for more information.
- Make sure to use the following settings in order to reproduce any error or warning you see on this page.

raw results

Package 1253/2041HostnameOS / ArchINSTALLBUILDCHECKBUILD BIN
NCIgraph 1.40.0  (landing page)
Laurent Jacob
Snapshot Date: 2021-07-22 04:50:13 -0400 (Thu, 22 Jul 2021)
URL: https://git.bioconductor.org/packages/NCIgraph
Branch: RELEASE_3_13
Last Commit: b75cc38
Last Changed Date: 2021-05-19 11:48:14 -0400 (Wed, 19 May 2021)
nebbiolo1Linux (Ubuntu 20.04.2 LTS) / x86_64  OK    OK    OK  UNNEEDED, same version is already published
tokay2Windows Server 2012 R2 Standard / x64... NOT SUPPORTED ...
machv2macOS 10.14.6 Mojave / x86_64... NOT SUPPORTED ...

Results for Bioconductor software packages that depend directly on package NCIgraph

QUICK STATSOS / ArchINSTALLBUILDCHECKBUILD BIN
nebbiolo1Linux (Ubuntu 20.04.2 LTS) / x86_64
001
001
0001
tokay2Windows Server 2012 R2 Standard / x64
000
000
0000
000
machv2macOS 10.14.6 Mojave / x86_64
000
000
0000
000
Package 1/1HostnameOS / ArchINSTALLBUILDCHECKBUILD BIN
DEGraph 1.44.0  (landing page)
Laurent Jacob
Last Commit: 49e7998
Last Changed Date: 2021-05-19 11:46:48 -0400
nebbiolo1Linux (Ubuntu 20.04.2 LTS) / x86_64  OK    OK    OK  UNNEEDED, same version is already published
tokay2Windows Server 2012 R2 Standard / x64... NOT SUPPORTED ...
machv2macOS 10.14.6 Mojave / x86_64... NOT SUPPORTED ...