Back to Multiple platform build/check report for BioC 3.19:   simplified   long
ABCDEFGHIJKLM[N]OPQRSTUVWXYZ

This page was generated on 2024-06-21 17:38 -0400 (Fri, 21 Jun 2024).

HostnameOSArch (*)R versionInstalled pkgs
nebbiolo1Linux (Ubuntu 22.04.3 LTS)x86_644.4.0 (2024-04-24) -- "Puppy Cup" 4758
palomino3Windows Server 2022 Datacenterx644.4.0 (2024-04-24 ucrt) -- "Puppy Cup" 4492
merida1macOS 12.7.4 Montereyx86_644.4.0 (2024-04-24) -- "Puppy Cup" 4506
kjohnson1macOS 13.6.6 Venturaarm644.4.0 (2024-04-24) -- "Puppy Cup" 4464
Click on any hostname to see more info about the system (e.g. compilers)      (*) as reported by 'uname -p', except on Windows and Mac OS X

Package 1400/2300HostnameOS / ArchINSTALLBUILDCHECKBUILD BIN
NADfinder 1.28.0  (landing page)
Jianhong Ou
Snapshot Date: 2024-06-19 14:00 -0400 (Wed, 19 Jun 2024)
git_url: https://git.bioconductor.org/packages/NADfinder
git_branch: RELEASE_3_19
git_last_commit: 6a50281
git_last_commit_date: 2024-04-30 10:57:20 -0400 (Tue, 30 Apr 2024)
nebbiolo1Linux (Ubuntu 22.04.3 LTS) / x86_64  OK    OK    OK  UNNEEDED, same version is already published
palomino3Windows Server 2022 Datacenter / x64  OK    OK    OK    OK  UNNEEDED, same version is already published
merida1macOS 12.7.4 Monterey / x86_64  OK    OK    OK    OK  UNNEEDED, same version is already published
kjohnson1macOS 13.6.6 Ventura / arm64  OK    OK    OK    OK  UNNEEDED, same version is already published


BUILD results for NADfinder on nebbiolo1

To the developers/maintainers of the NADfinder package:
- Allow up to 24 hours (and sometimes 48 hours) for your latest push to git@git.bioconductor.org:packages/NADfinder.git to reflect on this report. See Troubleshooting Build Report for more information.
- Use the following Renviron settings to reproduce errors and warnings.
- If 'R CMD check' started to fail recently on the Linux builder(s) over a missing dependency, add the missing dependency to 'Suggests:' in your DESCRIPTION file. See Renviron.bioc for more information.

raw results


Summary

Package: NADfinder
Version: 1.28.0
Command: /home/biocbuild/bbs-3.19-bioc/R/bin/R CMD build --keep-empty-dirs --no-resave-data NADfinder
StartedAt: 2024-06-19 18:34:55 -0400 (Wed, 19 Jun 2024)
EndedAt: 2024-06-19 18:37:44 -0400 (Wed, 19 Jun 2024)
EllapsedTime: 169.3 seconds
RetCode: 0
Status:   OK  
PackageFile: NADfinder_1.28.0.tar.gz
PackageFileSize: 5.945 MiB

Command output

##############################################################################
##############################################################################
###
### Running command:
###
###   /home/biocbuild/bbs-3.19-bioc/R/bin/R CMD build --keep-empty-dirs --no-resave-data NADfinder
###
##############################################################################
##############################################################################


* checking for file ‘NADfinder/DESCRIPTION’ ... OK
* preparing ‘NADfinder’:
* checking DESCRIPTION meta-information ... OK
* installing the package to build vignettes
* creating vignettes ... OK
* checking for LF line-endings in source and make files and shell scripts
* checking for empty or unneeded directories
  NB: this package now depends on R (>= 3.5.0)
  WARNING: Added dependency on R >= 3.5.0 because serialized objects in
  serialize/load version 3 cannot be read in older versions of R.
  File(s) containing such objects:
    ‘NADfinder/data/single.count.rda’
    ‘NADfinder/data/triplicate.count.rda’
    ‘NADfinder/inst/extdata/ideo.mm10.rds’
* building ‘NADfinder_1.28.0.tar.gz’