Back to Multiple platform build/check report for BioC 3.13
ABCDEFGHIJKL[M]NOPQRSTUVWXYZ

This page was generated on 2021-09-17 15:06:12 -0400 (Fri, 17 Sep 2021).

BUILD BIN results for MiRaGE on tokay2

To the developers/maintainers of the MiRaGE package:
- Please allow up to 24 hours (and sometimes 48 hours) for your latest push to git@git.bioconductor.org:packages/MiRaGE.git to
reflect on this report. See How and When does the builder pull? When will my changes propagate? here for more information.
- Make sure to use the following settings in order to reproduce any error or warning you see on this page.

raw results

Package 1145/2041HostnameOS / ArchINSTALLBUILDCHECKBUILD BIN
MiRaGE 1.34.0  (landing page)
Y-h. Taguchi
Snapshot Date: 2021-09-16 04:50:11 -0400 (Thu, 16 Sep 2021)
git_url: https://git.bioconductor.org/packages/MiRaGE
git_branch: RELEASE_3_13
git_last_commit: 726e7d4
git_last_commit_date: 2021-05-19 11:52:32 -0400 (Wed, 19 May 2021)
nebbiolo1Linux (Ubuntu 20.04.2 LTS) / x86_64  OK    OK    WARNINGS  UNNEEDED, same version is already published
tokay2Windows Server 2012 R2 Standard / x64  OK    OK    WARNINGS    OK  UNNEEDED, same version is already published
machv2macOS 10.14.6 Mojave / x86_64  OK    OK    WARNINGS    OK  UNNEEDED, same version is already published

Summary

Package: MiRaGE
Version: 1.34.0
Command: rm -rf MiRaGE.buildbin-libdir && mkdir MiRaGE.buildbin-libdir && C:\Users\biocbuild\bbs-3.13-bioc\R\bin\R.exe CMD INSTALL --merge-multiarch --build --library=MiRaGE.buildbin-libdir MiRaGE_1.34.0.tar.gz
StartedAt: 2021-09-17 10:34:58 -0400 (Fri, 17 Sep 2021)
EndedAt: 2021-09-17 10:36:30 -0400 (Fri, 17 Sep 2021)
EllapsedTime: 92.3 seconds
RetCode: 0
Status:   OK  
PackageFile: MiRaGE_1.34.0.zip
PackageFileSize: 1.225 MiB

Command output

##############################################################################
##############################################################################
###
### Running command:
###
###   rm -rf MiRaGE.buildbin-libdir && mkdir MiRaGE.buildbin-libdir && C:\Users\biocbuild\bbs-3.13-bioc\R\bin\R.exe CMD INSTALL --merge-multiarch --build --library=MiRaGE.buildbin-libdir MiRaGE_1.34.0.tar.gz
###
##############################################################################
##############################################################################



install for i386

* installing *source* package 'MiRaGE' ...
** using staged installation
** R
** data
** inst
** byte-compile and prepare package for lazy loading
** help
*** installing help indices
  converting help for package 'MiRaGE'
    finding HTML links ... done
    HS_conv_id                              html  
    MM_conv_id                              html  
    MiRaGE                                  html  
    TBL2_HS_gen                             html  
    TBL2_MM_gen                             html  
    gene_exp                                html  
    getMiRaGEData                           html  
    id_conv_gen                             html  
** building package indices
** installing vignettes
** testing if installed package can be loaded from temporary location
** testing if installed package can be loaded from final location
** testing if installed package keeps a record of temporary installation path

install for x64

* installing *source* package 'MiRaGE' ...
** testing if installed package can be loaded
* MD5 sums
packaged installation of 'MiRaGE' as MiRaGE_1.34.0.zip
* DONE (MiRaGE)