Index of /checkResults/release/bioc-LATEST/MiRaGE/raw-results/machv2

[ICO]NameLast modifiedSizeDescription

[DIR]Parent Directory  -  
[   ]install-summary.dcf20-Jan-2022 03:08 267  
[   ]buildsrc-summary.dcf20-Jan-2022 03:08 425  
[   ]checksrc-summary.dcf20-Jan-2022 03:08 446  
[   ]buildbin-summary.dcf20-Jan-2022 03:08 524  
[TXT]buildsrc-out.txt20-Jan-2022 03:08 875  
[TXT]install-out.txt20-Jan-2022 03:08 1.0K 
[TXT]buildbin-out.txt20-Jan-2022 03:08 1.1K 
[TXT]checksrc-out.txt20-Jan-2022 03:08 8.1K