Index of /checkResults/release/bioc-LATEST/MiRaGE/raw-results/machv2

[ICO]NameLast modifiedSizeDescription

[DIR]Parent Directory  -  
[TXT]buildbin-out.txt04-Dec-2021 03:05 1.1K 
[   ]buildbin-summary.dcf04-Dec-2021 03:05 524  
[TXT]buildsrc-out.txt04-Dec-2021 03:05 875  
[   ]buildsrc-summary.dcf04-Dec-2021 03:05 424  
[TXT]checksrc-out.txt04-Dec-2021 03:05 8.1K 
[   ]checksrc-summary.dcf04-Dec-2021 03:05 446  
[TXT]install-out.txt04-Dec-2021 03:05 1.0K 
[   ]install-summary.dcf04-Dec-2021 03:05 267