Index of /checkResults/release/bioc-LATEST/MiRaGE/raw-results
Name
Last modified
Size
Description
Parent Directory
-
info.dcf
09-Aug-2022 02:20
265
merida1/
09-Aug-2022 02:20
-
nebbiolo1/
09-Aug-2022 02:19
-
palomino3/
04-Aug-2022 02:21
-
riesling1/
19-Mar-2022 00:08
-