Back to Multiple platform build/check report for BioC 3.13
ABCDEFGHIJKL[M]NOPQRSTUVWXYZ

This page was generated on 2021-09-17 15:05:45 -0400 (Fri, 17 Sep 2021).

BUILD results for MiRaGE on nebbiolo1

To the developers/maintainers of the MiRaGE package:
- Please allow up to 24 hours (and sometimes 48 hours) for your latest push to git@git.bioconductor.org:packages/MiRaGE.git to
reflect on this report. See How and When does the builder pull? When will my changes propagate? here for more information.
- Make sure to use the following settings in order to reproduce any error or warning you see on this page.

raw results

Package 1145/2041HostnameOS / ArchINSTALLBUILDCHECKBUILD BIN
MiRaGE 1.34.0  (landing page)
Y-h. Taguchi
Snapshot Date: 2021-09-16 04:50:11 -0400 (Thu, 16 Sep 2021)
git_url: https://git.bioconductor.org/packages/MiRaGE
git_branch: RELEASE_3_13
git_last_commit: 726e7d4
git_last_commit_date: 2021-05-19 11:52:32 -0400 (Wed, 19 May 2021)
nebbiolo1Linux (Ubuntu 20.04.2 LTS) / x86_64  OK    OK    WARNINGS  UNNEEDED, same version is already published
tokay2Windows Server 2012 R2 Standard / x64  OK    OK    WARNINGS    OK  UNNEEDED, same version is already published
machv2macOS 10.14.6 Mojave / x86_64  OK    OK    WARNINGS    OK  UNNEEDED, same version is already published

Summary

Package: MiRaGE
Version: 1.34.0
Command: /home/biocbuild/bbs-3.13-bioc/R/bin/R CMD build --keep-empty-dirs --no-resave-data MiRaGE
StartedAt: 2021-09-16 07:43:39 -0400 (Thu, 16 Sep 2021)
EndedAt: 2021-09-16 07:44:37 -0400 (Thu, 16 Sep 2021)
EllapsedTime: 58.5 seconds
RetCode: 0
Status:   OK  
PackageFile: MiRaGE_1.34.0.tar.gz
PackageFileSize: 1.176 MiB

Command output

##############################################################################
##############################################################################
###
### Running command:
###
###   /home/biocbuild/bbs-3.13-bioc/R/bin/R CMD build --keep-empty-dirs --no-resave-data MiRaGE
###
##############################################################################
##############################################################################


* checking for file ‘MiRaGE/DESCRIPTION’ ... OK
* preparing ‘MiRaGE’:
* checking DESCRIPTION meta-information ... OK
* installing the package to build vignettes
* creating vignettes ... OK
* checking for LF line-endings in source and make files and shell scripts
* checking for empty or unneeded directories
* looking to see if a ‘data/datalist’ file should be added
* building ‘MiRaGE_1.34.0.tar.gz’