Index of /checkResults/release/bioc-LATEST/MethCP/raw-results/tokay2

[ICO]NameLast modifiedSizeDescription

[DIR]Parent Directory  -  
[TXT]buildbin-out.txt15-Jan-2022 03:06 1.7K 
[   ]buildbin-summary.dcf15-Jan-2022 03:06 529  
[TXT]buildsrc-out.txt15-Jan-2022 03:06 876  
[   ]buildsrc-summary.dcf15-Jan-2022 03:06 453  
[TXT]checksrc-out.txt15-Jan-2022 03:06 4.6K 
[   ]checksrc-summary.dcf15-Jan-2022 03:06 456  
[TXT]install-out.txt15-Jan-2022 03:06 2.4K 
[   ]install-summary.dcf15-Jan-2022 03:06 626