![]() | Name | Last modified | Size | Description |
---|---|---|---|---|
![]() | Parent Directory | - | ||
![]() | buildbin-out.txt | 28-Mar-2023 00:05 | 1.2K | |
![]() | buildbin-summary.dcf | 28-Mar-2023 00:05 | 509 | |
![]() | buildsrc-out.txt | 28-Mar-2023 00:05 | 871 | |
![]() | buildsrc-summary.dcf | 28-Mar-2023 00:05 | 449 | |
![]() | checksrc-out.txt | 28-Mar-2023 00:05 | 5.3K | |
![]() | checksrc-summary.dcf | 28-Mar-2023 00:05 | 447 | |
![]() | install-out.txt | 28-Mar-2023 00:05 | 1.0K | |
![]() | install-summary.dcf | 28-Mar-2023 00:05 | 266 | |