Index of /checkResults/release/bioc-LATEST/MethCP/raw-results/nebbiolo2

[ICO]NameLast modifiedSizeDescription

[DIR]Parent Directory  -  
[TXT]buildsrc-out.txt15-Jan-2022 03:05 841  
[   ]buildsrc-summary.dcf15-Jan-2022 03:05 413  
[TXT]checksrc-out.txt15-Jan-2022 03:05 4.4K 
[   ]checksrc-summary.dcf15-Jan-2022 03:05 422  
[TXT]install-out.txt15-Jan-2022 03:05 944  
[   ]install-summary.dcf15-Jan-2022 03:05 256