Index of /checkResults/release/bioc-LATEST/MethCP/raw-results/machv2

[ICO]NameLast modifiedSizeDescription

[DIR]Parent Directory  -  
[TXT]buildbin-out.txt27-Jan-2022 03:08 1.1K 
[   ]buildbin-summary.dcf27-Jan-2022 03:08 521  
[TXT]buildsrc-out.txt27-Jan-2022 03:08 851  
[   ]buildsrc-summary.dcf27-Jan-2022 03:08 423  
[TXT]checksrc-out.txt27-Jan-2022 03:08 4.5K 
[   ]checksrc-summary.dcf27-Jan-2022 03:08 442  
[TXT]install-out.txt27-Jan-2022 03:08 1.0K 
[   ]install-summary.dcf27-Jan-2022 03:08 266