Index of /checkResults/release/bioc-LATEST/MethCP/raw-results/lconway

[ICO]NameLast modifiedSizeDescription

[DIR]Parent Directory  -  
[TXT]buildbin-out.txt31-Jan-2023 01:08 1.2K 
[   ]buildbin-summary.dcf31-Jan-2023 01:08 522  
[TXT]buildsrc-out.txt31-Jan-2023 01:08 852  
[   ]buildsrc-summary.dcf31-Jan-2023 01:08 425  
[TXT]checksrc-out.txt31-Jan-2023 01:08 4.9K 
[   ]checksrc-summary.dcf31-Jan-2023 01:08 444  
[TXT]install-out.txt31-Jan-2023 01:08 1.0K 
[   ]install-summary.dcf31-Jan-2023 01:08 267