Index of /checkResults/release/bioc-LATEST/MethCP/raw-results

[ICO]NameLast modifiedSizeDescription

[DIR]Parent Directory  -  
[DIR]kjohnson/12-Jul-2022 00:06 -  
[DIR]nebbiolo2/04-Dec-2022 01:05 -  
[DIR]palomino4/04-Dec-2022 01:06 -  
[   ]info.dcf04-Dec-2022 01:08 273  
[DIR]lconway/04-Dec-2022 01:08 -