Back to Multiple platform build/check report for BioC 3.16
ABCDEFGHIJKL[M]NOPQRSTUVWXYZ

This page was generated on 2023-02-01 11:07:15 -0500 (Wed, 01 Feb 2023).

HostnameOSArch (*)R versionInstalled pkgs
nebbiolo2Linux (Ubuntu 20.04.5 LTS)x86_644.2.2 (2022-10-31) -- "Innocent and Trusting" 4511
palomino4Windows Server 2022 Datacenterx644.2.2 (2022-10-31 ucrt) -- "Innocent and Trusting" 4289
lconwaymacOS 12.5.1 Montereyx86_644.2.2 (2022-10-31) -- "Innocent and Trusting" 4318
Click on any hostname to see more info about the system (e.g. compilers)      (*) as reported by 'uname -p', except on Windows and Mac OS X

BUILD results for MethCP on palomino4


To the developers/maintainers of the MethCP package:
- Please allow up to 24 hours (and sometimes 48 hours) for your latest push to git@git.bioconductor.org:packages/MethCP.git to
reflect on this report. See How and When does the builder pull? When will my changes propagate? for more information.
- Make sure to use the following settings in order to reproduce any error or warning you see on this page.

raw results

Package 1162/2183HostnameOS / ArchINSTALLBUILDCHECKBUILD BIN
MethCP 1.12.0  (landing page)
Boying Gong
Snapshot Date: 2023-01-31 14:00:04 -0500 (Tue, 31 Jan 2023)
git_url: https://git.bioconductor.org/packages/MethCP
git_branch: RELEASE_3_16
git_last_commit: cc700d1
git_last_commit_date: 2022-11-01 11:20:49 -0500 (Tue, 01 Nov 2022)
nebbiolo2Linux (Ubuntu 20.04.5 LTS) / x86_64  OK    OK    ERROR  
palomino4Windows Server 2022 Datacenter / x64  OK    OK    ERROR    OK  
lconwaymacOS 12.5.1 Monterey / x86_64  OK    OK    ERROR    OK  

Summary

Package: MethCP
Version: 1.12.0
Command: chmod a+r MethCP -R && F:\biocbuild\bbs-3.16-bioc\R\bin\R.exe CMD build --keep-empty-dirs --no-resave-data MethCP
StartedAt: 2023-01-31 19:48:46 -0500 (Tue, 31 Jan 2023)
EndedAt: 2023-01-31 19:55:10 -0500 (Tue, 31 Jan 2023)
EllapsedTime: 384.0 seconds
RetCode: 0
Status:   OK  
PackageFile: MethCP_1.12.0.tar.gz
PackageFileSize: 4.384 MiB

Command output

##############################################################################
##############################################################################
###
### Running command:
###
###   chmod a+r MethCP -R && F:\biocbuild\bbs-3.16-bioc\R\bin\R.exe CMD build --keep-empty-dirs --no-resave-data MethCP
###
##############################################################################
##############################################################################


* checking for file 'MethCP/DESCRIPTION' ... OK
* preparing 'MethCP':
* checking DESCRIPTION meta-information ... OK
* installing the package to build vignettes
* creating vignettes ... OK
* checking for LF line-endings in source and make files and shell scripts
* checking for empty or unneeded directories
Omitted 'LazyData' from DESCRIPTION
* building 'MethCP_1.12.0.tar.gz'