Back to Multiple platform build/check report for BioC 3.16:   simplified   long
ABCDEFGHIJKL[M]NOPQRSTUVWXYZ

This page was generated on 2023-02-07 11:06:54 -0500 (Tue, 07 Feb 2023).

HostnameOSArch (*)R versionInstalled pkgs
nebbiolo2Linux (Ubuntu 20.04.5 LTS)x86_644.2.2 (2022-10-31) -- "Innocent and Trusting" 4511
palomino4Windows Server 2022 Datacenterx644.2.2 (2022-10-31 ucrt) -- "Innocent and Trusting" 4289
lconwaymacOS 12.5.1 Montereyx86_644.2.2 (2022-10-31) -- "Innocent and Trusting" 4318
Click on any hostname to see more info about the system (e.g. compilers)      (*) as reported by 'uname -p', except on Windows and Mac OS X

INSTALL results for MethCP on lconway


To the developers/maintainers of the MethCP package:
- Please allow up to 24 hours (and sometimes 48 hours) for your latest push to git@git.bioconductor.org:packages/MethCP.git to
reflect on this report. See How and When does the builder pull? When will my changes propagate? for more information.
- Make sure to use the following settings in order to reproduce any error or warning you see on this page.

raw results

Package 1162/2183HostnameOS / ArchINSTALLBUILDCHECKBUILD BIN
MethCP 1.12.0  (landing page)
Boying Gong
Snapshot Date: 2023-02-06 14:00:04 -0500 (Mon, 06 Feb 2023)
git_url: https://git.bioconductor.org/packages/MethCP
git_branch: RELEASE_3_16
git_last_commit: cc700d1
git_last_commit_date: 2022-11-01 11:20:49 -0500 (Tue, 01 Nov 2022)
nebbiolo2Linux (Ubuntu 20.04.5 LTS) / x86_64  OK    OK    ERROR  
palomino4Windows Server 2022 Datacenter / x64  OK    OK    ERROR    OK  
lconwaymacOS 12.5.1 Monterey / x86_64  OK    OK    ERROR    OK  

Summary

Package: MethCP
Version: 1.12.0
Command: /Library/Frameworks/R.framework/Resources/bin/R CMD INSTALL MethCP
StartedAt: 2023-02-06 15:38:09 -0500 (Mon, 06 Feb 2023)
EndedAt: 2023-02-06 15:39:01 -0500 (Mon, 06 Feb 2023)
EllapsedTime: 52.0 seconds
RetCode: 0
Status:   OK  

Command output

##############################################################################
##############################################################################
###
### Running command:
###
###   /Library/Frameworks/R.framework/Resources/bin/R CMD INSTALL MethCP
###
##############################################################################
##############################################################################


* installing to library ‘/Library/Frameworks/R.framework/Versions/4.2/Resources/library’
* installing *source* package ‘MethCP’ ...
** using staged installation
** R
** inst
** byte-compile and prepare package for lazy loading
Note: possible error in 'DMLtest(o, group1, group2, ': unused argument (BPPARAM = bpparam()) 
** help
*** installing help indices
** building package indices
** installing vignettes
** testing if installed package can be loaded from temporary location
** testing if installed package can be loaded from final location
** testing if installed package keeps a record of temporary installation path
* DONE (MethCP)