Back to Multiple platform build/check report for BioC 3.13
ABCDEFGHIJKL[M]NOPQRSTUVWXYZ

This page was generated on 2021-09-15 15:05:34 -0400 (Wed, 15 Sep 2021).

BUILD BIN results for MeSHDbi on tokay2

To the developers/maintainers of the MeSHDbi package:
- Please allow up to 24 hours (and sometimes 48 hours) for your latest push to git@git.bioconductor.org:packages/MeSHDbi.git to
reflect on this report. See How and When does the builder pull? When will my changes propagate? here for more information.
- Make sure to use the following settings in order to reproduce any error or warning you see on this page.

raw results

Package 1071/2041HostnameOS / ArchINSTALLBUILDCHECKBUILD BIN
MeSHDbi 1.28.0  (landing page)
Koki Tsuyuzaki
Snapshot Date: 2021-09-14 04:50:06 -0400 (Tue, 14 Sep 2021)
git_url: https://git.bioconductor.org/packages/MeSHDbi
git_branch: RELEASE_3_13
git_last_commit: 5e396b6
git_last_commit_date: 2021-05-19 12:04:49 -0400 (Wed, 19 May 2021)
nebbiolo1Linux (Ubuntu 20.04.2 LTS) / x86_64  OK    OK    OK  UNNEEDED, same version is already published
tokay2Windows Server 2012 R2 Standard / x64  OK    OK    OK    OK  UNNEEDED, same version is already published
machv2macOS 10.14.6 Mojave / x86_64  OK    OK    OK    OK  UNNEEDED, same version is already published

Summary

Package: MeSHDbi
Version: 1.28.0
Command: rm -rf MeSHDbi.buildbin-libdir && mkdir MeSHDbi.buildbin-libdir && C:\Users\biocbuild\bbs-3.13-bioc\R\bin\R.exe CMD INSTALL --merge-multiarch --build --library=MeSHDbi.buildbin-libdir MeSHDbi_1.28.0.tar.gz
StartedAt: 2021-09-15 09:51:10 -0400 (Wed, 15 Sep 2021)
EndedAt: 2021-09-15 09:52:43 -0400 (Wed, 15 Sep 2021)
EllapsedTime: 93.3 seconds
RetCode: 0
Status:   OK  
PackageFile: MeSHDbi_1.28.0.zip
PackageFileSize: 457.9 KiB

Command output

##############################################################################
##############################################################################
###
### Running command:
###
###   rm -rf MeSHDbi.buildbin-libdir && mkdir MeSHDbi.buildbin-libdir && C:\Users\biocbuild\bbs-3.13-bioc\R\bin\R.exe CMD INSTALL --merge-multiarch --build --library=MeSHDbi.buildbin-libdir MeSHDbi_1.28.0.tar.gz
###
##############################################################################
##############################################################################



install for i386

* installing *source* package 'MeSHDbi' ...
** using staged installation
** R
** data
** inst
** byte-compile and prepare package for lazy loading
Creating a new generic function for 'packageName' in package 'MeSHDbi'
** help
*** installing help indices
  converting help for package 'MeSHDbi'
    finding HTML links ... done
    MeSHDb                                  html  
    PAO1                                    html  
    listDatabases                           html  
    makeMeSHPackage                         html  
    meshVersion                             html  
    metaPAO1                                html  
    nomenclature                            html  
    packageName                             html  
** building package indices
** installing vignettes
** testing if installed package can be loaded from temporary location
** testing if installed package can be loaded from final location
** testing if installed package keeps a record of temporary installation path

install for x64

* installing *source* package 'MeSHDbi' ...
** testing if installed package can be loaded
* MD5 sums
packaged installation of 'MeSHDbi' as MeSHDbi_1.28.0.zip
* DONE (MeSHDbi)