Index of /checkResults/release/bioc-LATEST/MeSHDbi/raw-results/tokay2

[ICO]NameLast modifiedSizeDescription

[DIR]Parent Directory  -  
[TXT]install-out.txt20-Jan-2022 03:06 2.0K 
[   ]install-summary.dcf20-Jan-2022 03:06 640  
[TXT]buildsrc-out.txt20-Jan-2022 03:06 845  
[   ]buildsrc-summary.dcf20-Jan-2022 03:06 457  
[TXT]checksrc-out.txt20-Jan-2022 03:06 3.5K 
[   ]checksrc-summary.dcf20-Jan-2022 03:06 462  
[TXT]buildbin-out.txt20-Jan-2022 03:06 1.3K 
[   ]buildbin-summary.dcf20-Jan-2022 03:06 539