Index of /checkResults/release/bioc-LATEST/MeSHDbi/raw-results/tokay2

[ICO]NameLast modifiedSizeDescription

[DIR]Parent Directory  -  
[TXT]buildbin-out.txt04-Dec-2021 03:05 1.3K 
[   ]buildbin-summary.dcf04-Dec-2021 03:05 539  
[TXT]buildsrc-out.txt04-Dec-2021 03:05 845  
[   ]buildsrc-summary.dcf04-Dec-2021 03:05 457  
[TXT]checksrc-out.txt04-Dec-2021 03:05 3.5K 
[   ]checksrc-summary.dcf04-Dec-2021 03:05 462  
[TXT]install-out.txt04-Dec-2021 03:05 2.0K 
[   ]install-summary.dcf04-Dec-2021 03:05 641