Index of /checkResults/release/bioc-LATEST/MeSHDbi/raw-results/nebbiolo1

[ICO]NameLast modifiedSizeDescription

[DIR]Parent Directory  -  
[TXT]buildsrc-out.txt16-Oct-2021 04:05 869  
[   ]buildsrc-summary.dcf16-Oct-2021 04:05 417  
[TXT]checksrc-out.txt16-Oct-2021 04:05 3.4K 
[   ]checksrc-summary.dcf16-Oct-2021 04:05 423  
[TXT]install-out.txt16-Oct-2021 04:05 1.0K 
[   ]install-summary.dcf16-Oct-2021 04:05 259