Index of /checkResults/release/bioc-LATEST/MeSHDbi/raw-results/machv2

[ICO]NameLast modifiedSizeDescription

[DIR]Parent Directory  -  
[   ]install-summary.dcf27-Nov-2021 05:05 269  
[   ]buildsrc-summary.dcf27-Nov-2021 05:05 427  
[   ]checksrc-summary.dcf27-Nov-2021 05:05 444  
[   ]buildbin-summary.dcf27-Nov-2021 05:05 530  
[TXT]buildsrc-out.txt27-Nov-2021 05:05 816  
[TXT]install-out.txt27-Nov-2021 05:05 1.0K 
[TXT]buildbin-out.txt27-Nov-2021 05:05 1.1K 
[TXT]checksrc-out.txt27-Nov-2021 05:05 3.0K