Back to Multiple platform build/check report for BioC 3.13
ABCDEFGHIJKL[M]NOPQRSTUVWXYZ

This page was generated on 2021-07-30 15:06:00 -0400 (Fri, 30 Jul 2021).

CHECK results for MSnbase on tokay2

To the developers/maintainers of the MSnbase package:
- Please allow up to 24 hours (and sometimes 48 hours) for your latest push to git@git.bioconductor.org:packages/MSnbase.git to
reflect on this report. See How and When does the builder pull? When will my changes propagate? here for more information.
- Make sure to use the following settings in order to reproduce any error or warning you see on this page.

raw results

Package 1203/2041HostnameOS / ArchINSTALLBUILDCHECKBUILD BIN
MSnbase 2.18.0  (landing page)
Laurent Gatto
Snapshot Date: 2021-07-29 04:50:02 -0400 (Thu, 29 Jul 2021)
URL: https://git.bioconductor.org/packages/MSnbase
Branch: RELEASE_3_13
Last Commit: 8653c08
Last Changed Date: 2021-05-19 11:47:43 -0400 (Wed, 19 May 2021)
nebbiolo1Linux (Ubuntu 20.04.2 LTS) / x86_64  OK    OK    OK  UNNEEDED, same version is already published
tokay2Windows Server 2012 R2 Standard / x64  OK    OK    OK    OK  UNNEEDED, same version is already published
machv2macOS 10.14.6 Mojave / x86_64  OK    OK    OK    OK  UNNEEDED, same version is already published

Summary

Package: MSnbase
Version: 2.18.0
Command: C:\Users\biocbuild\bbs-3.13-bioc\R\bin\R.exe CMD check --force-multiarch --install=check:MSnbase.install-out.txt --library=C:\Users\biocbuild\bbs-3.13-bioc\R\library --no-vignettes --timings MSnbase_2.18.0.tar.gz
StartedAt: 2021-07-30 02:37:01 -0400 (Fri, 30 Jul 2021)
EndedAt: 2021-07-30 03:15:35 -0400 (Fri, 30 Jul 2021)
EllapsedTime: 2313.4 seconds
RetCode: 0
Status:   OK  
CheckDir: MSnbase.Rcheck
Warnings: 0

Command output

##############################################################################
##############################################################################
###
### Running command:
###
###   C:\Users\biocbuild\bbs-3.13-bioc\R\bin\R.exe CMD check --force-multiarch --install=check:MSnbase.install-out.txt --library=C:\Users\biocbuild\bbs-3.13-bioc\R\library --no-vignettes --timings MSnbase_2.18.0.tar.gz
###
##############################################################################
##############################################################################


* using log directory 'C:/Users/biocbuild/bbs-3.13-bioc/meat/MSnbase.Rcheck'
* using R version 4.1.0 (2021-05-18)
* using platform: x86_64-w64-mingw32 (64-bit)
* using session charset: ISO8859-1
* using option '--no-vignettes'
* checking for file 'MSnbase/DESCRIPTION' ... OK
* this is package 'MSnbase' version '2.18.0'
* package encoding: UTF-8
* checking package namespace information ... OK
* checking package dependencies ... OK
* checking if this is a source package ... OK
* checking if there is a namespace ... OK
* checking for hidden files and directories ... OK
* checking for portable file names ... OK
* checking whether package 'MSnbase' can be installed ... OK
* checking installed package size ... NOTE
  installed size is  9.1Mb
  sub-directories of 1Mb or more:
    R      1.8Mb
    data   1.9Mb
    help   1.8Mb
    libs   2.0Mb
* checking package directory ... OK
* checking 'build' directory ... OK
* checking DESCRIPTION meta-information ... NOTE
Authors@R field gives more than one person with maintainer role:
  Laurent Gatto <laurent.gatto@uclouvain.be> [aut, cre] (<https://orcid.org/0000-0002-1520-2268>)
  Johannes Rainer <Johannes.Rainer@eurac.edu> [aut, cre] (<https://orcid.org/0000-0002-6977-7147>)
  Sebastian Gibb <mail@sebastiangibb.de> [aut, cre]
* checking top-level files ... OK
* checking for left-over files ... OK
* checking index information ... OK
* checking package subdirectories ... OK
* checking R files for non-ASCII characters ... OK
* checking R files for syntax errors ... OK
* loading checks for arch 'i386'
** checking whether the package can be loaded ... OK
** checking whether the package can be loaded with stated dependencies ... OK
** checking whether the package can be unloaded cleanly ... OK
** checking whether the namespace can be loaded with stated dependencies ... OK
** checking whether the namespace can be unloaded cleanly ... OK
* loading checks for arch 'x64'
** checking whether the package can be loaded ... OK
** checking whether the package can be loaded with stated dependencies ... OK
** checking whether the package can be unloaded cleanly ... OK
** checking whether the namespace can be loaded with stated dependencies ... OK
** checking whether the namespace can be unloaded cleanly ... OK
* checking dependencies in R code ... NOTE
':::' calls which should be '::':
  'S4Vectors:::makeClassinfoRowForCompactPrinting'
  'S4Vectors:::makePrettyMatrixForCompactPrinting'
  See the note in ?`:::` about the use of this operator.
Unexported objects imported by ':::' calls:
  'Biobase:::.showAnnotatedDataFrame' 'MALDIquant:::.estimateNoise'
  'MALDIquant:::.localMaxima' 'MALDIquant:::.movingAverage'
  'MALDIquant:::.savitzkyGolay' 'mzR:::.hasChromatograms'
  'mzR:::.hasSpectra'
  See the note in ?`:::` about the use of this operator.
* checking S3 generic/method consistency ... OK
* checking replacement functions ... OK
* checking foreign function calls ... OK
* checking R code for possible problems ... OK
* checking Rd files ... OK
* checking Rd metadata ... OK
* checking Rd cross-references ... OK
* checking for missing documentation entries ... OK
* checking for code/documentation mismatches ... OK
* checking Rd \usage sections ... OK
* checking Rd contents ... OK
* checking for unstated dependencies in examples ... OK
* checking contents of 'data' directory ... OK
* checking data for non-ASCII characters ... OK
* checking LazyData ... OK
* checking data for ASCII and uncompressed saves ... OK
* checking line endings in C/C++/Fortran sources/headers ... OK
* checking compiled code ... NOTE
Note: information on .o files for i386 is not available
Note: information on .o files for x64 is not available
File 'C:/Users/biocbuild/bbs-3.13-bioc/R/library/MSnbase/libs/i386/MSnbase.dll':
  Found 'abort', possibly from 'abort' (C), 'runtime' (Fortran)
  Found 'exit', possibly from 'exit' (C), 'stop' (Fortran)
  Found 'printf', possibly from 'printf' (C)
File 'C:/Users/biocbuild/bbs-3.13-bioc/R/library/MSnbase/libs/x64/MSnbase.dll':
  Found 'abort', possibly from 'abort' (C), 'runtime' (Fortran)
  Found 'exit', possibly from 'exit' (C), 'stop' (Fortran)
  Found 'printf', possibly from 'printf' (C)

Compiled code should not call entry points which might terminate R nor
write to stdout/stderr instead of to the console, nor use Fortran I/O
nor system RNGs. The detected symbols are linked into the code but
might come from libraries and not actually be called.

See 'Writing portable packages' in the 'Writing R Extensions' manual.
* checking files in 'vignettes' ... OK
* checking examples ...
** running examples for arch 'i386' ... OK
Examples with CPU (user + system) or elapsed time > 5s
                            user system elapsed
OnDiskMSnExp-class         11.08   0.61   12.59
chromatogram-MSnExp-method  8.03   0.40    8.43
MSnSet-class                6.78   0.27    7.05
readMzTabData               6.51   0.02    6.62
averageMSnSet               6.19   0.33    6.98
estimateMzResolution        5.91   0.61    6.49
MzTab-class                 4.61   0.13    6.38
** running examples for arch 'x64' ... OK
Examples with CPU (user + system) or elapsed time > 5s
                            user system elapsed
OnDiskMSnExp-class         10.67   0.11   10.80
chromatogram-MSnExp-method  8.58   0.19    8.77
MSnSet-class                7.12   0.13    7.25
estimateMzResolution        5.45   0.39    5.81
readMzTabData               5.30   0.08    5.45
averageMSnSet               4.91   0.18    5.07
* checking for unstated dependencies in 'tests' ... OK
* checking tests ...
** running tests for arch 'i386' ...
  Running 'testthat.R'
 OK
** running tests for arch 'x64' ...
  Running 'testthat.R'
 OK
* checking for unstated dependencies in vignettes ... OK
* checking package vignettes in 'inst/doc' ... OK
* checking running R code from vignettes ... SKIPPED
* checking re-building of vignette outputs ... SKIPPED
* checking PDF version of manual ... OK
* DONE

Status: 4 NOTEs
See
  'C:/Users/biocbuild/bbs-3.13-bioc/meat/MSnbase.Rcheck/00check.log'
for details.



Installation output

MSnbase.Rcheck/00install.out

##############################################################################
##############################################################################
###
### Running command:
###
###   C:\cygwin\bin\curl.exe -O http://155.52.207.165/BBS/3.13/bioc/src/contrib/MSnbase_2.18.0.tar.gz && rm -rf MSnbase.buildbin-libdir && mkdir MSnbase.buildbin-libdir && C:\Users\biocbuild\bbs-3.13-bioc\R\bin\R.exe CMD INSTALL --merge-multiarch --build --library=MSnbase.buildbin-libdir MSnbase_2.18.0.tar.gz && C:\Users\biocbuild\bbs-3.13-bioc\R\bin\R.exe CMD INSTALL MSnbase_2.18.0.zip && rm MSnbase_2.18.0.tar.gz MSnbase_2.18.0.zip
###
##############################################################################
##############################################################################


  % Total    % Received % Xferd  Average Speed   Time    Time     Time  Current
                                 Dload  Upload   Total   Spent    Left  Speed

  0     0    0     0    0     0      0      0 --:--:-- --:--:-- --:--:--     0
100 1789k  100 1789k    0     0  3705k      0 --:--:-- --:--:-- --:--:-- 3712k

install for i386

* installing *source* package 'MSnbase' ...
** using staged installation
** libs
"C:/rtools40/mingw32/bin/"g++ -std=gnu++11  -I"C:/Users/BIOCBU~1/BBS-3~1.13-/R/include" -DNDEBUG  -I'C:/Users/biocbuild/bbs-3.13-bioc/R/library/Rcpp/include'   -I"C:/extsoft/include"     -O2 -Wall  -mfpmath=sse -msse2 -mstackrealign  -c RcppExports.cpp -o RcppExports.o
"C:/rtools40/mingw32/bin/"gcc  -I"C:/Users/BIOCBU~1/BBS-3~1.13-/R/include" -DNDEBUG  -I'C:/Users/biocbuild/bbs-3.13-bioc/R/library/Rcpp/include'   -I"C:/extsoft/include"     -O2 -Wall  -std=gnu99 -mfpmath=sse -msse2 -mstackrealign  -c Spectrum1_class.c -o Spectrum1_class.o
Spectrum1_class.c:8:13: warning: '_new_Spectrum1' defined but not used [-Wunused-function]
 static SEXP _new_Spectrum1(SEXP msLevel, SEXP peaksCount, SEXP rt,
             ^~~~~~~~~~~~~~
"C:/rtools40/mingw32/bin/"gcc  -I"C:/Users/BIOCBU~1/BBS-3~1.13-/R/include" -DNDEBUG  -I'C:/Users/biocbuild/bbs-3.13-bioc/R/library/Rcpp/include'   -I"C:/extsoft/include"     -O2 -Wall  -std=gnu99 -mfpmath=sse -msse2 -mstackrealign  -c Spectrum2_class.c -o Spectrum2_class.o
Spectrum2_class.c:9:13: warning: '_new_Spectrum2' defined but not used [-Wunused-function]
 static SEXP _new_Spectrum2(SEXP msLevel, SEXP peaksCount, SEXP rt,
             ^~~~~~~~~~~~~~
"C:/rtools40/mingw32/bin/"g++ -std=gnu++11  -I"C:/Users/BIOCBU~1/BBS-3~1.13-/R/include" -DNDEBUG  -I'C:/Users/biocbuild/bbs-3.13-bioc/R/library/Rcpp/include'   -I"C:/extsoft/include"     -O2 -Wall  -mfpmath=sse -msse2 -mstackrealign  -c imp_neighbour_avg.cpp -o imp_neighbour_avg.o
"C:/rtools40/mingw32/bin/"gcc  -I"C:/Users/BIOCBU~1/BBS-3~1.13-/R/include" -DNDEBUG  -I'C:/Users/biocbuild/bbs-3.13-bioc/R/library/Rcpp/include'   -I"C:/extsoft/include"     -O2 -Wall  -std=gnu99 -mfpmath=sse -msse2 -mstackrealign  -c utils.c -o utils.o
utils.c: In function 'compar_double_dd_for_stable_asc_order':
utils.c:92:15: warning: unused variable 'ret' [-Wunused-variable]
   int i1, i2, ret;
               ^~~
utils.c: In function 'compar_double_dd_for_stable_desc_order':
utils.c:107:15: warning: unused variable 'ret' [-Wunused-variable]
   int i1, i2, ret;
               ^~~
utils.c: In function 'compar_double_asc_order':
utils.c:123:18: warning: unused variable 'ret' [-Wunused-variable]
   double d1, d2, ret;
                  ^~~
utils.c: In function 'compar_double_desc_order':
utils.c:133:18: warning: unused variable 'ret' [-Wunused-variable]
   double d1, d2, ret;
                  ^~~
At top level:
utils.c:131:12: warning: 'compar_double_desc_order' defined but not used [-Wunused-function]
 static int compar_double_desc_order(const void *p1, const void *p2)
            ^~~~~~~~~~~~~~~~~~~~~~~~
utils.c:121:12: warning: 'compar_double_asc_order' defined but not used [-Wunused-function]
 static int compar_double_asc_order(const void *p1, const void *p2)
            ^~~~~~~~~~~~~~~~~~~~~~~
C:/rtools40/mingw32/bin/g++ -std=gnu++11 -shared -s -static-libgcc -o MSnbase.dll tmp.def RcppExports.o Spectrum1_class.o Spectrum2_class.o imp_neighbour_avg.o utils.o -LC:/extsoft/lib/i386 -LC:/extsoft/lib -LC:/Users/BIOCBU~1/BBS-3~1.13-/R/bin/i386 -lR
installing to C:/Users/biocbuild/bbs-3.13-bioc/meat/MSnbase.buildbin-libdir/00LOCK-MSnbase/00new/MSnbase/libs/i386
** R
** data
*** moving datasets to lazyload DB
Creating a new generic function for 'trimws' in package 'MSnbase'
in method for 'coerce' with signature '"MSnSet","SummarizedExperiment"': no definition for class "SummarizedExperiment"
in method for 'coerce' with signature '"SummarizedExperiment","MSnSet"': no definition for class "SummarizedExperiment"
in method for 'coerce' with signature '"IBSpectra","MSnSet"': no definition for class "IBSpectra"
** inst
** byte-compile and prepare package for lazy loading
Creating a new generic function for 'trimws' in package 'MSnbase'
in method for 'coerce' with signature '"MSnSet","SummarizedExperiment"': no definition for class "SummarizedExperiment"
in method for 'coerce' with signature '"SummarizedExperiment","MSnSet"': no definition for class "SummarizedExperiment"
in method for 'coerce' with signature '"IBSpectra","MSnSet"': no definition for class "IBSpectra"
** help
*** installing help indices
  converting help for package 'MSnbase'
    finding HTML links ... done
    Chromatogram-class                      html  
    finding level-2 HTML links ... done

    FeatComp-class                          html  
    FeaturesOfInterest-class                html  
REDIRECT:topic	 names<-,FoICollection,character-method -> FeaturesOfInterest-class.html [ FAIL ]
    MChromatograms-class                    html  
REDIRECT:topic	 [<-,MChromatograms-method -> MChromatograms-class.html [ FAIL ]
REDIRECT:topic	 pData<-,MChromatograms,data.frame-method -> MChromatograms-class.html [ FAIL ]
REDIRECT:topic	 $<-,MChromatograms-method -> MChromatograms-class.html [ FAIL ]
REDIRECT:topic	 colnames<-,MChromatograms-method -> MChromatograms-class.html [ FAIL ]
REDIRECT:topic	 sampleNames<-,MChromatograms,ANY-method -> MChromatograms-class.html [ FAIL ]
REDIRECT:topic	 featureNames<-,MChromatograms-method -> MChromatograms-class.html [ FAIL ]
REDIRECT:topic	 featureData<-,MChromatograms,ANY-method -> MChromatograms-class.html [ FAIL ]
REDIRECT:topic	 fData<-,MChromatograms,ANY-method -> MChromatograms-class.html [ FAIL ]
REDIRECT:topic	 rownames<-,MChromatograms-method -> MChromatograms-class.html [ FAIL ]
    MIAPE-class                             html  
REDIRECT:topic	 class:MIAPE -> MIAPE-class.html [ FAIL ]
REDIRECT:topic	 pubMedIds<-,MIAPE-method -> MIAPE-class.html [ FAIL ]
REDIRECT:topic	 notes<-,MIAPE-method -> MIAPE-class.html [ FAIL ]
    MSmap-class                             html  
REDIRECT:topic	 Previous alias or file overwritten by alias: C:/Users/biocbuild/bbs-3.13-bioc/meat/MSnbase.buildbin-libdir/00LOCK-MSnbase/00new/MSnbase/help/msMap.html
    MSnExp-class                            html  
REDIRECT:topic	 class:MSnExp -> MSnExp-class.html [ FAIL ]
    MSnProcess-class                        html  
REDIRECT:topic	 class:MSnProcess -> MSnProcess-class.html [ FAIL ]
    MSnSet-class                            html  
REDIRECT:topic	 class:MSnSet -> MSnSet-class.html [ FAIL ]
REDIRECT:topic	 experimentData<-,MSnSet,MIAPE-method -> MSnSet-class.html [ FAIL ]
REDIRECT:topic	 pData<-,MSnSet,data.frame-method -> MSnSet-class.html [ FAIL ]
REDIRECT:topic	 fData<-,MSnSet,data.frame-method -> MSnSet-class.html [ FAIL ]
    MSnSetList-class                        html  
REDIRECT:topic	 names<-,MSnSetList,ANY-method -> MSnSetList-class.html [ FAIL ]
REDIRECT:topic	 fData<-,MSnSetList,DataFrame-method -> MSnSetList-class.html [ FAIL ]
    MSnbaseOptions                          html  
    MSpectra                                html  
    MzTab-class                             html  
REDIRECT:topic	 class:MzTab -> MzTab-class.html [ FAIL ]
    OnDiskMSnExp-class                      html  
REDIRECT:topic	 class:OnDiskMSnExp -> OnDiskMSnExp-class.html [ FAIL ]
REDIRECT:topic	 centroided<-,OnDiskMSnExp,logical-method -> OnDiskMSnExp-class.html [ FAIL ]
REDIRECT:topic	 smoothed<-,OnDiskMSnExp,logical-method -> OnDiskMSnExp-class.html [ FAIL ]
REDIRECT:topic	 featureNames<-,OnDiskMSnExp-method -> OnDiskMSnExp-class.html [ FAIL ]
REDIRECT:topic	 featureNames<-,OnDiskMSnExp,ANY-method -> OnDiskMSnExp-class.html [ FAIL ]
    ProcessingStep-class                    html  
REDIRECT:topic	 ProcessingStep:OnDiskMSnExp -> ProcessingStep-class.html [ FAIL ]
    ReporterIons-class                      html  
REDIRECT:topic	 class:ReporterIons -> ReporterIons-class.html [ FAIL ]
REDIRECT:topic	 reporterNames<-,ReporterIons-method -> ReporterIons-class.html [ FAIL ]
REDIRECT:topic	 reporterNames<-,ReporterIons,ANY-method -> ReporterIons-class.html [ FAIL ]
REDIRECT:topic	 reporterNames<-,ReporterIons,character-method -> ReporterIons-class.html [ FAIL ]
REDIRECT:topic	 reporterNames<- -> ReporterIons-class.html [ FAIL ]
    Spectrum-class                          html  
REDIRECT:topic	 class:Spectrum -> Spectrum-class.html [ FAIL ]
REDIRECT:topic	 centroided<-,Spectrum,ANY-method -> Spectrum-class.html [ FAIL ]
REDIRECT:topic	 centroided<-,Spectrum,logical-method -> Spectrum-class.html [ FAIL ]
REDIRECT:topic	 centroided<- -> Spectrum-class.html [ FAIL ]
REDIRECT:topic	 smoothed<-,Spectrum,ANY-method -> Spectrum-class.html [ FAIL ]
REDIRECT:topic	 smoothed<-,Spectrum,logical-method -> Spectrum-class.html [ FAIL ]
REDIRECT:topic	 smoothed<- -> Spectrum-class.html [ FAIL ]
    Spectrum1-class                         html  
REDIRECT:topic	 class:Spectrum1 -> Spectrum1-class.html [ FAIL ]
    Spectrum2-class                         html  
REDIRECT:topic	 class:Spectrum2 -> Spectrum2-class.html [ FAIL ]
    TMT6                                    html  
    addIdentificationData-methods           html  
    aggvar                                  html  
    averageMSnSet                           html  
    bin-methods                             html  
    calculateFragments-methods              html  
    chromatogram-MSnExp-method              html  
REDIRECT:topic	 Previous alias or file overwritten by alias: C:/Users/biocbuild/bbs-3.13-bioc/meat/MSnbase.buildbin-libdir/00LOCK-MSnbase/00new/MSnbase/help/chromatogram.html
    clean-methods                           html  
    combineFeatures                         html  
    combineSpectra                          html  
    combineSpectraMovingWindow              html  
    commonFeatureNames                      html  
    compareMSnSets                          html  
    compareSpectra-methods                  html  
    consensusSpectrum                       html  
    defunct                                 html  
REDIRECT:topic	 class:NAnnotatedDataFrame -> defunct.html [ FAIL ]
    estimateMzResolution                    html  
    estimateMzScattering                    html  
    estimateNoise-method                    html  
    extractPrecSpectra-methods              html  
    extractSpectraData                      html  
    fData-utils                             html  
    factorsAsStrings                        html  
    featureCV                               html  
    fillUp                                  html  
    filterIdentificationDataFrame           html  
    formatRt                                html  
    get.amino.acids                         html  
    get.atomic.mass                         html  
    getVariableName                         html  
    grepEcols                               html  
    hasSpectraOrChromatograms               html  
    iPQF                                    html  
    iTRAQ4                                  html  
    imageNA2                                html  
    impute                                  html  
    isCentroidedFromFile                    html  
    itraqdata                               html  
REDIRECT:topic	 Previous alias or file overwritten by alias: C:/Users/biocbuild/bbs-3.13-bioc/meat/MSnbase.buildbin-libdir/00LOCK-MSnbase/00new/MSnbase/help/msnset.html
    listOf                                  html  
    makeCamelCase                           html  
    makeNaData                              html  
    meanMzInts                              html  
    missing-data                            html  
    mzRident2dfr                            html  
    nFeatures                               html  
    nQuants                                 html  
    naplot                                  html  
    navMS                                   html  
    normToReference                         html  
    normalise-methods                       html  
    npcv                                    html  
    pSet-class                              html  
REDIRECT:topic	 class:pSet -> pSet-class.html [ FAIL ]
REDIRECT:topic	 $<-,pSet-method -> pSet-class.html [ FAIL ]
REDIRECT:topic	 fData<-,pSet,data.frame-method -> pSet-class.html [ FAIL ]
REDIRECT:topic	 centroided<-,pSet,ANY-method -> pSet-class.html [ FAIL ]
REDIRECT:topic	 centroided<-,pSet,logical-method -> pSet-class.html [ FAIL ]
REDIRECT:topic	 smoothed<-,pSet,ANY-method -> pSet-class.html [ FAIL ]
REDIRECT:topic	 smoothed<-,pSet,logical-method -> pSet-class.html [ FAIL ]
REDIRECT:topic	 pData<-,pSet,ANY-method -> pSet-class.html [ FAIL ]
REDIRECT:topic	 phenoData<-,pSet,ANY-method -> pSet-class.html [ FAIL ]
REDIRECT:topic	 sampleNames<-,pSet,character-method -> pSet-class.html [ FAIL ]
    pickPeaks-method                        html  
    plot-methods                            html  
    plot2d-methods                          html  
    plotDensity-methods                     html  
    plotMzDelta-methods                     html  
    plotNA-methods                          html  
    plotSpectrumSpectrum-methods            html  
    precSelection                           html  
    purityCorrect-methods                   html  
    quantify-methods                        html  
    readMSData                              html  
    readMSnSet                              html  
    readMgfData                             html  
    readMzIdData                            html  
    readMzTabData                           html  
    readMzTabData_v0.9                      html  
    readSRMData                             html  
    reduce-data.frame-method                html  
    removeNoId-methods                      html  
    removePeaks-methods                     html  
    removeReporters-methods                 html  
    selectFeatureData                       html  
    smooth-methods                          html  
    trimMz-methods                          html  
    updateObject-methods                    html  
    writeMSData                             html  
    writeMgfData-methods                    html  
    writeMzTabData                          html  
** building package indices
** installing vignettes
** testing if installed package can be loaded from temporary location
** testing if installed package can be loaded from final location
** testing if installed package keeps a record of temporary installation path

install for x64

* installing *source* package 'MSnbase' ...
** libs
"C:/rtools40/mingw64/bin/"g++ -std=gnu++11  -I"C:/Users/BIOCBU~1/BBS-3~1.13-/R/include" -DNDEBUG  -I'C:/Users/biocbuild/bbs-3.13-bioc/R/library/Rcpp/include'   -I"C:/extsoft/include"     -O2 -Wall  -mfpmath=sse -msse2 -mstackrealign  -c RcppExports.cpp -o RcppExports.o
"C:/rtools40/mingw64/bin/"gcc  -I"C:/Users/BIOCBU~1/BBS-3~1.13-/R/include" -DNDEBUG  -I'C:/Users/biocbuild/bbs-3.13-bioc/R/library/Rcpp/include'   -I"C:/extsoft/include"     -O2 -Wall  -std=gnu99 -mfpmath=sse -msse2 -mstackrealign  -c Spectrum1_class.c -o Spectrum1_class.o
Spectrum1_class.c:8:13: warning: '_new_Spectrum1' defined but not used [-Wunused-function]
 static SEXP _new_Spectrum1(SEXP msLevel, SEXP peaksCount, SEXP rt,
             ^~~~~~~~~~~~~~
"C:/rtools40/mingw64/bin/"gcc  -I"C:/Users/BIOCBU~1/BBS-3~1.13-/R/include" -DNDEBUG  -I'C:/Users/biocbuild/bbs-3.13-bioc/R/library/Rcpp/include'   -I"C:/extsoft/include"     -O2 -Wall  -std=gnu99 -mfpmath=sse -msse2 -mstackrealign  -c Spectrum2_class.c -o Spectrum2_class.o
Spectrum2_class.c:9:13: warning: '_new_Spectrum2' defined but not used [-Wunused-function]
 static SEXP _new_Spectrum2(SEXP msLevel, SEXP peaksCount, SEXP rt,
             ^~~~~~~~~~~~~~
"C:/rtools40/mingw64/bin/"g++ -std=gnu++11  -I"C:/Users/BIOCBU~1/BBS-3~1.13-/R/include" -DNDEBUG  -I'C:/Users/biocbuild/bbs-3.13-bioc/R/library/Rcpp/include'   -I"C:/extsoft/include"     -O2 -Wall  -mfpmath=sse -msse2 -mstackrealign  -c imp_neighbour_avg.cpp -o imp_neighbour_avg.o
"C:/rtools40/mingw64/bin/"gcc  -I"C:/Users/BIOCBU~1/BBS-3~1.13-/R/include" -DNDEBUG  -I'C:/Users/biocbuild/bbs-3.13-bioc/R/library/Rcpp/include'   -I"C:/extsoft/include"     -O2 -Wall  -std=gnu99 -mfpmath=sse -msse2 -mstackrealign  -c utils.c -o utils.o
utils.c: In function 'compar_double_dd_for_stable_asc_order':
utils.c:92:15: warning: unused variable 'ret' [-Wunused-variable]
   int i1, i2, ret;
               ^~~
utils.c: In function 'compar_double_dd_for_stable_desc_order':
utils.c:107:15: warning: unused variable 'ret' [-Wunused-variable]
   int i1, i2, ret;
               ^~~
utils.c: In function 'compar_double_asc_order':
utils.c:123:18: warning: unused variable 'ret' [-Wunused-variable]
   double d1, d2, ret;
                  ^~~
utils.c: In function 'compar_double_desc_order':
utils.c:133:18: warning: unused variable 'ret' [-Wunused-variable]
   double d1, d2, ret;
                  ^~~
At top level:
utils.c:131:12: warning: 'compar_double_desc_order' defined but not used [-Wunused-function]
 static int compar_double_desc_order(const void *p1, const void *p2)
            ^~~~~~~~~~~~~~~~~~~~~~~~
utils.c:121:12: warning: 'compar_double_asc_order' defined but not used [-Wunused-function]
 static int compar_double_asc_order(const void *p1, const void *p2)
            ^~~~~~~~~~~~~~~~~~~~~~~
C:/rtools40/mingw64/bin/g++ -std=gnu++11 -shared -s -static-libgcc -o MSnbase.dll tmp.def RcppExports.o Spectrum1_class.o Spectrum2_class.o imp_neighbour_avg.o utils.o -LC:/extsoft/lib/x64 -LC:/extsoft/lib -LC:/Users/BIOCBU~1/BBS-3~1.13-/R/bin/x64 -lR
installing to C:/Users/biocbuild/bbs-3.13-bioc/meat/MSnbase.buildbin-libdir/MSnbase/libs/x64
** testing if installed package can be loaded
* MD5 sums
packaged installation of 'MSnbase' as MSnbase_2.18.0.zip
* DONE (MSnbase)
* installing to library 'C:/Users/biocbuild/bbs-3.13-bioc/R/library'
package 'MSnbase' successfully unpacked and MD5 sums checked

Tests output

MSnbase.Rcheck/tests_i386/testthat.Rout


R version 4.1.0 (2021-05-18) -- "Camp Pontanezen"
Copyright (C) 2021 The R Foundation for Statistical Computing
Platform: i386-w64-mingw32/i386 (32-bit)

R is free software and comes with ABSOLUTELY NO WARRANTY.
You are welcome to redistribute it under certain conditions.
Type 'license()' or 'licence()' for distribution details.

R is a collaborative project with many contributors.
Type 'contributors()' for more information and
'citation()' on how to cite R or R packages in publications.

Type 'demo()' for some demos, 'help()' for on-line help, or
'help.start()' for an HTML browser interface to help.
Type 'q()' to quit R.

> # setting R_TESTS to empty string because of
> # https://github.com/hadley/testthat/issues/144
> # revert this when that issue in R is fixed.
> Sys.setenv("R_TESTS" = "")
> library("testthat")
> library("MSnbase")
Loading required package: BiocGenerics
Loading required package: parallel

Attaching package: 'BiocGenerics'

The following objects are masked from 'package:parallel':

    clusterApply, clusterApplyLB, clusterCall, clusterEvalQ,
    clusterExport, clusterMap, parApply, parCapply, parLapply,
    parLapplyLB, parRapply, parSapply, parSapplyLB

The following objects are masked from 'package:stats':

    IQR, mad, sd, var, xtabs

The following objects are masked from 'package:base':

    Filter, Find, Map, Position, Reduce, anyDuplicated, append,
    as.data.frame, basename, cbind, colnames, dirname, do.call,
    duplicated, eval, evalq, get, grep, grepl, intersect, is.unsorted,
    lapply, mapply, match, mget, order, paste, pmax, pmax.int, pmin,
    pmin.int, rank, rbind, rownames, sapply, setdiff, sort, table,
    tapply, union, unique, unsplit, which.max, which.min

Loading required package: Biobase
Welcome to Bioconductor

    Vignettes contain introductory material; view with
    'browseVignettes()'. To cite Bioconductor, see
    'citation("Biobase")', and for packages 'citation("pkgname")'.

Loading required package: mzR
Loading required package: Rcpp
Loading required package: S4Vectors
Loading required package: stats4

Attaching package: 'S4Vectors'

The following objects are masked from 'package:base':

    I, expand.grid, unname

Loading required package: ProtGenerics

Attaching package: 'ProtGenerics'

The following object is masked from 'package:stats':

    smooth


This is MSnbase version 2.18.0 
  Visit https://lgatto.github.io/MSnbase/ to get started.


Attaching package: 'MSnbase'

The following object is masked from 'package:base':

    trimws

> setMSnbaseVerbose(FALSE)
> ## register(SerialParam()) ## see issue 205
> 
> ## Erwinia
> f <- msdata::proteomics(full.names = TRUE,
+                         pattern = "TMT_Erwinia_1uLSike_Top10HCD_isol2_45stepped_60min_01.mzML.gz")
> tmt_erwinia_in_mem_ms1 <- readMSData(f, msLevel = 1)
> tmt_erwinia_in_mem_ms2 <- readMSData(f, msLevel = 2)
> tmt_erwinia_on_disk <- readMSData(f, mode = "onDisk")
> tmt_erwinia_on_disk_ms1 <- readMSData(f, msLevel = 1, mode = "onDisk")
> tmt_erwinia_on_disk_ms2 <- readMSData(f, msLevel = 2, mode = "onDisk")
> ## subset by rt
> tmt_im_ms1_sub <- filterRt(tmt_erwinia_in_mem_ms1, c(1200, 1250))
> tmt_im_ms2_sub <- filterRt(tmt_erwinia_in_mem_ms2, c(1200, 1250))
> tmt_od_sub <- filterRt(tmt_erwinia_on_disk, c(1200, 1250))
> tmt_od_ms1_sub <- filterRt(tmt_erwinia_on_disk_ms1, c(1200, 1250))
> tmt_od_ms2_sub <- filterRt(tmt_erwinia_on_disk_ms2, c(1200, 1250))
> 
> ## microtofq
> f <- c(system.file("microtofq/MM14.mzML", package = "msdata"),
+        system.file("microtofq/MM8.mzML", package = "msdata"))
> microtofq_in_mem_ms1 <- readMSData(f, msLevel = 1)
> microtofq_on_disk_ms1 <- readMSData(f, msLevel = 1, mode = "onDisk")
> microtofq_on_disk <- readMSData(f, mode = "onDisk")
> 
> ## extdata mzML
> f <- dir(system.file(package = "MSnbase", dir = "extdata"),
+          full.name = TRUE, pattern = "mzXML$")
> extdata_mzXML_in_mem_ms2 <- readMSData(f, verbose = FALSE, centroided. = FALSE)
> extdata_mzXML_on_disk <- readMSData(f, centroided. = FALSE, mode = "onDisk")
> extdata_mzXML_on_disk_ms2 <- readMSData(f, msLevel = 2, centroided. = FALSE, mode = "onDisk")
> 
> sf <- dir(system.file("sciex", package = "msdata"), full.names = TRUE)
> sciex <- readMSData(sf, mode = "onDisk")
> 
> test_check("MSnbase")
Experiment data
  Experimenter name: Laurent Gatto 
  Laboratory: Cambridge Centre for Proteomics (CCP) 
  Contact information: Laurent Gatto 
  Contact email: lg390@cam.ac.uk 
  Title: Example 'MSnExp' data set 
  URL:  
  PMIDs:  
  No abstract available.
Instrument : 
  Model: test (1) 
  Manufacturer:  
  Customisations:  
  Use 'msInfo(object)' for more MIAPE-MS information.
Experiment data
  Experimenter name: Laurent Gatto 
  Laboratory: Cambridge Centre for Proteomics (CCP) 
  Contact information: Laurent Gatto 
  Contact email: lg390@cam.ac.uk 
  Title: Example 'MSnExp' data set 
  URL:  
  PMIDs:  
  No abstract available.
  notes:
   Note1:
First note
MIAPE-MS information:
 1. General features:
  Date stamp:  
  Contact: Laurent Gatto 
  Name: Laurent Gatto 
  Laboratory: Cambridge Centre for Proteomics (CCP) 
  Instument model: test 
  Manufacturer:  
  Customisations:  
  Software:  
  Version:  
  Switching:  
  Param file:  
 2. Ion source
  Source:  
  Source details:  
 3. Post-source componentry
  Analyzer:  
  Analyzer details:  
  Collision gas:  
  Pressure:   bars
  Energy:  
  Detector type:  
  Sensitivity:  
Object of class "MSmap"
 Map [75, 401]
  [1]  Retention time: 30:01 - 34:58 
  [2]  M/Z: 521 - 523 (res 0.005)
Object of class "MSmap"
 Map [401, 75]
  [1]  M/Z: 521 - 523 (res 0.005)
  [2]  Retention time: 30:01 - 34:58 
Object of class "MzTab".
 Description: mzTab example file for reporting a summary report of
 quantification data quantified on the protein level
 Mode: Complete 
 Type: Quantification 
 Available data: Proteins  PSMs  
Object of class "MzTab".
 Description:
 Mode: 
 Type: 
 Available data: SmallMolecules  
Object of class "MzTab".
 Description:
 Mode: 
 Type: 
 Available data: SmallMolecules  
Instance of class 'MSnSetList' containig 3 objects.
MSn experiment data ("OnDiskMSnExp")
Object size in memory: 0.22 Mb
- - - Spectra data - - -
 MS level(s): 1 2 
 Number of spectra: 509 
 MSn retention times: 18:28 - 22:03 minutes
- - - Processing information - - -
Data loaded [Fri Jul 30 02:44:34 2021] 
 MSnbase version: 2.18.0 
- - - Meta data  - - -
phenoData
  rowNames:
    TMT_Erwinia_1uLSike_Top10HCD_isol2_45stepped_60min_01.mzML.gz
  varLabels: sampleNames
  varMetadata: labelDescription
Loaded from:
  TMT_Erwinia_1uLSike_Top10HCD_isol2_45stepped_60min_01.mzML.gz 
protocolData: none
featureData
  featureNames: F1.S001 F1.S002 ... F1.S509 (509 total)
  fvarLabels: fileIdx spIdx ... spectrum (35 total)
  fvarMetadata: labelDescription
experimentData: use 'experimentData(object)'
Object of class "ReporterIons"
TMT10HCD: '10-plex TMT HCD' with 10 reporter ions
 - [126] 126.1277 +/- 0.002 (#8DD3C7)
 - [127N] 127.1248 +/- 0.002 (#FFFFB3)
 - [127C] 127.1311 +/- 0.002 (#BEBADA)
 - [128N] 128.1281 +/- 0.002 (#FB8072)
 - [128C] 128.1344 +/- 0.002 (#80B1D3)
 - [129N] 129.1315 +/- 0.002 (#FDB462)
 - [129C] 129.1378 +/- 0.002 (#B3DE69)
 - [130N] 130.1348 +/- 0.002 (#FCCDE5)
 - [130C] 130.1411 +/- 0.002 (#D9D9D9)
 - [131] 131.1382 +/- 0.002 (#BC80BD)
Object of class "Spectrum1"
 Retention time: 0:00 
 MSn level: 1 
 Total ion count: 684 
 Polarity: 1 
MSn experiment data ("MSnExp")
Object size in memory: 0.17 Mb
- - - Spectra data - - -
 MS level(s): 2 
 Number of spectra: 5 
 MSn retention times: 25:01 - 25:02 minutes
- - - Processing information - - -
Data loaded: Fri Jul 30 02:53:23 2021 
 MSnbase version: 2.18.0 
- - - Meta data  - - -
phenoData
  rowNames: dummyiTRAQ.mzXML
  varLabels: sampleNames
  varMetadata: labelDescription
Loaded from:
  dummyiTRAQ.mzXML 
protocolData: none
featureData
  featureNames: F1.S1 F1.S2 ... F1.S5 (5 total)
  fvarLabels: spectrum
  fvarMetadata: labelDescription
experimentData: use 'experimentData(object)'
MSn experiment data ("MSnExp")
Object size in memory: 0.19 Mb
- - - Spectra data - - -
 MS level(s): 2 
 Number of spectra: 5 
 MSn retention times: 25:01 - 25:02 minutes
- - - Processing information - - -
Data loaded: Fri Jul 30 02:53:24 2021 
 MSnbase version: 2.18.0 
- - - Meta data  - - -
phenoData
  rowNames: dummyiTRAQ.mzXML
  varLabels: sampleNames
  varMetadata: labelDescription
Loaded from:
  dummyiTRAQ.mzXML 
protocolData: none
featureData
  featureNames: F1.S1 F1.S2 ... F1.S5 (5 total)
  fvarLabels: spectrum
  fvarMetadata: labelDescription
experimentData: use 'experimentData(object)'
Object of class "FeaturesOfInterest"
 Created on Fri Jul 30 02:53:46 2021 
 Description:
  small foi
 3 features of interest:
   P20353, P53501, Q7KU78
Traceable object of class "FeaturesOfInterest"
 Created on Fri Jul 30 02:53:46 2021 
 Description:
  my description
 10 features of interest:
   P20353, P53501  ...  Q9VCK0, Q9VIU7
A collection of 1 features of interest.
A collection of 10 features of interest.
MSpectra with 3 spectra and 1 metadata column(s):
  msLevel   rtime peaksCount | id
1       2      NA          3 |  1
2       2 1.23245          4 |  2
3       1 1.23245          5 |  3
MSpectra with 3 spectra and 1 metadata column(s):
    msLevel     rtime peaksCount |        id
  <integer> <numeric>  <integer> | <integer>
1         2        NA          3 |         1
2         2   1.23245          4 |         2
3         1   1.23245          5 |         3
MSpectra with 3 spectra and 1 metadata column(s):
      msLevel     rtime peaksCount |        id
    <integer> <numeric>  <integer> | <integer>
  1         2        NA          3 |         1
  2         2   1.23245          4 |         2
  3         1   1.23245          5 |         3
reading dummyiTRAQ.mzid... DONE!
== Skipped tests ===============================================================
* empty test (11)

[ FAIL 0 | WARN 1092 | SKIP 11 | PASS 2347 ]
Warning message:
In .Internal(gc(verbose, reset, full)) :
  closing unused connection 4 (C:\Users\biocbuild\bbs-3.13-bioc\tmpdir\RtmpojOFnf\file941431a53701)
> 
> proc.time()
   user  system elapsed 
 623.35   42.25  923.00 

MSnbase.Rcheck/tests_x64/testthat.Rout


R version 4.1.0 (2021-05-18) -- "Camp Pontanezen"
Copyright (C) 2021 The R Foundation for Statistical Computing
Platform: x86_64-w64-mingw32/x64 (64-bit)

R is free software and comes with ABSOLUTELY NO WARRANTY.
You are welcome to redistribute it under certain conditions.
Type 'license()' or 'licence()' for distribution details.

R is a collaborative project with many contributors.
Type 'contributors()' for more information and
'citation()' on how to cite R or R packages in publications.

Type 'demo()' for some demos, 'help()' for on-line help, or
'help.start()' for an HTML browser interface to help.
Type 'q()' to quit R.

> # setting R_TESTS to empty string because of
> # https://github.com/hadley/testthat/issues/144
> # revert this when that issue in R is fixed.
> Sys.setenv("R_TESTS" = "")
> library("testthat")
> library("MSnbase")
Loading required package: BiocGenerics
Loading required package: parallel

Attaching package: 'BiocGenerics'

The following objects are masked from 'package:parallel':

    clusterApply, clusterApplyLB, clusterCall, clusterEvalQ,
    clusterExport, clusterMap, parApply, parCapply, parLapply,
    parLapplyLB, parRapply, parSapply, parSapplyLB

The following objects are masked from 'package:stats':

    IQR, mad, sd, var, xtabs

The following objects are masked from 'package:base':

    Filter, Find, Map, Position, Reduce, anyDuplicated, append,
    as.data.frame, basename, cbind, colnames, dirname, do.call,
    duplicated, eval, evalq, get, grep, grepl, intersect, is.unsorted,
    lapply, mapply, match, mget, order, paste, pmax, pmax.int, pmin,
    pmin.int, rank, rbind, rownames, sapply, setdiff, sort, table,
    tapply, union, unique, unsplit, which.max, which.min

Loading required package: Biobase
Welcome to Bioconductor

    Vignettes contain introductory material; view with
    'browseVignettes()'. To cite Bioconductor, see
    'citation("Biobase")', and for packages 'citation("pkgname")'.

Loading required package: mzR
Loading required package: Rcpp
Loading required package: S4Vectors
Loading required package: stats4

Attaching package: 'S4Vectors'

The following objects are masked from 'package:base':

    I, expand.grid, unname

Loading required package: ProtGenerics

Attaching package: 'ProtGenerics'

The following object is masked from 'package:stats':

    smooth


This is MSnbase version 2.18.0 
  Visit https://lgatto.github.io/MSnbase/ to get started.


Attaching package: 'MSnbase'

The following object is masked from 'package:base':

    trimws

> setMSnbaseVerbose(FALSE)
> ## register(SerialParam()) ## see issue 205
> 
> ## Erwinia
> f <- msdata::proteomics(full.names = TRUE,
+                         pattern = "TMT_Erwinia_1uLSike_Top10HCD_isol2_45stepped_60min_01.mzML.gz")
> tmt_erwinia_in_mem_ms1 <- readMSData(f, msLevel = 1)
Error in x$.self$finalize() : attempt to apply non-function
Error in (function (x)  : attempt to apply non-function
> tmt_erwinia_in_mem_ms2 <- readMSData(f, msLevel = 2)
> tmt_erwinia_on_disk <- readMSData(f, mode = "onDisk")
> tmt_erwinia_on_disk_ms1 <- readMSData(f, msLevel = 1, mode = "onDisk")
> tmt_erwinia_on_disk_ms2 <- readMSData(f, msLevel = 2, mode = "onDisk")
> ## subset by rt
> tmt_im_ms1_sub <- filterRt(tmt_erwinia_in_mem_ms1, c(1200, 1250))
> tmt_im_ms2_sub <- filterRt(tmt_erwinia_in_mem_ms2, c(1200, 1250))
> tmt_od_sub <- filterRt(tmt_erwinia_on_disk, c(1200, 1250))
> tmt_od_ms1_sub <- filterRt(tmt_erwinia_on_disk_ms1, c(1200, 1250))
> tmt_od_ms2_sub <- filterRt(tmt_erwinia_on_disk_ms2, c(1200, 1250))
> 
> ## microtofq
> f <- c(system.file("microtofq/MM14.mzML", package = "msdata"),
+        system.file("microtofq/MM8.mzML", package = "msdata"))
> microtofq_in_mem_ms1 <- readMSData(f, msLevel = 1)
> microtofq_on_disk_ms1 <- readMSData(f, msLevel = 1, mode = "onDisk")
> microtofq_on_disk <- readMSData(f, mode = "onDisk")
> 
> ## extdata mzML
> f <- dir(system.file(package = "MSnbase", dir = "extdata"),
+          full.name = TRUE, pattern = "mzXML$")
> extdata_mzXML_in_mem_ms2 <- readMSData(f, verbose = FALSE, centroided. = FALSE)
> extdata_mzXML_on_disk <- readMSData(f, centroided. = FALSE, mode = "onDisk")
> extdata_mzXML_on_disk_ms2 <- readMSData(f, msLevel = 2, centroided. = FALSE, mode = "onDisk")
> 
> sf <- dir(system.file("sciex", package = "msdata"), full.names = TRUE)
> sciex <- readMSData(sf, mode = "onDisk")
> 
> test_check("MSnbase")
Experiment data
  Experimenter name: Laurent Gatto 
  Laboratory: Cambridge Centre for Proteomics (CCP) 
  Contact information: Laurent Gatto 
  Contact email: lg390@cam.ac.uk 
  Title: Example 'MSnExp' data set 
  URL:  
  PMIDs:  
  No abstract available.
Instrument : 
  Model: test (1) 
  Manufacturer:  
  Customisations:  
  Use 'msInfo(object)' for more MIAPE-MS information.
Experiment data
  Experimenter name: Laurent Gatto 
  Laboratory: Cambridge Centre for Proteomics (CCP) 
  Contact information: Laurent Gatto 
  Contact email: lg390@cam.ac.uk 
  Title: Example 'MSnExp' data set 
  URL:  
  PMIDs:  
  No abstract available.
  notes:
   Note1:
First note
MIAPE-MS information:
 1. General features:
  Date stamp:  
  Contact: Laurent Gatto 
  Name: Laurent Gatto 
  Laboratory: Cambridge Centre for Proteomics (CCP) 
  Instument model: test 
  Manufacturer:  
  Customisations:  
  Software:  
  Version:  
  Switching:  
  Param file:  
 2. Ion source
  Source:  
  Source details:  
 3. Post-source componentry
  Analyzer:  
  Analyzer details:  
  Collision gas:  
  Pressure:   bars
  Energy:  
  Detector type:  
  Sensitivity:  
Object of class "MSmap"
 Map [75, 401]
  [1]  Retention time: 30:01 - 34:58 
  [2]  M/Z: 521 - 523 (res 0.005)
Object of class "MSmap"
 Map [401, 75]
  [1]  M/Z: 521 - 523 (res 0.005)
  [2]  Retention time: 30:01 - 34:58 
Object of class "MzTab".
 Description: mzTab example file for reporting a summary report of
 quantification data quantified on the protein level
 Mode: Complete 
 Type: Quantification 
 Available data: Proteins  PSMs  
Object of class "MzTab".
 Description:
 Mode: 
 Type: 
 Available data: SmallMolecules  
Object of class "MzTab".
 Description:
 Mode: 
 Type: 
 Available data: SmallMolecules  
Instance of class 'MSnSetList' containig 3 objects.
MSn experiment data ("OnDiskMSnExp")
Object size in memory: 0.26 Mb
- - - Spectra data - - -
 MS level(s): 1 2 
 Number of spectra: 509 
 MSn retention times: 18:28 - 22:03 minutes
- - - Processing information - - -
Data loaded [Fri Jul 30 02:59:57 2021] 
 MSnbase version: 2.18.0 
- - - Meta data  - - -
phenoData
  rowNames:
    TMT_Erwinia_1uLSike_Top10HCD_isol2_45stepped_60min_01.mzML.gz
  varLabels: sampleNames
  varMetadata: labelDescription
Loaded from:
  TMT_Erwinia_1uLSike_Top10HCD_isol2_45stepped_60min_01.mzML.gz 
protocolData: none
featureData
  featureNames: F1.S001 F1.S002 ... F1.S509 (509 total)
  fvarLabels: fileIdx spIdx ... spectrum (35 total)
  fvarMetadata: labelDescription
experimentData: use 'experimentData(object)'
Object of class "ReporterIons"
TMT10HCD: '10-plex TMT HCD' with 10 reporter ions
 - [126] 126.1277 +/- 0.002 (#8DD3C7)
 - [127N] 127.1248 +/- 0.002 (#FFFFB3)
 - [127C] 127.1311 +/- 0.002 (#BEBADA)
 - [128N] 128.1281 +/- 0.002 (#FB8072)
 - [128C] 128.1344 +/- 0.002 (#80B1D3)
 - [129N] 129.1315 +/- 0.002 (#FDB462)
 - [129C] 129.1378 +/- 0.002 (#B3DE69)
 - [130N] 130.1348 +/- 0.002 (#FCCDE5)
 - [130C] 130.1411 +/- 0.002 (#D9D9D9)
 - [131] 131.1382 +/- 0.002 (#BC80BD)
Object of class "Spectrum1"
 Retention time: 0:00 
 MSn level: 1 
 Total ion count: 684 
 Polarity: 1 
MSn experiment data ("MSnExp")
Object size in memory: 0.18 Mb
- - - Spectra data - - -
 MS level(s): 2 
 Number of spectra: 5 
 MSn retention times: 25:01 - 25:02 minutes
- - - Processing information - - -
Data loaded: Fri Jul 30 03:08:42 2021 
 MSnbase version: 2.18.0 
- - - Meta data  - - -
phenoData
  rowNames: dummyiTRAQ.mzXML
  varLabels: sampleNames
  varMetadata: labelDescription
Loaded from:
  dummyiTRAQ.mzXML 
protocolData: none
featureData
  featureNames: F1.S1 F1.S2 ... F1.S5 (5 total)
  fvarLabels: spectrum
  fvarMetadata: labelDescription
experimentData: use 'experimentData(object)'
MSn experiment data ("MSnExp")
Object size in memory: 0.2 Mb
- - - Spectra data - - -
 MS level(s): 2 
 Number of spectra: 5 
 MSn retention times: 25:01 - 25:02 minutes
- - - Processing information - - -
Data loaded: Fri Jul 30 03:08:43 2021 
 MSnbase version: 2.18.0 
- - - Meta data  - - -
phenoData
  rowNames: dummyiTRAQ.mzXML
  varLabels: sampleNames
  varMetadata: labelDescription
Loaded from:
  dummyiTRAQ.mzXML 
protocolData: none
featureData
  featureNames: F1.S1 F1.S2 ... F1.S5 (5 total)
  fvarLabels: spectrum
  fvarMetadata: labelDescription
experimentData: use 'experimentData(object)'
Object of class "FeaturesOfInterest"
 Created on Fri Jul 30 03:09:05 2021 
 Description:
  small foi
 3 features of interest:
   P20353, P53501, Q7KU78
Traceable object of class "FeaturesOfInterest"
 Created on Fri Jul 30 03:09:05 2021 
 Description:
  my description
 10 features of interest:
   P20353, P53501  ...  Q9VCK0, Q9VIU7
A collection of 1 features of interest.
A collection of 10 features of interest.
MSpectra with 3 spectra and 1 metadata column(s):
  msLevel   rtime peaksCount | id
1       2      NA          3 |  1
2       2 1.23245          4 |  2
3       1 1.23245          5 |  3
MSpectra with 3 spectra and 1 metadata column(s):
    msLevel     rtime peaksCount |        id
  <integer> <numeric>  <integer> | <integer>
1         2        NA          3 |         1
2         2   1.23245          4 |         2
3         1   1.23245          5 |         3
MSpectra with 3 spectra and 1 metadata column(s):
      msLevel     rtime peaksCount |        id
    <integer> <numeric>  <integer> | <integer>
  1         2        NA          3 |         1
  2         2   1.23245          4 |         2
  3         1   1.23245          5 |         3
reading dummyiTRAQ.mzid... DONE!
Error in x$.self$finalize() : attempt to apply non-function
In addition: Warning message:
In .Internal(gc(verbose, reset, full)) :
  closing unused connection 4 (C:\Users\biocbuild\bbs-3.13-bioc\tmpdir\RtmpYnPFqy\file84467526eab)
Error in x$.self$finalize() : attempt to apply non-function
== Skipped tests ===============================================================
* empty test (11)

[ FAIL 0 | WARN 1092 | SKIP 11 | PASS 2347 ]
> 
> proc.time()
   user  system elapsed 
 637.39   38.32  916.46 

Example timings

MSnbase.Rcheck/examples_i386/MSnbase-Ex.timings

nameusersystemelapsed
Chromatogram-class0.080.000.07
FeatComp-class0.350.030.38
FeaturesOfInterest-class0.110.000.10
MChromatograms-class0.200.000.21
MSmap-class000
MSnExp-class0.710.000.78
MSnProcess-class000
MSnSet-class6.780.277.05
MSnSetList-class2.040.062.11
MSpectra0.080.010.09
MzTab-class4.610.136.38
OnDiskMSnExp-class11.08 0.6112.59
ProcessingStep-class000
ReporterIons-class0.010.000.02
TMT6000
addIdentificationData-methods0.860.000.91
aggvar4.830.035.00
averageMSnSet6.190.336.98
bin-methods0.420.050.47
calculateFragments-methods0.940.000.94
chromatogram-MSnExp-method8.030.408.43
clean-methods0.120.000.13
combineFeatures0.890.050.94
combineSpectra3.470.063.53
combineSpectraMovingWindow1.830.031.86
commonFeatureNames0.200.030.23
compareSpectra-methods0.140.000.14
consensusSpectrum0.030.000.03
estimateMzResolution5.910.616.49
estimateMzScattering1.440.031.47
estimateNoise-method000
extractPrecSpectra-methods0.810.000.81
extractSpectraData2.390.162.55
fData-utils0.560.030.59
factorsAsStrings0.020.020.03
featureCV0.050.000.05
fillUp000
formatRt000
get.amino.acids0.010.000.01
get.atomic.mass000
getVariableName000
hasSpectraOrChromatograms0.720.140.96
iPQF0.270.000.26
iTRAQ40.010.000.02
imageNA22.600.172.76
impute0.310.030.35
isCentroidedFromFile2.120.272.37
itraqdata0.080.000.08
listOf000
makeCamelCase000
makeNaData0.530.000.53
meanMzInts0.050.000.05
missing-data2.420.172.59
mzRident2dfr0.020.000.01
nFeatures0.680.020.71
nQuants0.110.000.11
naplot0.080.000.07
navMS2.160.143.89
normToReference0.280.020.30
normalise-methods0.020.010.03
npcv0.010.000.02
pSet-class000
pickPeaks-method0.440.000.44
plot-methods3.000.053.04
plot2d-methods0.390.000.39
plotDensity-methods0.410.000.41
plotMzDelta-methods0.620.000.62
plotNA-methods0.280.000.29
plotSpectrumSpectrum-methods1.080.001.07
precSelection000
purityCorrect-methods0.030.000.03
quantify-methods2.690.002.69
readMSData1.510.001.52
readMSnSet0.110.000.19
readMgfData1.940.031.96
readMzIdData0.740.140.88
readMzTabData6.510.026.62
readMzTabData_v0.90.200.000.49
readSRMData1.290.121.40
reduce-data.frame-method0.010.000.02
removeNoId-methods1.020.021.03
removePeaks-methods0.790.000.80
removeReporters-methods0.430.000.42
selectFeatureData1.000.011.02
smooth-methods0.180.000.18
trimMz-methods0.190.000.19
writeMgfData-methods1.520.031.55

MSnbase.Rcheck/examples_x64/MSnbase-Ex.timings

nameusersystemelapsed
Chromatogram-class0.080.000.08
FeatComp-class0.230.000.23
FeaturesOfInterest-class0.050.000.04
MChromatograms-class0.140.000.15
MSmap-class000
MSnExp-class0.530.010.54
MSnProcess-class000
MSnSet-class7.120.137.25
MSnSetList-class1.620.081.70
MSpectra0.100.000.09
MzTab-class3.840.034.33
OnDiskMSnExp-class10.67 0.1110.80
ProcessingStep-class000
ReporterIons-class0.020.000.02
TMT60.010.000.01
addIdentificationData-methods0.850.000.84
aggvar4.400.014.43
averageMSnSet4.910.185.07
bin-methods1.170.001.18
calculateFragments-methods1.000.011.01
chromatogram-MSnExp-method8.580.198.77
clean-methods0.090.010.11
combineFeatures0.920.000.92
combineSpectra3.910.053.96
combineSpectraMovingWindow2.420.022.44
commonFeatureNames0.300.000.29
compareSpectra-methods0.170.000.17
consensusSpectrum0.030.000.04
estimateMzResolution5.450.395.81
estimateMzScattering1.660.001.65
estimateNoise-method0.020.000.02
extractPrecSpectra-methods101
extractSpectraData1.930.142.08
fData-utils0.330.000.33
factorsAsStrings0.010.000.02
featureCV0.020.000.01
fillUp000
formatRt000
get.amino.acids000
get.atomic.mass000
getVariableName000
hasSpectraOrChromatograms0.530.110.64
iPQF0.250.010.26
iTRAQ4000
imageNA22.660.052.70
impute0.370.030.43
isCentroidedFromFile2.410.142.53
itraqdata0.040.030.07
listOf000
makeCamelCase000
makeNaData0.540.020.55
meanMzInts0.030.000.03
missing-data2.720.062.78
mzRident2dfr0.020.020.03
nFeatures0.560.010.58
nQuants0.110.020.12
naplot0.080.010.10
navMS2.360.072.42
normToReference0.170.000.17
normalise-methods0.010.000.02
npcv0.020.000.01
pSet-class000
pickPeaks-method0.280.010.30
plot-methods3.340.063.41
plot2d-methods0.430.000.42
plotDensity-methods0.450.000.45
plotMzDelta-methods0.620.040.66
plotNA-methods0.300.000.29
plotSpectrumSpectrum-methods1.300.011.32
precSelection0.010.000.01
purityCorrect-methods0.020.000.02
quantify-methods4.140.024.15
readMSData1.980.001.99
readMSnSet0.070.000.07
readMgfData1.860.021.88
readMzIdData0.660.260.92
readMzTabData5.300.085.45
readMzTabData_v0.90.180.030.27
readSRMData1.500.111.61
reduce-data.frame-method0.020.000.02
removeNoId-methods1.30.01.3
removePeaks-methods0.850.010.87
removeReporters-methods0.430.000.42
selectFeatureData1.570.001.58
smooth-methods0.380.000.37
trimMz-methods0.310.000.31
writeMgfData-methods2.040.082.13