Index of /checkResults/release/bioc-LATEST/MSnbase/raw-results/tokay2

[ICO]NameLast modifiedSizeDescription

[DIR]Parent Directory  -  
[TXT]buildbin-out.txt16-Oct-2021 04:06 14K 
[   ]buildbin-summary.dcf16-Oct-2021 04:06 539  
[TXT]buildsrc-out.txt16-Oct-2021 04:06 877  
[   ]buildsrc-summary.dcf16-Oct-2021 04:06 459  
[TXT]checksrc-out.txt16-Oct-2021 04:06 6.6K 
[   ]checksrc-summary.dcf16-Oct-2021 04:06 463  
[TXT]install-out.txt16-Oct-2021 04:06 15K 
[   ]install-summary.dcf16-Oct-2021 04:06 641