Index of /checkResults/release/bioc-LATEST/MSnbase/raw-results/nebbiolo2

[ICO]NameLast modifiedSizeDescription

[DIR]Parent Directory  -  
[TXT]buildsrc-out.txt15-Jan-2022 03:05 836  
[   ]buildsrc-summary.dcf15-Jan-2022 03:05 418  
[TXT]checksrc-out.txt15-Jan-2022 03:05 5.3K 
[   ]checksrc-summary.dcf15-Jan-2022 03:05 428  
[TXT]install-out.txt15-Jan-2022 03:05 4.8K 
[   ]install-summary.dcf15-Jan-2022 03:05 259