Index of /checkResults/release/bioc-LATEST/MSnbase/raw-results/nebbiolo1

[ICO]NameLast modifiedSizeDescription

[DIR]Parent Directory  -  
[TXT]buildsrc-out.txt16-Oct-2021 04:05 836  
[   ]buildsrc-summary.dcf16-Oct-2021 04:05 418  
[TXT]checksrc-out.txt16-Oct-2021 04:05 4.6K 
[   ]checksrc-summary.dcf16-Oct-2021 04:05 424  
[TXT]install-out.txt16-Oct-2021 04:05 4.8K 
[   ]install-summary.dcf16-Oct-2021 04:05 259