Index of /checkResults/release/bioc-LATEST/MSnbase/raw-results/machv2

[ICO]NameLast modifiedSizeDescription

[DIR]Parent Directory  -  
[TXT]buildbin-out.txt16-Oct-2021 04:06 5.7K 
[   ]buildbin-summary.dcf16-Oct-2021 04:06 547  
[TXT]buildsrc-out.txt16-Oct-2021 04:06 863  
[   ]buildsrc-summary.dcf16-Oct-2021 04:06 444  
[TXT]checksrc-out.txt16-Oct-2021 04:06 5.1K 
[   ]checksrc-summary.dcf16-Oct-2021 04:06 479  
[TXT]install-out.txt16-Oct-2021 04:06 4.9K 
[   ]install-summary.dcf16-Oct-2021 04:06 286