Index of /checkResults/release/bioc-LATEST/MSnID/raw-results/tokay2

[ICO]NameLast modifiedSizeDescription

[DIR]Parent Directory  -  
[TXT]buildbin-out.txt16-Oct-2021 04:06 2.6K 
[   ]buildbin-summary.dcf16-Oct-2021 04:06 527  
[TXT]buildsrc-out.txt16-Oct-2021 04:06 835  
[   ]buildsrc-summary.dcf16-Oct-2021 04:06 451  
[TXT]checksrc-out.txt16-Oct-2021 04:06 4.7K 
[   ]checksrc-summary.dcf16-Oct-2021 04:06 454  
[TXT]install-out.txt16-Oct-2021 04:06 3.4K 
[   ]install-summary.dcf16-Oct-2021 04:06 623