Index of /checkResults/release/bioc-LATEST/MSnID/raw-results/machv2

[ICO]NameLast modifiedSizeDescription

[DIR]Parent Directory  -  
[TXT]buildbin-out.txt16-Oct-2021 04:06 1.2K 
[   ]buildbin-summary.dcf16-Oct-2021 04:06 535  
[TXT]buildsrc-out.txt16-Oct-2021 04:06 825  
[   ]buildsrc-summary.dcf16-Oct-2021 04:06 439  
[TXT]checksrc-out.txt16-Oct-2021 04:06 4.2K 
[   ]checksrc-summary.dcf16-Oct-2021 04:06 470  
[TXT]install-out.txt16-Oct-2021 04:06 1.0K 
[   ]install-summary.dcf16-Oct-2021 04:06 282