Back to Multiple platform build/check report for BioC 3.14
ABCDEFGHIJKL[M]NOPQRSTUVWXYZ

This page was generated on 2021-11-29 15:05:30 -0500 (Mon, 29 Nov 2021).

BUILD results for MSGFplus on tokay2

To the developers/maintainers of the MSGFplus package:
- Please allow up to 24 hours (and sometimes 48 hours) for your latest push to git@git.bioconductor.org:packages/MSGFplus.git to
reflect on this report. See How and When does the builder pull? When will my changes propagate? here for more information.
- Make sure to use the following settings in order to reproduce any error or warning you see on this page.

raw results

Package 1218/2083HostnameOS / ArchINSTALLBUILDCHECKBUILD BIN
MSGFplus 1.28.0  (landing page)
Thomas Lin Pedersen
Snapshot Date: 2021-11-28 04:15:06 -0500 (Sun, 28 Nov 2021)
git_url: https://git.bioconductor.org/packages/MSGFplus
git_branch: RELEASE_3_14
git_last_commit: d0bdc5b
git_last_commit_date: 2021-10-26 12:16:18 -0500 (Tue, 26 Oct 2021)
nebbiolo2Linux (Ubuntu 20.04.3 LTS) / x86_64  OK    OK    WARNINGS  UNNEEDED, same version is already published
tokay2Windows Server 2012 R2 Standard / x64  OK    OK    WARNINGS    OK  UNNEEDED, same version is already published
machv2macOS 10.14.6 Mojave / x86_64  ERROR    ERROR  skippedskipped

Summary

Package: MSGFplus
Version: 1.28.0
Command: chmod a+r MSGFplus -R && C:\Users\biocbuild\bbs-3.14-bioc\R\bin\R.exe --arch x64 CMD build --keep-empty-dirs --no-resave-data MSGFplus
StartedAt: 2021-11-28 14:28:56 -0500 (Sun, 28 Nov 2021)
EndedAt: 2021-11-28 14:29:30 -0500 (Sun, 28 Nov 2021)
EllapsedTime: 34.8 seconds
RetCode: 0
Status:   OK  
PackageFile: MSGFplus_1.28.0.tar.gz
PackageFileSize: 49.71 KiB

Command output

##############################################################################
##############################################################################
###
### Running command:
###
###   chmod a+r MSGFplus -R && C:\Users\biocbuild\bbs-3.14-bioc\R\bin\R.exe --arch x64 CMD build --keep-empty-dirs --no-resave-data MSGFplus
###
##############################################################################
##############################################################################


* checking for file 'MSGFplus/DESCRIPTION' ... OK
* preparing 'MSGFplus':
* checking DESCRIPTION meta-information ... OK
* installing the package to build vignettes
* creating vignettes ... OK
* checking for LF line-endings in source and make files and shell scripts
* checking for empty or unneeded directories
* building 'MSGFplus_1.28.0.tar.gz'