Index of /checkResults/release/bioc-LATEST/MSGFplus/raw-results/tokay2

[ICO]NameLast modifiedSizeDescription

[DIR]Parent Directory  -  
[TXT]buildbin-out.txt16-Oct-2021 04:06 3.2K 
[   ]buildbin-summary.dcf16-Oct-2021 04:06 553  
[TXT]buildsrc-out.txt16-Oct-2021 04:06 861  
[   ]buildsrc-summary.dcf16-Oct-2021 04:06 473  
[TXT]checksrc-out.txt16-Oct-2021 04:06 3.9K 
[   ]checksrc-summary.dcf16-Oct-2021 04:06 479  
[TXT]install-out.txt16-Oct-2021 04:06 3.0K 
[   ]install-summary.dcf16-Oct-2021 04:06 302