Index of /checkResults/release/bioc-LATEST/MSGFplus/raw-results/nebbiolo1

[ICO]NameLast modifiedSizeDescription

[DIR]Parent Directory  -  
[TXT]buildsrc-out.txt16-Oct-2021 04:05 810  
[   ]buildsrc-summary.dcf16-Oct-2021 04:05 419  
[TXT]checksrc-out.txt16-Oct-2021 04:05 3.5K 
[   ]checksrc-summary.dcf16-Oct-2021 04:05 433  
[TXT]install-out.txt16-Oct-2021 04:05 950  
[   ]install-summary.dcf16-Oct-2021 04:05 261